BEGIN:VCALENDAR
VERSION:2.0
PRODID:-//The Woodlands Children&#039;s Museum - ECPv6.15.20//NONSGML v1.0//EN
CALSCALE:GREGORIAN
METHOD:PUBLISH
X-ORIGINAL-URL:https://woodlandschildrensmuseum.org
X-WR-CALDESC:Events for The Woodlands Children&#039;s Museum
REFRESH-INTERVAL;VALUE=DURATION:PT1H
X-Robots-Tag:noindex
X-PUBLISHED-TTL:PT1H
BEGIN:VTIMEZONE
TZID:America/Chicago
BEGIN:DAYLIGHT
TZOFFSETFROM:-0600
TZOFFSETTO:-0500
TZNAME:CDT
DTSTART:20170312T080000
END:DAYLIGHT
BEGIN:STANDARD
TZOFFSETFROM:-0500
TZOFFSETTO:-0600
TZNAME:CST
DTSTART:20171105T070000
END:STANDARD
BEGIN:DAYLIGHT
TZOFFSETFROM:-0600
TZOFFSETTO:-0500
TZNAME:CDT
DTSTART:20180311T080000
END:DAYLIGHT
BEGIN:STANDARD
TZOFFSETFROM:-0500
TZOFFSETTO:-0600
TZNAME:CST
DTSTART:20181104T070000
END:STANDARD
BEGIN:DAYLIGHT
TZOFFSETFROM:-0600
TZOFFSETTO:-0500
TZNAME:CDT
DTSTART:20190310T080000
END:DAYLIGHT
BEGIN:STANDARD
TZOFFSETFROM:-0500
TZOFFSETTO:-0600
TZNAME:CST
DTSTART:20191103T070000
END:STANDARD
BEGIN:DAYLIGHT
TZOFFSETFROM:-0600
TZOFFSETTO:-0500
TZNAME:CDT
DTSTART:20200308T080000
END:DAYLIGHT
BEGIN:STANDARD
TZOFFSETFROM:-0500
TZOFFSETTO:-0600
TZNAME:CST
DTSTART:20201101T070000
END:STANDARD
END:VTIMEZONE
BEGIN:VTIMEZONE
TZID:UTC
BEGIN:STANDARD
TZOFFSETFROM:+0000
TZOFFSETTO:+0000
TZNAME:UTC
DTSTART:20150101T000000
END:STANDARD
END:VTIMEZONE
BEGIN:VEVENT
DTSTART;TZID=America/Chicago:20190414T100000
DTEND;TZID=America/Chicago:20190414T170000
DTSTAMP:20260424T070929
CREATED:20190320T222136Z
LAST-MODIFIED:20190320T222136Z
UID:10004833-1555236000-1555261200@woodlandschildrensmuseum.org
SUMMARY:The Woodlands Waterway Arts Festival
DESCRIPTION:The Woodlands Waterway Arts Festival is Sat. April 13th 10am-6pm & Sun. 14th 10am-5pm. Town Green Park and the waterway will be transformed into an outdoor art gallery featuring over 200 juried artists from across the country.\nEnjoy entertainment stages\, hands-on art activities and demonstrations along with amazing food and beverages all weekend long. General admission for both days ONLY $15 online (tickets at gate $18). Children 12 and under are FREE all weekend.\nhttp://bit.ly/WWAFTickets2019
URL:https://woodlandschildrensmuseum.org/event/the-woodlands-waterway-arts-festival-2/
LOCATION:Town Green Park\, 1099 Lake Robbins Drive\, The Woodlands\, TX\, 77380\, United States
END:VEVENT
BEGIN:VEVENT
DTSTART;TZID=America/Chicago:20190413T100000
DTEND;TZID=America/Chicago:20190413T180000
DTSTAMP:20260424T070929
CREATED:20190320T222038Z
LAST-MODIFIED:20190320T222038Z
UID:10004832-1555149600-1555178400@woodlandschildrensmuseum.org
SUMMARY:The Woodlands Waterway Arts Festival
DESCRIPTION:The Woodlands Waterway Arts Festival is Sat. April 13th 10am-6pm & Sun. 14th 10am-5pm. Town Green Park and the waterway will be transformed into an outdoor art gallery featuring over 200 juried artists from across the country.\nEnjoy entertainment stages\, hands-on art activities and demonstrations along with amazing food and beverages all weekend long. General admission for both days ONLY $15 online (tickets at gate $18). Children 12 and under are FREE all weekend.\nhttp://bit.ly/WWAFTickets2019
URL:https://woodlandschildrensmuseum.org/event/the-woodlands-waterway-arts-festival/
LOCATION:Town Green Park\, 1099 Lake Robbins Drive\, The Woodlands\, TX\, 77380\, United States
END:VEVENT
BEGIN:VEVENT
DTSTART;TZID=America/Chicago:20180408T100000
DTEND;TZID=America/Chicago:20180408T180000
DTSTAMP:20260424T070929
CREATED:20180208T055224Z
LAST-MODIFIED:20180208T055224Z
UID:10008914-1523181600-1523210400@woodlandschildrensmuseum.org
SUMMARY:The Woodlands Waterway Arts Festival
DESCRIPTION:We need your help please!\nThe Woodlands Waterway Arts Festival\nApril 7th and 8th\nPlease donate your volunteer hours to The Woodlands Children’s Museum\nas your charity partner of choice. As a charity partner we will be volunteering at the Artopoly tent during the Festival. Artopoly is a gathering place for the community to enjoy and participate in hands-on interactive art projects.
URL:https://woodlandschildrensmuseum.org/event/woodlands-waterway-arts-festival/2018-04-08/
LOCATION:Town Green Park\, 1099 Lake Robbins Drive\, The Woodlands\, TX\, 77380\, United States
END:VEVENT
BEGIN:VEVENT
DTSTART;TZID=America/Chicago:20180407T100000
DTEND;TZID=America/Chicago:20180407T180000
DTSTAMP:20260424T070929
CREATED:20180208T055224Z
LAST-MODIFIED:20180208T055224Z
UID:10008913-1523095200-1523124000@woodlandschildrensmuseum.org
SUMMARY:The Woodlands Waterway Arts Festival
DESCRIPTION:We need your help please!\nThe Woodlands Waterway Arts Festival\nApril 7th and 8th\nPlease donate your volunteer hours to The Woodlands Children’s Museum\nas your charity partner of choice. As a charity partner we will be volunteering at the Artopoly tent during the Festival. Artopoly is a gathering place for the community to enjoy and participate in hands-on interactive art projects.
URL:https://woodlandschildrensmuseum.org/event/woodlands-waterway-arts-festival/2018-04-07/
LOCATION:Town Green Park\, 1099 Lake Robbins Drive\, The Woodlands\, TX\, 77380\, United States
END:VEVENT
BEGIN:VEVENT
DTSTART;TZID=UTC:20161119T150000
DTEND;TZID=UTC:20161119T210000
DTSTAMP:20260424T070929
CREATED:20160930T233754Z
LAST-MODIFIED:20160930T233754Z
UID:10000194-1479567600-1479589200@woodlandschildrensmuseum.org
SUMMARY:iWOW & Lighting of the Doves
DESCRIPTION:Join the Woodlands Children’s Museum at Town Green Park along The Woodlands Waterway®. For more information click here. \nThe Lighting of the Doves Festival is a long-standing tradition in The Woodlands that signifies the start of the holiday season in the community. The doves illuminate The Woodlands Town Center; symbolizing hope and peace for the holidays. The Festival includes a variety of international foods and performances\, showcasing the cultural diversity of The Woodlands and holiday traditions celebrated around the world. Featuring snow play areas\, vendor booths\, children’s activities and strolling entertainment\, Lighting of the Doves culminates with a special appearance by Santa Claus arriving by sleigh down The Woodlands Waterway  and a dazzling fireworks display.
URL:https://woodlandschildrensmuseum.org/event/iwow-lighting-doves/
LOCATION:Town Green Park\, 1099 Lake Robbins Drive\, The Woodlands\, TX\, 77380\, United States
END:VEVENT
END:VCALENDAR