BEGIN:VCALENDAR
VERSION:2.0
PRODID:-//The Woodlands Children&#039;s Museum - ECPv6.15.20//NONSGML v1.0//EN
CALSCALE:GREGORIAN
METHOD:PUBLISH
X-ORIGINAL-URL:https://woodlandschildrensmuseum.org
X-WR-CALDESC:Events for The Woodlands Children&#039;s Museum
REFRESH-INTERVAL;VALUE=DURATION:PT1H
X-Robots-Tag:noindex
X-PUBLISHED-TTL:PT1H
BEGIN:VTIMEZONE
TZID:America/Chicago
BEGIN:DAYLIGHT
TZOFFSETFROM:-0600
TZOFFSETTO:-0500
TZNAME:CDT
DTSTART:20200308T080000
END:DAYLIGHT
BEGIN:STANDARD
TZOFFSETFROM:-0500
TZOFFSETTO:-0600
TZNAME:CST
DTSTART:20201101T070000
END:STANDARD
BEGIN:DAYLIGHT
TZOFFSETFROM:-0600
TZOFFSETTO:-0500
TZNAME:CDT
DTSTART:20210314T080000
END:DAYLIGHT
BEGIN:STANDARD
TZOFFSETFROM:-0500
TZOFFSETTO:-0600
TZNAME:CST
DTSTART:20211107T070000
END:STANDARD
BEGIN:DAYLIGHT
TZOFFSETFROM:-0600
TZOFFSETTO:-0500
TZNAME:CDT
DTSTART:20220313T080000
END:DAYLIGHT
BEGIN:STANDARD
TZOFFSETFROM:-0500
TZOFFSETTO:-0600
TZNAME:CST
DTSTART:20221106T070000
END:STANDARD
END:VTIMEZONE
BEGIN:VEVENT
DTSTART;VALUE=DATE:20210313
DTEND;VALUE=DATE:20210314
DTSTAMP:20260423T062107
CREATED:20210223T204944Z
LAST-MODIFIED:20210310T141315Z
UID:10009027-1615593600-1615679999@woodlandschildrensmuseum.org
SUMMARY:Museum OPEN 10am-1pm & 1pm-3pm
DESCRIPTION:Click for timed session tickets.
URL:https://woodlandschildrensmuseum.org/event/museum-open-1000am-100pm-and-100pm-300pm/
LOCATION:TX\, United States
END:VEVENT
BEGIN:VEVENT
DTSTART;TZID=America/Chicago:20210305T103000
DTEND;TZID=America/Chicago:20210305T120000
DTSTAMP:20260423T062107
CREATED:20210124T031142Z
LAST-MODIFIED:20210227T162013Z
UID:10009006-1614940200-1614945600@woodlandschildrensmuseum.org
SUMMARY:Storybook Theatre Dr. Seuss’🎈🎉🎂 Birthday Celebration featuring The Cat in the Hat as a guest reader
DESCRIPTION:Storybook Theatre at 11am Friday\, March 5th presents Dr. Seuss’ Birthday Celebration featuring The Cat in the Hat as a guest reader. Join us at 10:45 for a special reading of “What Pet Should I Get?” by Dr. Seuss. This Dr. Seuss treasure follows a brother and sister into a pet store as they try to make up their minds as to what pet to choose.  It teaches the lesson that it’s hard to make decisions\, but sometimes you just have to! At Noon join us for “My Many Colored Days” and “Dr. Seuss’ ABC” both by Dr. Seuss My Many Colored Days with its vibrant illustrations explores moods and feelings through colors.  Dr. Seuss’ ABC is a fun alphabet book in zany Seussical style \nIntroduce your child to the wonder of reading and instill a love of books at an early age. Storybook Theatre combines your favorite childhood books with songs\, rhymes and fingerplays which are meant to promote early literacy and enhance language development. #BookReading #StoryTime #ChildrensBook #Educate #Empower #Excite \n 
URL:https://woodlandschildrensmuseum.org/event/storybook-theatre-dr-seusss-birthday-celebration-featuring-the-cat-in-the-hat-as-a-guest-reader/
LOCATION:TX\, United States
END:VEVENT
END:VCALENDAR