BEGIN:VCALENDAR
VERSION:2.0
PRODID:-//The Woodlands Children&#039;s Museum - ECPv6.15.20//NONSGML v1.0//EN
CALSCALE:GREGORIAN
METHOD:PUBLISH
X-WR-CALNAME:The Woodlands Children&#039;s Museum
X-ORIGINAL-URL:https://woodlandschildrensmuseum.org
X-WR-CALDESC:Events for The Woodlands Children&#039;s Museum
REFRESH-INTERVAL;VALUE=DURATION:PT1H
X-Robots-Tag:noindex
X-PUBLISHED-TTL:PT1H
BEGIN:VTIMEZONE
TZID:America/Chicago
BEGIN:DAYLIGHT
TZOFFSETFROM:-0600
TZOFFSETTO:-0500
TZNAME:CDT
DTSTART:20200308T080000
END:DAYLIGHT
BEGIN:STANDARD
TZOFFSETFROM:-0500
TZOFFSETTO:-0600
TZNAME:CST
DTSTART:20201101T070000
END:STANDARD
BEGIN:DAYLIGHT
TZOFFSETFROM:-0600
TZOFFSETTO:-0500
TZNAME:CDT
DTSTART:20210314T080000
END:DAYLIGHT
BEGIN:STANDARD
TZOFFSETFROM:-0500
TZOFFSETTO:-0600
TZNAME:CST
DTSTART:20211107T070000
END:STANDARD
BEGIN:DAYLIGHT
TZOFFSETFROM:-0600
TZOFFSETTO:-0500
TZNAME:CDT
DTSTART:20220313T080000
END:DAYLIGHT
BEGIN:STANDARD
TZOFFSETFROM:-0500
TZOFFSETTO:-0600
TZNAME:CST
DTSTART:20221106T070000
END:STANDARD
BEGIN:DAYLIGHT
TZOFFSETFROM:-0600
TZOFFSETTO:-0500
TZNAME:CDT
DTSTART:20230312T080000
END:DAYLIGHT
BEGIN:STANDARD
TZOFFSETFROM:-0500
TZOFFSETTO:-0600
TZNAME:CST
DTSTART:20231105T070000
END:STANDARD
END:VTIMEZONE
BEGIN:VEVENT
DTSTART;TZID=America/Chicago:20221026T100000
DTEND;TZID=America/Chicago:20221026T120000
DTSTAMP:20260423T044159
CREATED:20220917T205749Z
LAST-MODIFIED:20221018T142530Z
UID:10017469-1666778400-1666785600@woodlandschildrensmuseum.org
SUMMARY:Lego® Read and Build-Busy Farm
DESCRIPTION:Wednesday\, October 26th\, 10am-12pm. Lego® Read and Build-Busy Farm. Young Lego® builders will be using Duplo® Legos® to build cows and pigs at the busy farm as they practice their fine motor\, listening\, and comprehension skills. Included in the price of admission\, which is $7.50 for adults and children 1 year and older bit.ly/TWCMtickets  #Science #Educate #Empower #Excite
URL:https://woodlandschildrensmuseum.org/event/lego-read-and-build-busy-farm/
LOCATION:TX\, United States
END:VEVENT
BEGIN:VEVENT
DTSTART;TZID=America/Chicago:20221015T103000
DTEND;TZID=America/Chicago:20221015T233000
DTSTAMP:20260423T044159
CREATED:20220917T204220Z
LAST-MODIFIED:20221008T164154Z
UID:10017457-1665829800-1665876600@woodlandschildrensmuseum.org
SUMMARY:Celebrate Diwali with a Bollywood dance performance at 10:30am & 11:30am.
DESCRIPTION:Celebrate Diwali with Bollywood dance performances\nSaturday\, October 15 10:30am and 11:30am.
URL:https://woodlandschildrensmuseum.org/event/celebrate-diwali-with-a-bollywood-dance-performance/
LOCATION:TX\, United States
END:VEVENT
BEGIN:VEVENT
DTSTART;TZID=America/Chicago:20221005T100000
DTEND;TZID=America/Chicago:20221005T120000
DTSTAMP:20260423T044159
CREATED:20220917T204606Z
LAST-MODIFIED:20221003T165051Z
UID:10017456-1664964000-1664971200@woodlandschildrensmuseum.org
SUMMARY:Science Madness-Color changing leaves
DESCRIPTION:Science Madness on Wednesday\, October 5th from 10am-noon-Color changing leaves. Did you know that leaves change colors in the fall? Come and see if we can make our leaves change colors too! This Floor Program is included in the price of admission\, which is $7.50 for adults and children 1 year and older. bit.ly/TWCMtickets
URL:https://woodlandschildrensmuseum.org/event/science-madness-color-changing-leaves-2/
LOCATION:TX\, United States
END:VEVENT
BEGIN:VEVENT
DTSTART;VALUE=DATE:20210726
DTEND;VALUE=DATE:20210727
DTSTAMP:20260423T044159
CREATED:20210604T160647Z
LAST-MODIFIED:20210723T015408Z
UID:10016503-1627257600-1627343999@woodlandschildrensmuseum.org
SUMMARY:Closed
DESCRIPTION:Hours: Tuesday and Thursday 10am-2pm.\nWednesday\, Friday\, and Saturday 10am-4pm\nSelect your date of visit to reserve your timed session tickets.\nbit.ly/TWCMtickets
URL:https://woodlandschildrensmuseum.org/event/museum-closed-84/
LOCATION:TX\, United States
END:VEVENT
BEGIN:VEVENT
DTSTART;VALUE=DATE:20210725
DTEND;VALUE=DATE:20210726
DTSTAMP:20260423T044159
CREATED:20210604T160614Z
LAST-MODIFIED:20210723T015343Z
UID:10016504-1627171200-1627257599@woodlandschildrensmuseum.org
SUMMARY:Closed
DESCRIPTION:Hours: Tuesday and Thursday 10am-2pm.\nWednesday\, Friday\, and Saturday 10am-4pm\nSelect your date of visit to reserve your timed session tickets.\nbit.ly/TWCMtickets
URL:https://woodlandschildrensmuseum.org/event/museum-closed-83/
LOCATION:TX\, United States
END:VEVENT
BEGIN:VEVENT
DTSTART;TZID=America/Chicago:20210325T110000
DTEND;TZID=America/Chicago:20210325T110000
DTSTAMP:20260423T044159
CREATED:20210124T030524Z
LAST-MODIFIED:20210227T163528Z
UID:10009004-1616670000-1616670000@woodlandschildrensmuseum.org
SUMMARY:Shadow Puppet Theatre-When Spring Comes 🌱🌹🌻🐣🌧️
DESCRIPTION:Shadow Puppet Theatre Thursday\, March 25th at 11 presents🌱🌹🌻🐣🌧️   “When Spring Comes” by Kevin Henkes. The world is transformed with the coming of spring\, welcoming baby birds\, sprouting seeds\, rain\, and mud.  Spring can be felt\, smelled\, and heard! \nShadow Puppet Theatre is an introduction to storytelling elements that allows our readers and audience to interact directly with each other\, children of all ages are enchanted with the animated shadows. #BookReading #StoryTime #ChildrensBook #Educate #Empower #Excite \n 
URL:https://woodlandschildrensmuseum.org/event/shadow-puppet-theatre-when-spring-comes-%f0%9f%8c%b1%f0%9f%8c%b9%f0%9f%8c%bb%f0%9f%90%a3%f0%9f%8c%a7%ef%b8%8f/
LOCATION:TX\, United States
END:VEVENT
BEGIN:VEVENT
DTSTART;TZID=America/Chicago:20210317T100000
DTEND;TZID=America/Chicago:20210317T160000
DTSTAMP:20260423T044159
CREATED:20210213T190712Z
LAST-MODIFIED:20210316T163845Z
UID:10016428-1615975200-1615996800@woodlandschildrensmuseum.org
SUMMARY:St. Patrick’s Day 🍀 Celebration and Irish Dancers
DESCRIPTION:Wednesday\, March 17thSt. Patrick’s Day Celebration.Enjoy the Cass-Barrington Irish Dancers at 10:45am and 11:45am. McTeggart Irish Dancers at 2:15pm and 3:15pm. \nPlease click to purchase timed session tickets on the March calendar for the day of your visit during the week of Spring BreaKation Entertainment.
URL:https://woodlandschildrensmuseum.org/event/st-patricks-day-%f0%9f%8d%80-celebration/
LOCATION:TX\, United States
END:VEVENT
BEGIN:VEVENT
DTSTART;VALUE=DATE:20210317
DTEND;VALUE=DATE:20210321
DTSTAMP:20260423T044159
CREATED:20210223T205818Z
LAST-MODIFIED:20210310T141612Z
UID:10009028-1615939200-1616284799@woodlandschildrensmuseum.org
SUMMARY:Spring BreaKation Museum OPEN 10am-Noon\, Noon-2pm & 2pm-4pm
DESCRIPTION:Click for timed session tickets. \nWednesday\, March 17thSt. Patrick’s Day Celebration10am-4pm. \nThursday\, March 18thLe Theatre de Marionette Silly Strings Puppet Showsat 11am and 1pmThis talented musical variety show features several entertaining and unique trick marionettes including clowns\, roller skaters\, jugglers\, dancing skeletons\, teddy bears\, Michael Jackson and even Elvis. \nFriday\, March 19thTCA performing artist Juicebox Jukeboxat 11am and 1pmThe Juicebox Jukebox was created by Dallas based singer/songwriter and father of three Bradley James Skistimas\, whose mission is to enrich children’s lives through fun\, positive\, and educational music and videos that parents and teachers can enjoy\, too. The songs focus on core subjects and character-building themes with a fresh perspective for students primarily in Pre-K through 2nd grade. \nSaturday\, March 20thFace Painting10:00-2:00pm
URL:https://woodlandschildrensmuseum.org/event/spring-breakation-museum-open-10am-noon-noon-2pm-2pm-4pm/
LOCATION:TX\, United States
END:VEVENT
BEGIN:VEVENT
DTSTART;TZID=America/Chicago:20210316T104500
DTEND;TZID=America/Chicago:20210316T124500
DTSTAMP:20260423T044159
CREATED:20210213T190506Z
LAST-MODIFIED:20210312T152632Z
UID:10016414-1615891500-1615898700@woodlandschildrensmuseum.org
SUMMARY:Monty the Magician 🐇🎩 3 Magic Shows
DESCRIPTION:Tuesday\, March 16thMonty the Magician Magic Shows at 10:45am\, 11:45am\, 12:45pmWith Monty as your guide\, travel into a dream and enter the world of MAGIC!  Monty the Magician has been performing MAGIC for the last 27 years\, specializing in children’s entertainment. \nThe museum will be videoing a small portion of this show for our Virtual Tour promotional video. Upon entrance\, guests will be asked to sign a waiver to be videoed. Guest not granting permission to be videoed will be given a sticker so the videographer knows not to include them in the taping.   \n\n\n\n\n\n\n\n\n\n\n\n\n\n \n\n\n\n\n\n\n\n\n\n\n\n\n\nPlease click to purchase timed session tickets on the March calendar for the day of your visit during the week of Spring BreaKation Entertainment.
URL:https://woodlandschildrensmuseum.org/event/monty-the-magician-%f0%9f%90%87%f0%9f%8e%a9-3-magic-shows/
LOCATION:TX\, United States
END:VEVENT
BEGIN:VEVENT
DTSTART;VALUE=DATE:20210315
DTEND;VALUE=DATE:20210317
DTSTAMP:20260423T044159
CREATED:20210213T185427Z
LAST-MODIFIED:20210310T141507Z
UID:10016359-1615766400-1615939199@woodlandschildrensmuseum.org
SUMMARY:Spring BreaKation Museum OPEN 10am-Noon & Noon-2pm
DESCRIPTION:Click for timed session tickets. \nCelebrate Spring BreaKation at the museum with planned entertaining activities every day that are sure to delight children and their families. \nSaturday\, March 13thDonald Duck Day Birthday Celebration and photo opsat 10:30am\, 11:30am 12:30pm\, 1:30pm. Meet the delightful Donald Duck and join us insinging “Happy Birthday” to him!  Bring your camera for a special moment with Donald. \nMonday\, March 15th Science Bingo 10:30am\, 11:30am 12:30pm\, 1:30pmDelight in a traditional interactive\, child-friendly\, and entertaining past time with our science-themed Bingo\, while spending a little time with family and discovering matching and good listening skills. Ms. Frizzle Storytime at 11:00am. Miss Frizzle will introduce children to the exciting world of science through the book What Is Science? By Rebecca Kai Dotlich. \nTuesday\, March 16thMonty the Magician Magic Showsat 10:45am\, 11:45am\, 12:45pmWith Monty as your guide\, travel into a dream and enter the world of MAGIC!  Monty the Magician has been performing MAGIC for the last 27 years\, specializing in children’s entertainment. \nWednesday\, March 17thSt. Patrick’s Day Celebration 10am-4pm. \nThursday\, March 18thLe Theatre de Marionette Silly Strings Puppet Showsat 11am and 1pmThis talented musical variety show features several entertaining and unique trick marionettes including clowns\, roller skaters\, jugglers\, dancing skeletons\, teddy bears\, Michael Jackson and even Elvis. \nFriday\, March 19thTCA performing artist Juicebox Jukeboxat 11am and 1pmThe Juicebox Jukebox was created by Dallas based singer/songwriter and father of three Bradley James Skistimas\, whose mission is to enrich children’s lives through fun\, positive\, and educational music and videos that parents and teachers can enjoy\, too. The songs focus on core subjects and character-building themes with a fresh perspective for students primarily in Pre-K through 2nd grade.  \nSaturday\, March 20thFace Painting 10:00-2:00pm
URL:https://woodlandschildrensmuseum.org/event/spring-breakation/
LOCATION:TX\, United States
END:VEVENT
BEGIN:VEVENT
DTSTART;VALUE=DATE:20210313
DTEND;VALUE=DATE:20210314
DTSTAMP:20260423T044159
CREATED:20210223T204944Z
LAST-MODIFIED:20210310T141315Z
UID:10009027-1615593600-1615679999@woodlandschildrensmuseum.org
SUMMARY:Museum OPEN 10am-1pm & 1pm-3pm
DESCRIPTION:Click for timed session tickets.
URL:https://woodlandschildrensmuseum.org/event/museum-open-1000am-100pm-and-100pm-300pm/
LOCATION:TX\, United States
END:VEVENT
BEGIN:VEVENT
DTSTART;TZID=America/Chicago:20210305T103000
DTEND;TZID=America/Chicago:20210305T120000
DTSTAMP:20260423T044159
CREATED:20210124T031142Z
LAST-MODIFIED:20210227T162013Z
UID:10009006-1614940200-1614945600@woodlandschildrensmuseum.org
SUMMARY:Storybook Theatre Dr. Seuss’🎈🎉🎂 Birthday Celebration featuring The Cat in the Hat as a guest reader
DESCRIPTION:Storybook Theatre at 11am Friday\, March 5th presents Dr. Seuss’ Birthday Celebration featuring The Cat in the Hat as a guest reader. Join us at 10:45 for a special reading of “What Pet Should I Get?” by Dr. Seuss. This Dr. Seuss treasure follows a brother and sister into a pet store as they try to make up their minds as to what pet to choose.  It teaches the lesson that it’s hard to make decisions\, but sometimes you just have to! At Noon join us for “My Many Colored Days” and “Dr. Seuss’ ABC” both by Dr. Seuss My Many Colored Days with its vibrant illustrations explores moods and feelings through colors.  Dr. Seuss’ ABC is a fun alphabet book in zany Seussical style \nIntroduce your child to the wonder of reading and instill a love of books at an early age. Storybook Theatre combines your favorite childhood books with songs\, rhymes and fingerplays which are meant to promote early literacy and enhance language development. #BookReading #StoryTime #ChildrensBook #Educate #Empower #Excite \n 
URL:https://woodlandschildrensmuseum.org/event/storybook-theatre-dr-seusss-birthday-celebration-featuring-the-cat-in-the-hat-as-a-guest-reader/
LOCATION:TX\, United States
END:VEVENT
END:VCALENDAR