BEGIN:VCALENDAR
VERSION:2.0
PRODID:-//The Woodlands Children&#039;s Museum - ECPv6.15.20//NONSGML v1.0//EN
CALSCALE:GREGORIAN
METHOD:PUBLISH
X-ORIGINAL-URL:https://woodlandschildrensmuseum.org
X-WR-CALDESC:Events for The Woodlands Children&#039;s Museum
REFRESH-INTERVAL;VALUE=DURATION:PT1H
X-Robots-Tag:noindex
X-PUBLISHED-TTL:PT1H
BEGIN:VTIMEZONE
TZID:America/Chicago
BEGIN:DAYLIGHT
TZOFFSETFROM:-0600
TZOFFSETTO:-0500
TZNAME:CDT
DTSTART:20260308T080000
END:DAYLIGHT
BEGIN:STANDARD
TZOFFSETFROM:-0500
TZOFFSETTO:-0600
TZNAME:CST
DTSTART:20261101T070000
END:STANDARD
BEGIN:DAYLIGHT
TZOFFSETFROM:-0600
TZOFFSETTO:-0500
TZNAME:CDT
DTSTART:20270314T080000
END:DAYLIGHT
BEGIN:STANDARD
TZOFFSETFROM:-0500
TZOFFSETTO:-0600
TZNAME:CST
DTSTART:20271107T070000
END:STANDARD
BEGIN:DAYLIGHT
TZOFFSETFROM:-0600
TZOFFSETTO:-0500
TZNAME:CDT
DTSTART:20280312T080000
END:DAYLIGHT
BEGIN:STANDARD
TZOFFSETFROM:-0500
TZOFFSETTO:-0600
TZNAME:CST
DTSTART:20281105T070000
END:STANDARD
END:VTIMEZONE
BEGIN:VEVENT
DTSTART;TZID=America/Chicago:20270615T093000
DTEND;TZID=America/Chicago:20270615T093000
DTSTAMP:20260423T173050
CREATED:20260403T174642Z
LAST-MODIFIED:20260403T174742Z
UID:10021104-1813051800-1813051800@woodlandschildrensmuseum.org
SUMMARY:Museum OPEN 9:30am-4:00pm
DESCRIPTION:Summer Hours\n\n\nJune 2 – August 8\nTuesday -Friday 9:30am-4pm\nSaturday 10am-5pm\nClosed Sunday and Monday. \nAdmission is $10 for adults and children 1 year and older.\nPlease visit here to reserve your timed session tickets.\nMembers FREE. Become a member today\, click here.  \n\nAs a 501(c)3 Non-Profit\, our goal is to make memories and create learning opportunities for children in our community.\nYour donation will help children discover\, play\, imagine\, and grow in a safe and nurturing environment. Donate here 
URL:https://woodlandschildrensmuseum.org/event/museum-open-930am-400pm-2/2027-06-15/
LOCATION:The Woodlands Children’s Museum
END:VEVENT
BEGIN:VEVENT
DTSTART;TZID=America/Chicago:20270616T093000
DTEND;TZID=America/Chicago:20270616T093000
DTSTAMP:20260423T173050
CREATED:20260403T174642Z
LAST-MODIFIED:20260403T174742Z
UID:10021105-1813138200-1813138200@woodlandschildrensmuseum.org
SUMMARY:Museum OPEN 9:30am-4:00pm
DESCRIPTION:Summer Hours\n\n\nJune 2 – August 8\nTuesday -Friday 9:30am-4pm\nSaturday 10am-5pm\nClosed Sunday and Monday. \nAdmission is $10 for adults and children 1 year and older.\nPlease visit here to reserve your timed session tickets.\nMembers FREE. Become a member today\, click here.  \n\nAs a 501(c)3 Non-Profit\, our goal is to make memories and create learning opportunities for children in our community.\nYour donation will help children discover\, play\, imagine\, and grow in a safe and nurturing environment. Donate here 
URL:https://woodlandschildrensmuseum.org/event/museum-open-930am-400pm-2/2027-06-16/
LOCATION:The Woodlands Children’s Museum
END:VEVENT
BEGIN:VEVENT
DTSTART;TZID=America/Chicago:20270617T093000
DTEND;TZID=America/Chicago:20270617T093000
DTSTAMP:20260423T173050
CREATED:20260403T174642Z
LAST-MODIFIED:20260403T174742Z
UID:10021106-1813224600-1813224600@woodlandschildrensmuseum.org
SUMMARY:Museum OPEN 9:30am-4:00pm
DESCRIPTION:Summer Hours\n\n\nJune 2 – August 8\nTuesday -Friday 9:30am-4pm\nSaturday 10am-5pm\nClosed Sunday and Monday. \nAdmission is $10 for adults and children 1 year and older.\nPlease visit here to reserve your timed session tickets.\nMembers FREE. Become a member today\, click here.  \n\nAs a 501(c)3 Non-Profit\, our goal is to make memories and create learning opportunities for children in our community.\nYour donation will help children discover\, play\, imagine\, and grow in a safe and nurturing environment. Donate here 
URL:https://woodlandschildrensmuseum.org/event/museum-open-930am-400pm-2/2027-06-17/
LOCATION:The Woodlands Children’s Museum
END:VEVENT
BEGIN:VEVENT
DTSTART;TZID=America/Chicago:20270618T093000
DTEND;TZID=America/Chicago:20270618T093000
DTSTAMP:20260423T173050
CREATED:20260403T174642Z
LAST-MODIFIED:20260403T174742Z
UID:10021107-1813311000-1813311000@woodlandschildrensmuseum.org
SUMMARY:Museum OPEN 9:30am-4:00pm
DESCRIPTION:Summer Hours\n\n\nJune 2 – August 8\nTuesday -Friday 9:30am-4pm\nSaturday 10am-5pm\nClosed Sunday and Monday. \nAdmission is $10 for adults and children 1 year and older.\nPlease visit here to reserve your timed session tickets.\nMembers FREE. Become a member today\, click here.  \n\nAs a 501(c)3 Non-Profit\, our goal is to make memories and create learning opportunities for children in our community.\nYour donation will help children discover\, play\, imagine\, and grow in a safe and nurturing environment. Donate here 
URL:https://woodlandschildrensmuseum.org/event/museum-open-930am-400pm-2/2027-06-18/
LOCATION:The Woodlands Children’s Museum
END:VEVENT
BEGIN:VEVENT
DTSTART;TZID=America/Chicago:20270619T100000
DTEND;TZID=America/Chicago:20270619T100000
DTSTAMP:20260423T173050
CREATED:20260403T175413Z
LAST-MODIFIED:20260403T175538Z
UID:10021190-1813399200-1813399200@woodlandschildrensmuseum.org
SUMMARY:Museum OPEN 10am-5pm
DESCRIPTION:Summer Hours\n\n\nJune 2 – August 8\nTuesday -Friday 9:30am-4pm\nSaturday 10am-5pm\nClosed Sunday and Monday. \nAdmission is $10 for adults and children 1 year and older.\nPlease visit here to reserve your timed session tickets.\nMembers FREE. Become a member today\, click here.  \n\nAs a 501(c)3 Non-Profit\, our goal is to make memories and create learning opportunities for children in our community.\nYour donation will help children discover\, play\, imagine\, and grow in a safe and nurturing environment. Donate here 
URL:https://woodlandschildrensmuseum.org/event/museum-open-930am-500pm/2027-06-19/
LOCATION:The Woodlands Children’s Museum
END:VEVENT
END:VCALENDAR