BEGIN:VCALENDAR
VERSION:2.0
PRODID:-//The Woodlands Children&#039;s Museum - ECPv6.15.20//NONSGML v1.0//EN
CALSCALE:GREGORIAN
METHOD:PUBLISH
X-WR-CALNAME:The Woodlands Children&#039;s Museum
X-ORIGINAL-URL:https://woodlandschildrensmuseum.org
X-WR-CALDESC:Events for The Woodlands Children&#039;s Museum
REFRESH-INTERVAL;VALUE=DURATION:PT1H
X-Robots-Tag:noindex
X-PUBLISHED-TTL:PT1H
BEGIN:VTIMEZONE
TZID:America/Chicago
BEGIN:DAYLIGHT
TZOFFSETFROM:-0600
TZOFFSETTO:-0500
TZNAME:CDT
DTSTART:20250309T080000
END:DAYLIGHT
BEGIN:STANDARD
TZOFFSETFROM:-0500
TZOFFSETTO:-0600
TZNAME:CST
DTSTART:20251102T070000
END:STANDARD
BEGIN:DAYLIGHT
TZOFFSETFROM:-0600
TZOFFSETTO:-0500
TZNAME:CDT
DTSTART:20260308T080000
END:DAYLIGHT
BEGIN:STANDARD
TZOFFSETFROM:-0500
TZOFFSETTO:-0600
TZNAME:CST
DTSTART:20261101T070000
END:STANDARD
BEGIN:DAYLIGHT
TZOFFSETFROM:-0600
TZOFFSETTO:-0500
TZNAME:CDT
DTSTART:20270314T080000
END:DAYLIGHT
BEGIN:STANDARD
TZOFFSETFROM:-0500
TZOFFSETTO:-0600
TZNAME:CST
DTSTART:20271107T070000
END:STANDARD
END:VTIMEZONE
BEGIN:VEVENT
DTSTART;TZID=America/Chicago:20260628T080000
DTEND;TZID=America/Chicago:20260628T170000
DTSTAMP:20260422T235113
CREATED:20260403T181106Z
LAST-MODIFIED:20260403T181106Z
UID:10021207-1782633600-1782666000@woodlandschildrensmuseum.org
SUMMARY:Museum Closed
DESCRIPTION:Summer Hours\n\n\nJune 2 – August 8\nTuesday -Friday 9:30am-4pm\nSaturday 10am-5pm\nClosed Sunday and Monday. \nAdmission is $10 for adults and children 1 year and older.\nPlease visit here to reserve your timed session tickets.\nMembers FREE. Become a member today\, click here.  \n\nAs a 501(c)3 Non-Profit\, our goal is to make memories and create learning opportunities for children in our community.\nYour donation will help children discover\, play\, imagine\, and grow in a safe and nurturing environment. Donate here 
URL:https://woodlandschildrensmuseum.org/event/museum-closed-102/2026-06-28/
LOCATION:The Woodlands Children’s Museum
END:VEVENT
BEGIN:VEVENT
DTSTART;TZID=America/Chicago:20260629T080000
DTEND;TZID=America/Chicago:20260629T170000
DTSTAMP:20260422T235113
CREATED:20260403T181106Z
LAST-MODIFIED:20260403T181106Z
UID:10021208-1782720000-1782752400@woodlandschildrensmuseum.org
SUMMARY:Museum Closed
DESCRIPTION:Summer Hours\n\n\nJune 2 – August 8\nTuesday -Friday 9:30am-4pm\nSaturday 10am-5pm\nClosed Sunday and Monday. \nAdmission is $10 for adults and children 1 year and older.\nPlease visit here to reserve your timed session tickets.\nMembers FREE. Become a member today\, click here.  \n\nAs a 501(c)3 Non-Profit\, our goal is to make memories and create learning opportunities for children in our community.\nYour donation will help children discover\, play\, imagine\, and grow in a safe and nurturing environment. Donate here 
URL:https://woodlandschildrensmuseum.org/event/museum-closed-102/2026-06-29/
LOCATION:The Woodlands Children’s Museum
END:VEVENT
BEGIN:VEVENT
DTSTART;TZID=America/Chicago:20260630T093000
DTEND;TZID=America/Chicago:20260630T093000
DTSTAMP:20260422T235113
CREATED:20260403T174642Z
LAST-MODIFIED:20260403T174742Z
UID:10020904-1782811800-1782811800@woodlandschildrensmuseum.org
SUMMARY:Museum OPEN 9:30am-4:00pm
DESCRIPTION:Summer Hours\n\n\nJune 2 – August 8\nTuesday -Friday 9:30am-4pm\nSaturday 10am-5pm\nClosed Sunday and Monday. \nAdmission is $10 for adults and children 1 year and older.\nPlease visit here to reserve your timed session tickets.\nMembers FREE. Become a member today\, click here.  \n\nAs a 501(c)3 Non-Profit\, our goal is to make memories and create learning opportunities for children in our community.\nYour donation will help children discover\, play\, imagine\, and grow in a safe and nurturing environment. Donate here 
URL:https://woodlandschildrensmuseum.org/event/museum-open-930am-400pm-2/2026-06-30/
LOCATION:The Woodlands Children’s Museum
END:VEVENT
BEGIN:VEVENT
DTSTART;TZID=America/Chicago:20260630T093000
DTEND;TZID=America/Chicago:20260630T093000
DTSTAMP:20260422T235113
CREATED:20260403T202453Z
LAST-MODIFIED:20260403T202454Z
UID:10020809-1782811800-1782811800@woodlandschildrensmuseum.org
SUMMARY:Rhyme Time for babies and toddlers ages 6-24 months
DESCRIPTION:Rhyme Time is a group class focused on gently exposing your child to an environment of music through songs\, movement\, singing and first introductions to instruments. It’s an excellent way to interact with other families in our community\, while fostering socialization for babies. Meets TUESDAYS at 9:30am\, included in the price of admission\, which is $10 for adults and children 1 year and older.  bit.ly/TWCMtickets \nSummer Hours\nJune 2 – August 8\nTuesday -Friday 9:30am-4pm\nSaturday 10am-5pm\nClosed Sunday and Monday. \nAdmission is $10 for adults and children 1 year and older.\nPlease visit here to reserve your timed session tickets.\nMembers FREE. Become a member today\, click here.  \n\nAs a 501(c)3 Non-Profit\, our goal is to make memories and create learning opportunities for children in our community.\nYour donation will help children discover\, play\, imagine\, and grow in a safe and nurturing environment. Donate here 
URL:https://woodlandschildrensmuseum.org/event/rhyme-time-for-babies-and-toddlers-ages-6-24-months-8-6/
LOCATION:The Woodlands Children’s Museum
END:VEVENT
BEGIN:VEVENT
DTSTART;TZID=America/Chicago:20260630T110000
DTEND;TZID=America/Chicago:20260630T110000
DTSTAMP:20260422T235113
CREATED:20260403T202042Z
LAST-MODIFIED:20260410T193140Z
UID:10021248-1782817200-1782817200@woodlandschildrensmuseum.org
SUMMARY:Boogie Bash-Bean Bag Bop
DESCRIPTION:Boogie Bash on Tuesday\, June 30\, at 11am presents “Bean Bag Bop”. We’re breaking out our bean bags for creative movement and imaginative play. Children will engage in musical activities that encourage following directions\, taking turns\, and using their imaginations.\n#ToddlerMom #WoodlandsMom #TheWoodlandsChildrensMuseum  Included in the price of admission\, which is $10 for adults and children 1 year and older. bit.ly/TWCMtickets \nSummer Hours: June 2 – August 8. Tuesday -Friday 9:30am-4pm\, Saturday 10am-5pm\, Closed Sunday and Monday.\n\n\nAdmission is $10 for adults and children 1 year and older.\nPlease visit here to reserve your timed session tickets.\nMembers FREE. Become a member today\, click here.  \n\nAs a 501(c)3 Non-Profit\, our goal is to make memories and create learning opportunities for children in our community.\nYour donation will help children discover\, play\, imagine\, and grow in a safe and nurturing environment. Donate here 
URL:https://woodlandschildrensmuseum.org/event/boogie-bash-171/
LOCATION:The Woodlands Children’s Museum
END:VEVENT
BEGIN:VEVENT
DTSTART;TZID=America/Chicago:20260701T093000
DTEND;TZID=America/Chicago:20260701T093000
DTSTAMP:20260422T235113
CREATED:20260403T174642Z
LAST-MODIFIED:20260403T174742Z
UID:10020905-1782898200-1782898200@woodlandschildrensmuseum.org
SUMMARY:Museum OPEN 9:30am-4:00pm
DESCRIPTION:Summer Hours\n\n\nJune 2 – August 8\nTuesday -Friday 9:30am-4pm\nSaturday 10am-5pm\nClosed Sunday and Monday. \nAdmission is $10 for adults and children 1 year and older.\nPlease visit here to reserve your timed session tickets.\nMembers FREE. Become a member today\, click here.  \n\nAs a 501(c)3 Non-Profit\, our goal is to make memories and create learning opportunities for children in our community.\nYour donation will help children discover\, play\, imagine\, and grow in a safe and nurturing environment. Donate here 
URL:https://woodlandschildrensmuseum.org/event/museum-open-930am-400pm-2/2026-07-01/
LOCATION:The Woodlands Children’s Museum
END:VEVENT
BEGIN:VEVENT
DTSTART;TZID=America/Chicago:20260702T093000
DTEND;TZID=America/Chicago:20260702T093000
DTSTAMP:20260422T235114
CREATED:20260403T174642Z
LAST-MODIFIED:20260403T174742Z
UID:10020906-1782984600-1782984600@woodlandschildrensmuseum.org
SUMMARY:Museum OPEN 9:30am-4:00pm
DESCRIPTION:Summer Hours\n\n\nJune 2 – August 8\nTuesday -Friday 9:30am-4pm\nSaturday 10am-5pm\nClosed Sunday and Monday. \nAdmission is $10 for adults and children 1 year and older.\nPlease visit here to reserve your timed session tickets.\nMembers FREE. Become a member today\, click here.  \n\nAs a 501(c)3 Non-Profit\, our goal is to make memories and create learning opportunities for children in our community.\nYour donation will help children discover\, play\, imagine\, and grow in a safe and nurturing environment. Donate here 
URL:https://woodlandschildrensmuseum.org/event/museum-open-930am-400pm-2/2026-07-02/
LOCATION:The Woodlands Children’s Museum
END:VEVENT
BEGIN:VEVENT
DTSTART;TZID=America/Chicago:20260703T093000
DTEND;TZID=America/Chicago:20260703T093000
DTSTAMP:20260422T235114
CREATED:20260403T174642Z
LAST-MODIFIED:20260403T174742Z
UID:10020907-1783071000-1783071000@woodlandschildrensmuseum.org
SUMMARY:Museum OPEN 9:30am-4:00pm
DESCRIPTION:Summer Hours\n\n\nJune 2 – August 8\nTuesday -Friday 9:30am-4pm\nSaturday 10am-5pm\nClosed Sunday and Monday. \nAdmission is $10 for adults and children 1 year and older.\nPlease visit here to reserve your timed session tickets.\nMembers FREE. Become a member today\, click here.  \n\nAs a 501(c)3 Non-Profit\, our goal is to make memories and create learning opportunities for children in our community.\nYour donation will help children discover\, play\, imagine\, and grow in a safe and nurturing environment. Donate here 
URL:https://woodlandschildrensmuseum.org/event/museum-open-930am-400pm-2/2026-07-03/
LOCATION:The Woodlands Children’s Museum
END:VEVENT
BEGIN:VEVENT
DTSTART;TZID=America/Chicago:20260704T100000
DTEND;TZID=America/Chicago:20260704T100000
DTSTAMP:20260422T235114
CREATED:20260403T175413Z
LAST-MODIFIED:20260403T175538Z
UID:10021140-1783159200-1783159200@woodlandschildrensmuseum.org
SUMMARY:Museum OPEN 10am-5pm
DESCRIPTION:Summer Hours\n\n\nJune 2 – August 8\nTuesday -Friday 9:30am-4pm\nSaturday 10am-5pm\nClosed Sunday and Monday. \nAdmission is $10 for adults and children 1 year and older.\nPlease visit here to reserve your timed session tickets.\nMembers FREE. Become a member today\, click here.  \n\nAs a 501(c)3 Non-Profit\, our goal is to make memories and create learning opportunities for children in our community.\nYour donation will help children discover\, play\, imagine\, and grow in a safe and nurturing environment. Donate here 
URL:https://woodlandschildrensmuseum.org/event/museum-open-930am-500pm/2026-07-04/
LOCATION:The Woodlands Children’s Museum
END:VEVENT
END:VCALENDAR