BEGIN:VCALENDAR
VERSION:2.0
PRODID:-//The Woodlands Children&#039;s Museum - ECPv6.15.20//NONSGML v1.0//EN
CALSCALE:GREGORIAN
METHOD:PUBLISH
X-WR-CALNAME:The Woodlands Children&#039;s Museum
X-ORIGINAL-URL:https://woodlandschildrensmuseum.org
X-WR-CALDESC:Events for The Woodlands Children&#039;s Museum
REFRESH-INTERVAL;VALUE=DURATION:PT1H
X-Robots-Tag:noindex
X-PUBLISHED-TTL:PT1H
BEGIN:VTIMEZONE
TZID:America/Chicago
BEGIN:DAYLIGHT
TZOFFSETFROM:-0600
TZOFFSETTO:-0500
TZNAME:CDT
DTSTART:20250309T080000
END:DAYLIGHT
BEGIN:STANDARD
TZOFFSETFROM:-0500
TZOFFSETTO:-0600
TZNAME:CST
DTSTART:20251102T070000
END:STANDARD
BEGIN:DAYLIGHT
TZOFFSETFROM:-0600
TZOFFSETTO:-0500
TZNAME:CDT
DTSTART:20260308T080000
END:DAYLIGHT
BEGIN:STANDARD
TZOFFSETFROM:-0500
TZOFFSETTO:-0600
TZNAME:CST
DTSTART:20261101T070000
END:STANDARD
BEGIN:DAYLIGHT
TZOFFSETFROM:-0600
TZOFFSETTO:-0500
TZNAME:CDT
DTSTART:20270314T080000
END:DAYLIGHT
BEGIN:STANDARD
TZOFFSETFROM:-0500
TZOFFSETTO:-0600
TZNAME:CST
DTSTART:20271107T070000
END:STANDARD
END:VTIMEZONE
BEGIN:VEVENT
DTSTART;TZID=America/Chicago:20260419T080000
DTEND;TZID=America/Chicago:20260419T170000
DTSTAMP:20260422T202024
CREATED:20260403T181440Z
LAST-MODIFIED:20260403T181452Z
UID:10021223-1776585600-1776618000@woodlandschildrensmuseum.org
SUMMARY:Museum Closed
DESCRIPTION:Spring Hours Jan. 2nd – May 30th\nTuesday – Thursday 9:30am-2:00pm\nFriday 9:30am-4:00pm\nSaturday 10:00am-5:00pm\nClosed Sunday and Monday \nAdmission is $9 for adults and children 1 year and older.\nPlease visit here to reserve your timed session tickets.\nMembers FREE. Become a member today\, click here.  \n\nAs a 501(c)3 Non-Profit\, our goal is to make memories and create learning opportunities for children in our community.\nYour donation will help children discover\, play\, imagine\, and grow in a safe and nurturing environment. Donate here 
URL:https://woodlandschildrensmuseum.org/event/museum-closed-105/2026-04-19/
LOCATION:The Woodlands Children’s Museum
END:VEVENT
BEGIN:VEVENT
DTSTART;TZID=America/Chicago:20260420T080000
DTEND;TZID=America/Chicago:20260420T170000
DTSTAMP:20260422T202024
CREATED:20260403T181440Z
LAST-MODIFIED:20260403T181452Z
UID:10021224-1776672000-1776704400@woodlandschildrensmuseum.org
SUMMARY:Museum Closed
DESCRIPTION:Spring Hours Jan. 2nd – May 30th\nTuesday – Thursday 9:30am-2:00pm\nFriday 9:30am-4:00pm\nSaturday 10:00am-5:00pm\nClosed Sunday and Monday \nAdmission is $9 for adults and children 1 year and older.\nPlease visit here to reserve your timed session tickets.\nMembers FREE. Become a member today\, click here.  \n\nAs a 501(c)3 Non-Profit\, our goal is to make memories and create learning opportunities for children in our community.\nYour donation will help children discover\, play\, imagine\, and grow in a safe and nurturing environment. Donate here 
URL:https://woodlandschildrensmuseum.org/event/museum-closed-105/2026-04-20/
LOCATION:The Woodlands Children’s Museum
END:VEVENT
BEGIN:VEVENT
DTSTART;TZID=America/Chicago:20260421T080000
DTEND;TZID=America/Chicago:20260421T170000
DTSTAMP:20260422T202024
CREATED:20251124T164833Z
LAST-MODIFIED:20251124T164833Z
UID:10020641-1776758400-1776790800@woodlandschildrensmuseum.org
SUMMARY:Museum OPEN 9:30am-2:00pm
DESCRIPTION:Spring Hours Jan. 2nd – May 30th\nTuesday – Thursday 9:30am-2:00pm\nFriday 9:30am-4:00pm\nSaturday 10:00am-5:00pm\nClosed Sunday and Monday \nAdmission is $9 for adults and children 1 year and older.\nPlease visit here to reserve your timed session tickets.\nMembers FREE. Become a member today\, click here.  \n\nAs a 501(c)3 Non-Profit\, our goal is to make memories and create learning opportunities for children in our community.\nYour donation will help children discover\, play\, imagine\, and grow in a safe and nurturing environment. Donate here 
URL:https://woodlandschildrensmuseum.org/event/museum-open-930am-200pm/2026-04-21/
LOCATION:The Woodlands Children’s Museum
END:VEVENT
BEGIN:VEVENT
DTSTART;TZID=America/Chicago:20260421T093000
DTEND;TZID=America/Chicago:20260421T093000
DTSTAMP:20260422T202024
CREATED:20260227T210957Z
LAST-MODIFIED:20260227T211138Z
UID:10020799-1776763800-1776763800@woodlandschildrensmuseum.org
SUMMARY:Rhyme Time for babies and toddlers ages 6-24 months
DESCRIPTION:Rhyme Time is a group class focused on gently exposing your child to an environment of music through songs\, movement\, singing and first introductions to instruments. It’s an excellent way to interact with other families in our community\, while fostering socialization for babies. Meets TUESDAYS at 9:30am\, included in the price of admission\, which is $9 for adults and children 1 year and older.  bit.ly/TWCMtickets \nSpring Hours Jan. 2nd – May 30th\nTuesday – Thursday 9:30am-2:00pm \nFriday 9:30am-4:00pm\nSaturday 10:00am-5:00pm\nClosed Sunday and Monday \n  \n\nAs a 501(c)3 Non-Profit\, our goal is to make memories and create learning opportunities for children in our community.\nYour donation will help children discover\, play\, imagine\, and grow in a safe and nurturing environment. Donate here 
URL:https://woodlandschildrensmuseum.org/event/rhyme-time-for-babies-and-toddlers-ages-6-24-months-8/2026-04-21/
LOCATION:The Woodlands Children’s Museum
END:VEVENT
BEGIN:VEVENT
DTSTART;TZID=America/Chicago:20260421T110000
DTEND;TZID=America/Chicago:20260421T110000
DTSTAMP:20260422T202024
CREATED:20260227T205741Z
LAST-MODIFIED:20260407T192242Z
UID:10020790-1776769200-1776769200@woodlandschildrensmuseum.org
SUMMARY:Boogie Bash-Hula Hoop Hop
DESCRIPTION:Boogie Bash on Tuesday\, April 21\, at 11am presents “Hula Hoop Hop”. What can you do with a hula hoop? — Drive a car\, dance the “Hokey Pokey\,” and so much more! #Dance #Movement #Music #ToddlerMom #Art #ChildrensMuseum #TheWoodlands #WoodlandsMom #TheWoodlandsChildrensMuseum   Included in the price of admission\, which is $9 for adults and children 1 year and older. bit.ly/TWCMtickets \nSpring Hours Jan. 2nd – May 30th\nTuesday – Thursday 9:30am-2:00pm\nFriday 9:30am-4:00pm\nSaturday 10:00am-5:00pm\nClosed Sunday and Monday \n\nAs a 501(c)3 Non-Profit\, our goal is to make memories and create learning opportunities for children in our community.\nYour donation will help children discover\, play\, imagine\, and grow in a safe and nurturing environment. Donate here. 
URL:https://woodlandschildrensmuseum.org/event/boogie-bash-dragons-knights-and-castles-oh-my-4/
LOCATION:The Woodlands Children’s Museum
END:VEVENT
BEGIN:VEVENT
DTSTART;TZID=America/Chicago:20260422T080000
DTEND;TZID=America/Chicago:20260422T170000
DTSTAMP:20260422T202024
CREATED:20251124T164833Z
LAST-MODIFIED:20251124T164833Z
UID:10020642-1776844800-1776877200@woodlandschildrensmuseum.org
SUMMARY:Museum OPEN 9:30am-2:00pm
DESCRIPTION:Spring Hours Jan. 2nd – May 30th\nTuesday – Thursday 9:30am-2:00pm\nFriday 9:30am-4:00pm\nSaturday 10:00am-5:00pm\nClosed Sunday and Monday \nAdmission is $9 for adults and children 1 year and older.\nPlease visit here to reserve your timed session tickets.\nMembers FREE. Become a member today\, click here.  \n\nAs a 501(c)3 Non-Profit\, our goal is to make memories and create learning opportunities for children in our community.\nYour donation will help children discover\, play\, imagine\, and grow in a safe and nurturing environment. Donate here 
URL:https://woodlandschildrensmuseum.org/event/museum-open-930am-200pm/2026-04-22/
LOCATION:The Woodlands Children’s Museum
END:VEVENT
BEGIN:VEVENT
DTSTART;TZID=America/Chicago:20260423T080000
DTEND;TZID=America/Chicago:20260423T170000
DTSTAMP:20260422T202024
CREATED:20251124T164833Z
LAST-MODIFIED:20251124T164833Z
UID:10020643-1776931200-1776963600@woodlandschildrensmuseum.org
SUMMARY:Museum OPEN 9:30am-2:00pm
DESCRIPTION:Spring Hours Jan. 2nd – May 30th\nTuesday – Thursday 9:30am-2:00pm\nFriday 9:30am-4:00pm\nSaturday 10:00am-5:00pm\nClosed Sunday and Monday \nAdmission is $9 for adults and children 1 year and older.\nPlease visit here to reserve your timed session tickets.\nMembers FREE. Become a member today\, click here.  \n\nAs a 501(c)3 Non-Profit\, our goal is to make memories and create learning opportunities for children in our community.\nYour donation will help children discover\, play\, imagine\, and grow in a safe and nurturing environment. Donate here 
URL:https://woodlandschildrensmuseum.org/event/museum-open-930am-200pm/2026-04-23/
LOCATION:The Woodlands Children’s Museum
END:VEVENT
BEGIN:VEVENT
DTSTART;TZID=America/Chicago:20260423T110000
DTEND;TZID=America/Chicago:20260423T110000
DTSTAMP:20260422T202024
CREATED:20260227T211836Z
LAST-MODIFIED:20260227T211904Z
UID:10020860-1776942000-1776942000@woodlandschildrensmuseum.org
SUMMARY:Shadow Puppet Theatre-Percival the Baby Caterpillar
DESCRIPTION:Shadow Puppet Theatre\, Thursday\, April 23 at 11am presents “Percival the Baby Caterpillar\,”  by Henry Kingston. A baby caterpillar explores the world\, meeting many friends and learning who he is in the process. Included in the price of admission\, which is $9 for adults and children 1 year and older. bit.ly/TWCMtickets  #ToddlerMom #Art #ChildrensMuseum #TheWoodlands #WoodlandsMom #BookReading #StoryTime #TheWoodlandsChildrensMuseum \nShadow Puppet Theatre is an introduction to storytelling elements that allow our readers and audience to interact directly with each other. Children of all ages are enchanted with the animated shadows. \nSpring Break Hours 2026\nMonday\, March 9 – Friday\, March 13 OPEN 9:30am-4:00pm. Saturday\, March 14 OPEN 10:00am-5:00pm. \nSpring Hours Jan. 2nd – May 30th\nTuesday – Thursday 9:30am-2:00pm\nFriday 9:30am-4:00pm\nSaturday 10:00am-5:00pm\nClosed Sunday and Monday \n\nAs a 501(c)3 Non-Profit\, our goal is to make memories and create learning opportunities for children in our community.\nYour donation will help children discover\, play\, imagine\, and grow in a safe and nurturing environment. Donate here. 
URL:https://woodlandschildrensmuseum.org/event/shadow-puppet-theatre-percival-the-baby-caterpillar-5/
LOCATION:The Woodlands Children’s Museum
END:VEVENT
BEGIN:VEVENT
DTSTART;TZID=America/Chicago:20260424T080000
DTEND;TZID=America/Chicago:20260424T170000
DTSTAMP:20260422T202024
CREATED:20251124T165036Z
LAST-MODIFIED:20251124T165036Z
UID:10020675-1777017600-1777050000@woodlandschildrensmuseum.org
SUMMARY:Museum OPEN 9:30am-4:00pm
DESCRIPTION:Spring Hours Jan. 2nd – May 30th\nTuesday – Thursday 9:30am-2:00pm\nFriday 9:30am-4:00pm\nSaturday 10:00am-5:00pm\nClosed Sunday and Monday \nAdmission is $9 for adults and children 1 year and older.\nPlease visit here to reserve your timed session tickets.\nMembers FREE. Become a member today\, click here.  \n\nAs a 501(c)3 Non-Profit\, our goal is to make memories and create learning opportunities for children in our community.\nYour donation will help children discover\, play\, imagine\, and grow in a safe and nurturing environment. Donate here 
URL:https://woodlandschildrensmuseum.org/event/museum-open-930am-400pm/2026-04-24/
LOCATION:The Woodlands Children’s Museum
END:VEVENT
BEGIN:VEVENT
DTSTART;TZID=America/Chicago:20260424T110000
DTEND;TZID=America/Chicago:20260424T110000
DTSTAMP:20260422T202024
CREATED:20260227T214952Z
LAST-MODIFIED:20260227T215343Z
UID:10020864-1777028400-1777028400@woodlandschildrensmuseum.org
SUMMARY:Children’s Day/Book Day special readings
DESCRIPTION:On April 24 at 11am we will be celebrating Children’s Day/Book Day (Celebremos El día de los niños/El día de los libros)\, with two special books. First\, enjoy  “Book Fiesta!: Celebrate Children’s Day/Book Day (Celebremos El día de los niños/El día de los libros)”\, by Pat Mora. Miss Jan and Miss Maria will be reading this joyful book together in English and Spanish to celebrate Children’s Day/Book Day (El día de los niῆos/El día de los libros). The story encourages children to explore the world of books wherever they are!  This special day (which falls on April 30) highlights the importance of literacy for children of all linguistic and cultural backgrounds. Then enjoy “Goodnight\, Moon/Bonsoir Lune’ by Margaret Wise Brown. This classic story in English and French as the little bunny says “goodnight”/“bonsoir” to everything in his room!  Included in the price of admission\, which is $9 for adults and children 1 year and older. bit.ly/TWCMtickets  #ToddlerMom #Art #ChildrensMuseum #TheWoodlands #WoodlandsMom #BookReading #StoryTime #TheWoodlandsChildrensMuseum \nAcompáñanos a celebrar el Día de los Niños y de los Libros!\nEl 24 de abril a las 11:00 a. m.\, celebraremos el “Día de los niños/El día de los libros” con la lectura de dos cuentos muy especiales: \n\n\n“Book Fiesta!: Celebrate Children’s Day/Book Day / ¡Fiesta de los libros!: Celebremos El día de los niños/El día de los libros” de Pat Mora. Las maestras Jan y Maria leerán juntas esta alegre historia en inglés y español. El libro anima a los niños a explorar el mundo de la lectura sin importar dónde se encuentren. Esta celebración (que oficialmente es el 30 de abril) resalta la importancia de la alfabetización en niños de todos los orígenes lingüísticos y culturales. \n\n\n“Goodnight\, Moon / Bonsoir Lune” de Margaret Wise Brown. Disfrutaremos de este clásico en inglés y francés\, mientras un pequeño conejito le dice “buenas noches” (goodnight/bonsoir) a todo lo que hay en su habitación. \n\n\n  \n  \nSpring Hours Jan. 2nd – May 30th\nTuesday – Thursday 9:30am-2:00pm\nFriday 9:30am-4:00pm\nSaturday 10:00am-5:00pm\nClosed Sunday and Monday \n\nAs a 501(c)3 Non-Profit\, our goal is to make memories and create learning opportunities for children in our community.\nYour donation will help children discover\, play\, imagine\, and grow in a safe and nurturing environment. Donate here. 
URL:https://woodlandschildrensmuseum.org/event/childrens-day-book-day-special-readings/
LOCATION:The Woodlands Children’s Museum
END:VEVENT
BEGIN:VEVENT
DTSTART;TZID=America/Chicago:20260425T080000
DTEND;TZID=America/Chicago:20260425T170000
DTSTAMP:20260422T202024
CREATED:20251124T165157Z
LAST-MODIFIED:20251124T165157Z
UID:10020697-1777104000-1777136400@woodlandschildrensmuseum.org
SUMMARY:Museum OPEN 10:00am-5:00pm
DESCRIPTION:Spring Hours Jan. 2nd – May 30th\nTuesday – Thursday 9:30am-2:00pm\nFriday 9:30am-4:00pm\nSaturday 10:00am-5:00pm\nClosed Sunday and Monday \nAdmission is $9 for adults and children 1 year and older.\nPlease visit here to reserve your timed session tickets.\nMembers FREE. Become a member today\, click here.  \n\nAs a 501(c)3 Non-Profit\, our goal is to make memories and create learning opportunities for children in our community.\nYour donation will help children discover\, play\, imagine\, and grow in a safe and nurturing environment. Donate here 
URL:https://woodlandschildrensmuseum.org/event/museum-open-1000am-500pm/2026-04-25/
LOCATION:The Woodlands Children’s Museum
END:VEVENT
BEGIN:VEVENT
DTSTART;TZID=America/Chicago:20260425T110000
DTEND;TZID=America/Chicago:20260425T110000
DTSTAMP:20260422T202024
CREATED:20260303T165600Z
LAST-MODIFIED:20260303T165742Z
UID:10020866-1777114800-1777114800@woodlandschildrensmuseum.org
SUMMARY:Woodlands Symphony Orchestra Percussion Ensemble performs Marching To The Beat
DESCRIPTION:On Saturday\, April 25th at 11am enjoy the Woodlands Symphony Orchestra Percussion Ensemble performs Marching To The Beat.  On July 4\, 2026\, our nation will celebrate the 250th anniversary of the signing of the Declaration of Independence\, a moment to reflect on America’s milestones and inspire the next generation of leaders and innovators. To support this historic occasion\, The Woodlands Children’s Museum and the Woodlands Symphony Orchestra have partnered to provide a series of monthly concerts celebrating America’s contribution to the arts. We invite children and families to join us as we celebrate our American story through music!  Included in the price of admission\, which is $9 for adults and children 1 year and older. Veterans and Active Duty Military and their immediate family members (up to 4) receive a discounted rate of $5 per person during Saturdays with the Symphony events. Tickets can be purchased at the museum with valid ID  bit.ly/TWCMtickets  #ToddlerMom #Art #ChildrensMuseum #TheWoodlands #WoodlandsMom #BookReading #StoryTime #TheWoodlandsChildrensMuseum \nSaturday\, April 25 WSO Percussion Ensemble performs Marching To The Beat\nSaturday\, May 16 WSO Brass Quintet performs American Film Composers\nSaturday\, June 6 WSO Experimental Ensemble performs Constellation – NASA Tribute\nFriday\, July 3\, 2026 The WSO Brass with Guest Vocalist\, WSO Woodwinds and WSO Percussion at 10:30am\, 12:30pm\, 2:30pm \n  \nThank you to our partners!\n                        \nSpring Hours Jan. 2nd – May 30th\nTuesday – Thursday 9:30am-2:00pm\nFriday 9:30am-4:00pm\nSaturday 10:00am-5:00pm\nClosed Sunday and Monday \n\nAs a 501(c)3 Non-Profit\, our goal is to make memories and create learning opportunities for children in our community.\nYour donation will help children discover\, play\, imagine\, and grow in a safe and nurturing environment. Donate here. 
URL:https://woodlandschildrensmuseum.org/event/woodlands-symphony-orchestra-percussion-ensemble-performs-marching-to-the-beat/
LOCATION:The Woodlands Children’s Museum
END:VEVENT
END:VCALENDAR