BEGIN:VCALENDAR
VERSION:2.0
PRODID:-//The Woodlands Children&#039;s Museum - ECPv6.15.20//NONSGML v1.0//EN
CALSCALE:GREGORIAN
METHOD:PUBLISH
X-WR-CALNAME:The Woodlands Children&#039;s Museum
X-ORIGINAL-URL:https://woodlandschildrensmuseum.org
X-WR-CALDESC:Events for The Woodlands Children&#039;s Museum
REFRESH-INTERVAL;VALUE=DURATION:PT1H
X-Robots-Tag:noindex
X-PUBLISHED-TTL:PT1H
BEGIN:VTIMEZONE
TZID:America/Chicago
BEGIN:DAYLIGHT
TZOFFSETFROM:-0600
TZOFFSETTO:-0500
TZNAME:CDT
DTSTART:20250309T080000
END:DAYLIGHT
BEGIN:STANDARD
TZOFFSETFROM:-0500
TZOFFSETTO:-0600
TZNAME:CST
DTSTART:20251102T070000
END:STANDARD
BEGIN:DAYLIGHT
TZOFFSETFROM:-0600
TZOFFSETTO:-0500
TZNAME:CDT
DTSTART:20260308T080000
END:DAYLIGHT
BEGIN:STANDARD
TZOFFSETFROM:-0500
TZOFFSETTO:-0600
TZNAME:CST
DTSTART:20261101T070000
END:STANDARD
BEGIN:DAYLIGHT
TZOFFSETFROM:-0600
TZOFFSETTO:-0500
TZNAME:CDT
DTSTART:20270314T080000
END:DAYLIGHT
BEGIN:STANDARD
TZOFFSETFROM:-0500
TZOFFSETTO:-0600
TZNAME:CST
DTSTART:20271107T070000
END:STANDARD
END:VTIMEZONE
BEGIN:VEVENT
DTSTART;TZID=America/Chicago:20260331T080000
DTEND;TZID=America/Chicago:20260331T170000
DTSTAMP:20260422T203515
CREATED:20251124T164833Z
LAST-MODIFIED:20251124T164833Z
UID:10020632-1774944000-1774976400@woodlandschildrensmuseum.org
SUMMARY:Museum OPEN 9:30am-2:00pm
DESCRIPTION:Spring Hours Jan. 2nd – May 30th\nTuesday – Thursday 9:30am-2:00pm\nFriday 9:30am-4:00pm\nSaturday 10:00am-5:00pm\nClosed Sunday and Monday \nAdmission is $9 for adults and children 1 year and older.\nPlease visit here to reserve your timed session tickets.\nMembers FREE. Become a member today\, click here.  \n\nAs a 501(c)3 Non-Profit\, our goal is to make memories and create learning opportunities for children in our community.\nYour donation will help children discover\, play\, imagine\, and grow in a safe and nurturing environment. Donate here 
URL:https://woodlandschildrensmuseum.org/event/museum-open-930am-200pm/2026-03-31/
LOCATION:The Woodlands Children’s Museum
END:VEVENT
BEGIN:VEVENT
DTSTART;TZID=America/Chicago:20260331T093000
DTEND;TZID=America/Chicago:20260331T093000
DTSTAMP:20260422T203515
CREATED:20260227T210957Z
LAST-MODIFIED:20260227T211138Z
UID:10020796-1774949400-1774949400@woodlandschildrensmuseum.org
SUMMARY:Rhyme Time for babies and toddlers ages 6-24 months
DESCRIPTION:Rhyme Time is a group class focused on gently exposing your child to an environment of music through songs\, movement\, singing and first introductions to instruments. It’s an excellent way to interact with other families in our community\, while fostering socialization for babies. Meets TUESDAYS at 9:30am\, included in the price of admission\, which is $9 for adults and children 1 year and older.  bit.ly/TWCMtickets \nSpring Hours Jan. 2nd – May 30th\nTuesday – Thursday 9:30am-2:00pm \nFriday 9:30am-4:00pm\nSaturday 10:00am-5:00pm\nClosed Sunday and Monday \n  \n\nAs a 501(c)3 Non-Profit\, our goal is to make memories and create learning opportunities for children in our community.\nYour donation will help children discover\, play\, imagine\, and grow in a safe and nurturing environment. Donate here 
URL:https://woodlandschildrensmuseum.org/event/rhyme-time-for-babies-and-toddlers-ages-6-24-months-8/2026-03-31/
LOCATION:The Woodlands Children’s Museum
END:VEVENT
BEGIN:VEVENT
DTSTART;TZID=America/Chicago:20260331T110000
DTEND;TZID=America/Chicago:20260331T110000
DTSTAMP:20260422T203515
CREATED:20260120T190857Z
LAST-MODIFIED:20260123T221719Z
UID:10020768-1774954800-1774954800@woodlandschildrensmuseum.org
SUMMARY:Boogie Bash-Dragons\, Knights\, and Castles\, Oh My!
DESCRIPTION:Boogie Bash on Tuesday\, March 31st at 11:00am presents\, Dragons\, Knights\, and Castles\, Oh My! We are exploring the medieval world of castles\, knights\, dragons\, lords\, and ladies. Come move and groove along with us!  #Dance #Movement #Music #ToddlerMom #Art #ChildrensMuseum #TheWoodlands #WoodlandsMom #TheWoodlandsChildrensMuseum   Included in the price of admission\, which is $9 for adults and children 1 year and older. bit.ly/TWCMtickets \nSpring Hours Jan. 2nd – May 30th\nTuesday – Thursday 9:30am-2:00pm\nFriday 9:30am-4:00pm\nSaturday 10:00am-5:00pm\nClosed Sunday and Monday \n\nAs a 501(c)3 Non-Profit\, our goal is to make memories and create learning opportunities for children in our community.\nYour donation will help children discover\, play\, imagine\, and grow in a safe and nurturing environment. Donate here. 
URL:https://woodlandschildrensmuseum.org/event/boogie-bash-166/
LOCATION:The Woodlands Children’s Museum
END:VEVENT
BEGIN:VEVENT
DTSTART;TZID=America/Chicago:20260401T080000
DTEND;TZID=America/Chicago:20260401T170000
DTSTAMP:20260422T203515
CREATED:20251124T164833Z
LAST-MODIFIED:20251124T164833Z
UID:10020633-1775030400-1775062800@woodlandschildrensmuseum.org
SUMMARY:Museum OPEN 9:30am-2:00pm
DESCRIPTION:Spring Hours Jan. 2nd – May 30th\nTuesday – Thursday 9:30am-2:00pm\nFriday 9:30am-4:00pm\nSaturday 10:00am-5:00pm\nClosed Sunday and Monday \nAdmission is $9 for adults and children 1 year and older.\nPlease visit here to reserve your timed session tickets.\nMembers FREE. Become a member today\, click here.  \n\nAs a 501(c)3 Non-Profit\, our goal is to make memories and create learning opportunities for children in our community.\nYour donation will help children discover\, play\, imagine\, and grow in a safe and nurturing environment. Donate here 
URL:https://woodlandschildrensmuseum.org/event/museum-open-930am-200pm/2026-04-01/
LOCATION:The Woodlands Children’s Museum
END:VEVENT
BEGIN:VEVENT
DTSTART;TZID=America/Chicago:20260402T080000
DTEND;TZID=America/Chicago:20260402T170000
DTSTAMP:20260422T203515
CREATED:20251124T164833Z
LAST-MODIFIED:20251124T164833Z
UID:10020634-1775116800-1775149200@woodlandschildrensmuseum.org
SUMMARY:Museum OPEN 9:30am-2:00pm
DESCRIPTION:Spring Hours Jan. 2nd – May 30th\nTuesday – Thursday 9:30am-2:00pm\nFriday 9:30am-4:00pm\nSaturday 10:00am-5:00pm\nClosed Sunday and Monday \nAdmission is $9 for adults and children 1 year and older.\nPlease visit here to reserve your timed session tickets.\nMembers FREE. Become a member today\, click here.  \n\nAs a 501(c)3 Non-Profit\, our goal is to make memories and create learning opportunities for children in our community.\nYour donation will help children discover\, play\, imagine\, and grow in a safe and nurturing environment. Donate here 
URL:https://woodlandschildrensmuseum.org/event/museum-open-930am-200pm/2026-04-02/
LOCATION:The Woodlands Children’s Museum
END:VEVENT
BEGIN:VEVENT
DTSTART;TZID=America/Chicago:20260402T110000
DTEND;TZID=America/Chicago:20260402T110000
DTSTAMP:20260422T203515
CREATED:20260227T211418Z
LAST-MODIFIED:20260227T211426Z
UID:10020857-1775127600-1775127600@woodlandschildrensmuseum.org
SUMMARY:Shadow Puppet Theatre-Little Quack
DESCRIPTION:Shadow Puppet Theatre\, Thursday\, April 2 at 11am presents “Little Quack” by Lauren Thompson. Little Quack watches his brothers and sisters “splish\, splash\, and splosh” into the pond behind their mama. Will he find the courage to follow his family?  Included in the price of admission\, which is $9 for adults and children 1 year and older. bit.ly/TWCMtickets  #ToddlerMom #Art #ChildrensMuseum #TheWoodlands #WoodlandsMom #BookReading #StoryTime #TheWoodlandsChildrensMuseum \nShadow Puppet Theatre is an introduction to storytelling elements that allow our readers and audience to interact directly with each other. Children of all ages are enchanted with the animated shadows. \nSpring Break Hours 2026\nMonday\, March 9 – Friday\, March 13 OPEN 9:30am-4:00pm. Saturday\, March 14 OPEN 10:00am-5:00pm. \nSpring Hours Jan. 2nd – May 30th\nTuesday – Thursday 9:30am-2:00pm\nFriday 9:30am-4:00pm\nSaturday 10:00am-5:00pm\nClosed Sunday and Monday \n\nAs a 501(c)3 Non-Profit\, our goal is to make memories and create learning opportunities for children in our community.\nYour donation will help children discover\, play\, imagine\, and grow in a safe and nurturing environment. Donate here. 
URL:https://woodlandschildrensmuseum.org/event/shadow-puppet-theatre-little-quack-5/
LOCATION:The Woodlands Children’s Museum
END:VEVENT
BEGIN:VEVENT
DTSTART;TZID=America/Chicago:20260403T080000
DTEND;TZID=America/Chicago:20260403T170000
DTSTAMP:20260422T203515
CREATED:20251124T165036Z
LAST-MODIFIED:20251124T165036Z
UID:10020672-1775203200-1775235600@woodlandschildrensmuseum.org
SUMMARY:Museum OPEN 9:30am-4:00pm
DESCRIPTION:Spring Hours Jan. 2nd – May 30th\nTuesday – Thursday 9:30am-2:00pm\nFriday 9:30am-4:00pm\nSaturday 10:00am-5:00pm\nClosed Sunday and Monday \nAdmission is $9 for adults and children 1 year and older.\nPlease visit here to reserve your timed session tickets.\nMembers FREE. Become a member today\, click here.  \n\nAs a 501(c)3 Non-Profit\, our goal is to make memories and create learning opportunities for children in our community.\nYour donation will help children discover\, play\, imagine\, and grow in a safe and nurturing environment. Donate here 
URL:https://woodlandschildrensmuseum.org/event/museum-open-930am-400pm/2026-04-03/
LOCATION:The Woodlands Children’s Museum
END:VEVENT
BEGIN:VEVENT
DTSTART;TZID=America/Chicago:20260403T093000
DTEND;TZID=America/Chicago:20260403T150000
DTSTAMP:20260422T203515
CREATED:20260218T210710Z
LAST-MODIFIED:20260306T214655Z
UID:10020786-1775208600-1775228400@woodlandschildrensmuseum.org
SUMMARY:EggTivities 9:30am-3:00pm
DESCRIPTION:EggTivities\nFriday\, April 3rd\, 9:30am-3:00pm and Saturday\, April 4th\, 10:00am-2:00pm. EggTivities features a special DIY photo opportunity with the Easter Bunny!  Children will delight in creating a bunny mask\, while dyeing a real hard-boiled egg and embellishing a bunny box to carry the egg. Member and Non-Member Children 0-13 $6 plus admission.\nClick for tickets.  \nEggTivities readings:\n11:00am “How to Catch the Easter Bunny” by Adam Wallace. It’s one thing to find the hidden eggs\, but can you catch the Easter Bunny? He has a knack for staying hidden\, and he does have “SUPERSONIC ears” and “lucky rabbit’s feet”! Join us for this delightful\, adventurous story! \n1:00pm “Bear Finds Eggs’ by Karma Wilson. From the beloved “Bear” series\, Bear and his friends hunt for Mama Meadowlark’s missing eggs\, painting all the eggs they find with bright colors so they don’t get lost again. Hare holds onto the eggs in his basket. Will they be able to get all the eggs back to the mama? \n \nSpring Hours Jan. 2nd – May 30th\nTuesday – Thursday 9:30am-2:00pm\nFriday 9:30am-4:00pm\nSaturday 10:00am-5:00pm\nClosed Sunday and Monday \n\nAs a 501(c)3 Non-Profit\, our goal is to make memories and create learning opportunities for children in our community.\nYour donation will help children discover\, play\, imagine\, and grow in a safe and nurturing environment. Donate here. 
URL:https://woodlandschildrensmuseum.org/event/eggtivities-930am-300pm/
LOCATION:The Woodlands Children’s Museum
END:VEVENT
BEGIN:VEVENT
DTSTART;TZID=America/Chicago:20260404T080000
DTEND;TZID=America/Chicago:20260404T170000
DTSTAMP:20260422T203515
CREATED:20251124T165157Z
LAST-MODIFIED:20251124T165157Z
UID:10020694-1775289600-1775322000@woodlandschildrensmuseum.org
SUMMARY:Museum OPEN 10:00am-5:00pm
DESCRIPTION:Spring Hours Jan. 2nd – May 30th\nTuesday – Thursday 9:30am-2:00pm\nFriday 9:30am-4:00pm\nSaturday 10:00am-5:00pm\nClosed Sunday and Monday \nAdmission is $9 for adults and children 1 year and older.\nPlease visit here to reserve your timed session tickets.\nMembers FREE. Become a member today\, click here.  \n\nAs a 501(c)3 Non-Profit\, our goal is to make memories and create learning opportunities for children in our community.\nYour donation will help children discover\, play\, imagine\, and grow in a safe and nurturing environment. Donate here 
URL:https://woodlandschildrensmuseum.org/event/museum-open-1000am-500pm/2026-04-04/
LOCATION:The Woodlands Children’s Museum
END:VEVENT
BEGIN:VEVENT
DTSTART;TZID=America/Chicago:20260404T100000
DTEND;TZID=America/Chicago:20260404T140000
DTSTAMP:20260422T203515
CREATED:20260218T210751Z
LAST-MODIFIED:20260306T214701Z
UID:10020787-1775296800-1775311200@woodlandschildrensmuseum.org
SUMMARY:EggTivities 10:00am-2:00pm
DESCRIPTION:EggTivities\nSaturday\, April 4th\, 10:00am-2:00pm. EggTivities features a special DIY photo opportunity with the Easter Bunny!  Children will delight in creating a bunny mask\, while dyeing a real hard-boiled egg and embellishing a bunny box to carry the egg. Member and Non-Member Children 0-13 $6 plus admission.\nClick for tickets.  \nSpecial Storytime with Miss Jan at 11:00am. “There Was an Old Lady Who Swallowed a Chick!” by Lucille Colandro. Today you’re invited to enjoy another version of the classic song about the old lady with an enormous appetite\, this time swallowing a chick\, some straw\, and other Easter delights…until she comes upon the Easter Bunny! \n \nSpring Hours Jan. 2nd – May 30th\nTuesday – Thursday 9:30am-2:00pm\nFriday 9:30am-4:00pm\nSaturday 10:00am-5:00pm\nClosed Sunday and Monday \n\nAs a 501(c)3 Non-Profit\, our goal is to make memories and create learning opportunities for children in our community.\nYour donation will help children discover\, play\, imagine\, and grow in a safe and nurturing environment. Donate here. 
URL:https://woodlandschildrensmuseum.org/event/eggtivities-1000am-200pm/
LOCATION:The Woodlands Children’s Museum
END:VEVENT
END:VCALENDAR