BEGIN:VCALENDAR
VERSION:2.0
PRODID:-//The Woodlands Children&#039;s Museum - ECPv6.15.20//NONSGML v1.0//EN
CALSCALE:GREGORIAN
METHOD:PUBLISH
X-ORIGINAL-URL:https://woodlandschildrensmuseum.org
X-WR-CALDESC:Events for The Woodlands Children&#039;s Museum
REFRESH-INTERVAL;VALUE=DURATION:PT1H
X-Robots-Tag:noindex
X-PUBLISHED-TTL:PT1H
BEGIN:VTIMEZONE
TZID:America/Chicago
BEGIN:DAYLIGHT
TZOFFSETFROM:-0600
TZOFFSETTO:-0500
TZNAME:CDT
DTSTART:20250309T080000
END:DAYLIGHT
BEGIN:STANDARD
TZOFFSETFROM:-0500
TZOFFSETTO:-0600
TZNAME:CST
DTSTART:20251102T070000
END:STANDARD
BEGIN:DAYLIGHT
TZOFFSETFROM:-0600
TZOFFSETTO:-0500
TZNAME:CDT
DTSTART:20260308T080000
END:DAYLIGHT
BEGIN:STANDARD
TZOFFSETFROM:-0500
TZOFFSETTO:-0600
TZNAME:CST
DTSTART:20261101T070000
END:STANDARD
BEGIN:DAYLIGHT
TZOFFSETFROM:-0600
TZOFFSETTO:-0500
TZNAME:CDT
DTSTART:20270314T080000
END:DAYLIGHT
BEGIN:STANDARD
TZOFFSETFROM:-0500
TZOFFSETTO:-0600
TZNAME:CST
DTSTART:20271107T070000
END:STANDARD
END:VTIMEZONE
BEGIN:VEVENT
DTSTART;TZID=America/Chicago:20260217T080000
DTEND;TZID=America/Chicago:20260217T170000
DTSTAMP:20260423T001956
CREATED:20251124T164833Z
LAST-MODIFIED:20251124T164833Z
UID:10020614-1771315200-1771347600@woodlandschildrensmuseum.org
SUMMARY:Museum OPEN 9:30am-2:00pm
DESCRIPTION:Spring Hours Jan. 2nd – May 30th\nTuesday – Thursday 9:30am-2:00pm\nFriday 9:30am-4:00pm\nSaturday 10:00am-5:00pm\nClosed Sunday and Monday \nAdmission is $9 for adults and children 1 year and older.\nPlease visit here to reserve your timed session tickets.\nMembers FREE. Become a member today\, click here.  \n\nAs a 501(c)3 Non-Profit\, our goal is to make memories and create learning opportunities for children in our community.\nYour donation will help children discover\, play\, imagine\, and grow in a safe and nurturing environment. Donate here 
URL:https://woodlandschildrensmuseum.org/event/museum-open-930am-200pm/2026-02-17/
LOCATION:The Woodlands Children’s Museum
END:VEVENT
BEGIN:VEVENT
DTSTART;TZID=America/Chicago:20260217T093000
DTEND;TZID=America/Chicago:20260217T140000
DTSTAMP:20260423T001956
CREATED:20260112T191012Z
LAST-MODIFIED:20260115T204159Z
UID:10020753-1771320600-1771336800@woodlandschildrensmuseum.org
SUMMARY:Mardi Gras Celebration and INDOOR Parades at 10:30am & 11:30am
DESCRIPTION:Mardi Gras Celebration and Parades ⚜💜💚💛⚜\n9:30am-2:00pm \nJoin us for a Fat Tuesday celebration\, Louisiana-style! Create festive Jester Hats in vibrant Carnival colors and enjoy face painting\, then march through our whimsical Mardi Gras parades at 10:30am and 11:30am. Cap off the festivities with a slice of delicious King Cake upon exiting. Town Center Trolley visit from 9:45am-11:00am. Included in the price of admission\, which is $9 for adults and children 1 year and older. bit.ly/TWCMtickets \n   \nThanks to Montgomery Bakehouse for donating the delicious King Cakes.\n\n \nSpring Hours Jan. 2nd – May 30th\nTuesday – Thursday 9:30am-2:00pm\nFriday 9:30am-4:00pm\nSaturday 10:00am-5:00pm\nClosed Sunday and Monday \n\nAs a 501(c)3 Non-Profit\, our goal is to make memories and create learning opportunities for children in our community.\nYour donation will help children discover\, play\, imagine\, and grow in a safe and nurturing environment. Donate here. 
URL:https://woodlandschildrensmuseum.org/event/mardi-gras-celebration-and-indoor-parades-at-1030am-1130am/
LOCATION:The Woodlands Children’s Museum
END:VEVENT
BEGIN:VEVENT
DTSTART;TZID=America/Chicago:20260217T110000
DTEND;TZID=America/Chicago:20260217T110000
DTSTAMP:20260423T001956
CREATED:20260109T231213Z
LAST-MODIFIED:20260109T231224Z
UID:10020731-1771326000-1771326000@woodlandschildrensmuseum.org
SUMMARY:Boogie Bash-Mardi Gras Boogie
DESCRIPTION:Boogie Bash on Tuesday\, February 17th at 11am\, presents Mardi Gras Boogie. We’re celebrating Mardi Gras today with an introduction to New Orleans jazz\, a “Second Line” scarf activity\, and marching with rhythm instruments.#Dance #Movement #Music #ToddlerMom #Art #ChildrensMuseum #TheWoodlands #WoodlandsMom #TheWoodlandsChildrensMuseum   Included in the price of admission\, which is $9 for adults and children 1 year and older. bit.ly/TWCMtickets \nSpring Hours Jan. 2nd – May 30th\nTuesday – Thursday 9:30am-2:00pm\nFriday 9:30am-4:00pm\nSaturday 10:00am-5:00pm\nClosed Sunday and Monday \n\nAs a 501(c)3 Non-Profit\, our goal is to make memories and create learning opportunities for children in our community.\nYour donation will help children discover\, play\, imagine\, and grow in a safe and nurturing environment. Donate here. 
URL:https://woodlandschildrensmuseum.org/event/boogie-bash-mardi-gras-boogie-5/
LOCATION:The Woodlands Children’s Museum
END:VEVENT
BEGIN:VEVENT
DTSTART;TZID=America/Chicago:20260218T080000
DTEND;TZID=America/Chicago:20260218T170000
DTSTAMP:20260423T001956
CREATED:20251124T164833Z
LAST-MODIFIED:20251124T164833Z
UID:10020615-1771401600-1771434000@woodlandschildrensmuseum.org
SUMMARY:Museum OPEN 9:30am-2:00pm
DESCRIPTION:Spring Hours Jan. 2nd – May 30th\nTuesday – Thursday 9:30am-2:00pm\nFriday 9:30am-4:00pm\nSaturday 10:00am-5:00pm\nClosed Sunday and Monday \nAdmission is $9 for adults and children 1 year and older.\nPlease visit here to reserve your timed session tickets.\nMembers FREE. Become a member today\, click here.  \n\nAs a 501(c)3 Non-Profit\, our goal is to make memories and create learning opportunities for children in our community.\nYour donation will help children discover\, play\, imagine\, and grow in a safe and nurturing environment. Donate here 
URL:https://woodlandschildrensmuseum.org/event/museum-open-930am-200pm/2026-02-18/
LOCATION:The Woodlands Children’s Museum
END:VEVENT
BEGIN:VEVENT
DTSTART;TZID=America/Chicago:20260218T110000
DTEND;TZID=America/Chicago:20260218T110000
DTSTAMP:20260423T001956
CREATED:20260109T235653Z
LAST-MODIFIED:20260109T235735Z
UID:10020748-1771412400-1771412400@woodlandschildrensmuseum.org
SUMMARY:The Learning Zoo Animal Encounters
DESCRIPTION:The Learning Zoo Animal Encounters- Wednesday\, February 18th at 11:00am.  Discover the fascinating world of various animals through this hands-on\, interactive experience. Guests are invited to explore and learn intriguing characteristics and fascinating facts about mammals\, insects\, and reptiles.  Included in the price of admission\, which is $9 for adults and children 1 year and older. bit.ly/TWCMtickets   #Animals #ToddlerMom #Art #ChildrensMuseum #TheWoodlands #WoodlandsMom  #TheWoodlandsChildrensMuseum \nSpring 2026 Hours Jan. 2nd – May 30th\nTuesday-Thursday 9:30am-2:00pm\, Friday 9:30am-4:00pm\, Saturday 10:00am-5:00pm\nClosed Sunday and Monday \n\nAs a 501(c)3 Non-Profit\, our goal is to make memories and create learning opportunities for children in our community.\nYour donation will help children discover\, play\, imagine\, and grow in a safe and nurturing environment. Donate here. 
URL:https://woodlandschildrensmuseum.org/event/the-learning-zoo-animal-encounters-10/
LOCATION:The Woodlands Children’s Museum
END:VEVENT
BEGIN:VEVENT
DTSTART;TZID=America/Chicago:20260219T080000
DTEND;TZID=America/Chicago:20260219T170000
DTSTAMP:20260423T001956
CREATED:20251124T164833Z
LAST-MODIFIED:20251124T164833Z
UID:10020616-1771488000-1771520400@woodlandschildrensmuseum.org
SUMMARY:Museum OPEN 9:30am-2:00pm
DESCRIPTION:Spring Hours Jan. 2nd – May 30th\nTuesday – Thursday 9:30am-2:00pm\nFriday 9:30am-4:00pm\nSaturday 10:00am-5:00pm\nClosed Sunday and Monday \nAdmission is $9 for adults and children 1 year and older.\nPlease visit here to reserve your timed session tickets.\nMembers FREE. Become a member today\, click here.  \n\nAs a 501(c)3 Non-Profit\, our goal is to make memories and create learning opportunities for children in our community.\nYour donation will help children discover\, play\, imagine\, and grow in a safe and nurturing environment. Donate here 
URL:https://woodlandschildrensmuseum.org/event/museum-open-930am-200pm/2026-02-19/
LOCATION:The Woodlands Children’s Museum
END:VEVENT
BEGIN:VEVENT
DTSTART;TZID=America/Chicago:20260219T110000
DTEND;TZID=America/Chicago:20260219T110000
DTSTAMP:20260423T001956
CREATED:20260109T232108Z
LAST-MODIFIED:20260109T232114Z
UID:10020739-1771498800-1771498800@woodlandschildrensmuseum.org
SUMMARY:Shadow Puppet Theatre-This Moose Belongs to Me
DESCRIPTION:Shadow Puppet Theatre\, Thursday\, February 19th at 11am presents “This Moose Belongs to Me” by Oliver Jeffers. Wilfred lives by rules and so does “his” moose\, except for the rule where he is supposed to follow Wilfred whichever way he wants to go! In the end they manage to work things out. Included in the price of admission\, which is $9 for adults and children 1 year and older. bit.ly/TWCMtickets  #ToddlerMom #Art #ChildrensMuseum #TheWoodlands #WoodlandsMom #BookReading #StoryTime #TheWoodlandsChildrensMuseum \nShadow Puppet Theatre is an introduction to storytelling elements that allow our readers and audience to interact directly with each other\, children of all ages are enchanted with the animated shadows. \nSpring Hours Jan. 2nd – May 30th\nTuesday – Thursday 9:30am-2:00pm\nFriday 9:30am-4:00pm\nSaturday 10:00am-5:00pm\nClosed Sunday and Monday \n\nAs a 501(c)3 Non-Profit\, our goal is to make memories and create learning opportunities for children in our community.\nYour donation will help children discover\, play\, imagine\, and grow in a safe and nurturing environment. Donate here. 
URL:https://woodlandschildrensmuseum.org/event/shadow-puppet-theatre-this-moose-belongs-to-me-4/
LOCATION:The Woodlands Children’s Museum
END:VEVENT
BEGIN:VEVENT
DTSTART;TZID=America/Chicago:20260220T080000
DTEND;TZID=America/Chicago:20260220T170000
DTSTAMP:20260423T001956
CREATED:20251124T165036Z
LAST-MODIFIED:20251124T165036Z
UID:10020666-1771574400-1771606800@woodlandschildrensmuseum.org
SUMMARY:Museum OPEN 9:30am-4:00pm
DESCRIPTION:Spring Hours Jan. 2nd – May 30th\nTuesday – Thursday 9:30am-2:00pm\nFriday 9:30am-4:00pm\nSaturday 10:00am-5:00pm\nClosed Sunday and Monday \nAdmission is $9 for adults and children 1 year and older.\nPlease visit here to reserve your timed session tickets.\nMembers FREE. Become a member today\, click here.  \n\nAs a 501(c)3 Non-Profit\, our goal is to make memories and create learning opportunities for children in our community.\nYour donation will help children discover\, play\, imagine\, and grow in a safe and nurturing environment. Donate here 
URL:https://woodlandschildrensmuseum.org/event/museum-open-930am-400pm/2026-02-20/
LOCATION:The Woodlands Children’s Museum
END:VEVENT
BEGIN:VEVENT
DTSTART;TZID=America/Chicago:20260220T110000
DTEND;TZID=America/Chicago:20260220T121500
DTSTAMP:20260423T001956
CREATED:20260109T234239Z
LAST-MODIFIED:20260109T234312Z
UID:10020744-1771585200-1771589700@woodlandschildrensmuseum.org
SUMMARY:Author Visit with Mary Wingfield\, Ed.D.\, and Victoria Fields\, Ph.D.
DESCRIPTION:On February 20 at 11:00am enjoy an author visit with Mary Wingfield\, Ed.D.\, and Victoria Fields\, Ph.D.\, who will read their book “Basil and Bixie: Beaches and Blizzards”.  We are exploring the seasons in this adventure story that is part of the Basil and Bixie series\, which encourages children to use their curiosity to discover science first-hand. Basil and Bixie enjoy all the seasons and find fun activities no matter what the weather while learning why the seasons occur. The book will be read in both English and Spanish on stage; and that will be immediately followed by a meet and greet\, where the authors will sell and sign their books until 12:15pm. Also after the story there will be a hands-on science activity on the stage and an art project in the Muse related to the story.   Included in the price of admission\, which is $9 for adults and children 1 year and older. bit.ly/TWCMtickets  #ToddlerMom #Art #ChildrensMuseum #TheWoodlands #WoodlandsMom #BookReading #StoryTime #TheWoodlandsChildrensMuseum \nSpring Hours Jan. 2nd – May 30th\nTuesday – Thursday 9:30am-2:00pm\nFriday 9:30am-4:00pm\nSaturday 10:00am-5:00pm\nClosed Sunday and Monday \n\nAs a 501(c)3 Non-Profit\, our goal is to make memories and create learning opportunities for children in our community.\nYour donation will help children discover\, play\, imagine\, and grow in a safe and nurturing environment. Donate here. 
URL:https://woodlandschildrensmuseum.org/event/author-visit-with-mary-wingfield-ed-d-and-victoria-fields-ph-d/
LOCATION:The Woodlands Children’s Museum
END:VEVENT
BEGIN:VEVENT
DTSTART;TZID=America/Chicago:20260221T080000
DTEND;TZID=America/Chicago:20260221T170000
DTSTAMP:20260423T001956
CREATED:20251124T165157Z
LAST-MODIFIED:20251124T165157Z
UID:10020688-1771660800-1771693200@woodlandschildrensmuseum.org
SUMMARY:Museum OPEN 10:00am-5:00pm
DESCRIPTION:Spring Hours Jan. 2nd – May 30th\nTuesday – Thursday 9:30am-2:00pm\nFriday 9:30am-4:00pm\nSaturday 10:00am-5:00pm\nClosed Sunday and Monday \nAdmission is $9 for adults and children 1 year and older.\nPlease visit here to reserve your timed session tickets.\nMembers FREE. Become a member today\, click here.  \n\nAs a 501(c)3 Non-Profit\, our goal is to make memories and create learning opportunities for children in our community.\nYour donation will help children discover\, play\, imagine\, and grow in a safe and nurturing environment. Donate here 
URL:https://woodlandschildrensmuseum.org/event/museum-open-1000am-500pm/2026-02-21/
LOCATION:The Woodlands Children’s Museum
END:VEVENT
BEGIN:VEVENT
DTSTART;TZID=America/Chicago:20260221T100000
DTEND;TZID=America/Chicago:20260221T130000
DTSTAMP:20260423T001956
CREATED:20260110T002121Z
LAST-MODIFIED:20260110T002151Z
UID:10020750-1771668000-1771678800@woodlandschildrensmuseum.org
SUMMARY:Studio Art Saturdays Workshop-Texture Monsters for Ages 5-8
DESCRIPTION:  \n \nStudio Art Saturdays Workshop February 21st\, 10am-1pm-Texture Monsters for ages 5-8. While considering all the friendly monsters seen in books and movies\, young monster makers decorate their own paper\, explore the available embellishments\, cut out their monster body parts and explore their own design concept while assembling their little creatures. Click to register. \nUsing various plain and textured paper\, tissue paper\, fabric scraps\, newspaper\, torn images from magazines\, cardboard\, scissors\, hole punches\, paper punches\, handmade stencils\, rubbing plates\, all kinds of colored tape\, glue\, paint of many varieties and colors\, yarn\, wool\, string of all kinds\, recycled materials and using fingers for tearing\, ripping\, snipping and cutting\, this three-hour workshop presents a springboard to create a multitude of inspiring art sculptures\, masks\, self-portraits\, and more.  Using themes such as transparent and opaque\, playing with texture\, big and little\, black and white\, exploring with architecture and more\, children journey through a sensory process\, discovering\, collecting and arranging.  Come join us for artful experiences\, implemented by talented artists and art instructors\, that are sure to start the day out right. Dwell in the possibilities…\nOnline registration is required by the Friday before the session.  PLEASE send child with lunch and a thermos/bottle of water. \n\nSpring Hours Jan. 2nd – May 30th\nTuesday – Thursday 9:30am-2:00pm\nFriday 9:30am-4:00pm\nSaturday 10:00am-5:00pm\nClosed Sunday and Monday \n\nAs a 501(c)3 Non-Profit\, our goal is to make memories and create learning opportunities for children in our community.\nYour donation will help children discover\, play\, imagine\, and grow in a safe and nurturing environment. Donate here. 
URL:https://woodlandschildrensmuseum.org/event/studio-art-saturdays-workshop-texture-monsters-for-ages-5-8-2/
LOCATION:The Woodlands Children’s Museum
END:VEVENT
BEGIN:VEVENT
DTSTART;TZID=America/Chicago:20260221T110000
DTEND;TZID=America/Chicago:20260221T110000
DTSTAMP:20260423T001956
CREATED:20260110T001221Z
LAST-MODIFIED:20260214T183025Z
UID:10020749-1771671600-1771671600@woodlandschildrensmuseum.org
SUMMARY:Woodlands Symphony Orchestra Brass Ensemble performance of Go For The Gold – Olympic Tribute
DESCRIPTION:On Saturday\, February 21st at 11am enjoy the Woodlands Symphony Orchestra Brass Ensemble\, who will perform Go For The Gold – Olympic Tribute. On July 4\, 2026\, our nation will celebrate the 250th anniversary of the signing of the Declaration of Independence\, a moment to reflect on America’s milestones and inspire the next generation of leaders and innovators. To support this historic occasion\, The Woodlands Children’s Museum and the Woodlands Symphony Orchestra have partnered to provide a series of monthly concerts celebrating America’s contribution to the arts. We invite children and families to join us as we celebrate our American story through music! \nSaturday\, February 21 WSO Brass Ensemble performs Go For The Gold – Olympic Tribute\nSaturday\, March 21 WSO Woodwinds Quintet performs American Classical Composers\nSaturday\, April 25 WSO Percussion Ensemble performs Marching To The Beat\nSaturday\, May 16 WSO Brass Quintet performs American Film Composers\nSaturday\, June 6 WSO Experimental Ensemble performs Constellation – NASA Tribute\nFriday\, July 3\, 2026 The WSO Brass with Guest Vocalist\, WSO Woodwinds and WSO Percussion at 10:30am\, 12:30pm\, 2:30pm \n Included in the price of admission\, which is $9 for adults and children 1 year and older. bit.ly/TWCMtickets  #ToddlerMom #Art #ChildrensMuseum #TheWoodlands #WoodlandsMom #BookReading #StoryTime #TheWoodlandsChildrensMuseum \nThank you to our partners!\n                        \nSpring Hours Jan. 2nd – May 30th\nTuesday – Thursday 9:30am-2:00pm\nFriday 9:30am-4:00pm\nSaturday 10:00am-5:00pm\nClosed Sunday and Monday \n\nAs a 501(c)3 Non-Profit\, our goal is to make memories and create learning opportunities for children in our community.\nYour donation will help children discover\, play\, imagine\, and grow in a safe and nurturing environment. Donate here. 
URL:https://woodlandschildrensmuseum.org/event/woodlands-symphony-orchestra-string-quartet-performance-of-give-my-regards-to-broadway/
LOCATION:The Woodlands Children’s Museum
END:VEVENT
END:VCALENDAR