BEGIN:VCALENDAR
VERSION:2.0
PRODID:-//The Woodlands Children&#039;s Museum - ECPv6.15.20//NONSGML v1.0//EN
CALSCALE:GREGORIAN
METHOD:PUBLISH
X-ORIGINAL-URL:https://woodlandschildrensmuseum.org
X-WR-CALDESC:Events for The Woodlands Children&#039;s Museum
REFRESH-INTERVAL;VALUE=DURATION:PT1H
X-Robots-Tag:noindex
X-PUBLISHED-TTL:PT1H
BEGIN:VTIMEZONE
TZID:America/Chicago
BEGIN:DAYLIGHT
TZOFFSETFROM:-0600
TZOFFSETTO:-0500
TZNAME:CDT
DTSTART:20250309T080000
END:DAYLIGHT
BEGIN:STANDARD
TZOFFSETFROM:-0500
TZOFFSETTO:-0600
TZNAME:CST
DTSTART:20251102T070000
END:STANDARD
BEGIN:DAYLIGHT
TZOFFSETFROM:-0600
TZOFFSETTO:-0500
TZNAME:CDT
DTSTART:20260308T080000
END:DAYLIGHT
BEGIN:STANDARD
TZOFFSETFROM:-0500
TZOFFSETTO:-0600
TZNAME:CST
DTSTART:20261101T070000
END:STANDARD
BEGIN:DAYLIGHT
TZOFFSETFROM:-0600
TZOFFSETTO:-0500
TZNAME:CDT
DTSTART:20270314T080000
END:DAYLIGHT
BEGIN:STANDARD
TZOFFSETFROM:-0500
TZOFFSETTO:-0600
TZNAME:CST
DTSTART:20271107T070000
END:STANDARD
END:VTIMEZONE
BEGIN:VEVENT
DTSTART;TZID=America/Chicago:20260203T080000
DTEND;TZID=America/Chicago:20260203T170000
DTSTAMP:20260423T014327
CREATED:20251124T164833Z
LAST-MODIFIED:20251124T164833Z
UID:10020608-1770105600-1770138000@woodlandschildrensmuseum.org
SUMMARY:Museum OPEN 9:30am-2:00pm
DESCRIPTION:Spring Hours Jan. 2nd – May 30th\nTuesday – Thursday 9:30am-2:00pm\nFriday 9:30am-4:00pm\nSaturday 10:00am-5:00pm\nClosed Sunday and Monday \nAdmission is $9 for adults and children 1 year and older.\nPlease visit here to reserve your timed session tickets.\nMembers FREE. Become a member today\, click here.  \n\nAs a 501(c)3 Non-Profit\, our goal is to make memories and create learning opportunities for children in our community.\nYour donation will help children discover\, play\, imagine\, and grow in a safe and nurturing environment. Donate here 
URL:https://woodlandschildrensmuseum.org/event/museum-open-930am-200pm/2026-02-03/
LOCATION:The Woodlands Children’s Museum
END:VEVENT
BEGIN:VEVENT
DTSTART;TZID=America/Chicago:20260203T110000
DTEND;TZID=America/Chicago:20260203T110000
DTSTAMP:20260423T014327
CREATED:20260109T230522Z
LAST-MODIFIED:20260109T230545Z
UID:10020729-1770116400-1770116400@woodlandschildrensmuseum.org
SUMMARY:Boogie Bash-Moving with Scarves and Ribbons
DESCRIPTION:Boogie Bash on Tuesday\, February 3rd at 11am\, presents Moving with Scarves and Ribbons. Children will move rhythmically and expressively to different styles of music while waving scarves and ribbons. Our focus will be on imagination\, creative expression\, following directions\, and having fun!  #Dance #Movement #Music #ToddlerMom #Art #ChildrensMuseum #TheWoodlands #WoodlandsMom #TheWoodlandsChildrensMuseum   Included in the price of admission\, which is $9 for adults and children 1 year and older. bit.ly/TWCMtickets \nSpring Hours Jan. 2nd – May 30th\nTuesday – Thursday 9:30am-2:00pm\nFriday 9:30am-4:00pm\nSaturday 10:00am-5:00pm\nClosed Sunday and Monday \n\nAs a 501(c)3 Non-Profit\, our goal is to make memories and create learning opportunities for children in our community.\nYour donation will help children discover\, play\, imagine\, and grow in a safe and nurturing environment. Donate here. 
URL:https://woodlandschildrensmuseum.org/event/boogie-bash-moving-with-scarves-and-ribbons-3/
LOCATION:The Woodlands Children’s Museum
END:VEVENT
BEGIN:VEVENT
DTSTART;TZID=America/Chicago:20260204T080000
DTEND;TZID=America/Chicago:20260204T170000
DTSTAMP:20260423T014327
CREATED:20251124T164833Z
LAST-MODIFIED:20251124T164833Z
UID:10020609-1770192000-1770224400@woodlandschildrensmuseum.org
SUMMARY:Museum OPEN 9:30am-2:00pm
DESCRIPTION:Spring Hours Jan. 2nd – May 30th\nTuesday – Thursday 9:30am-2:00pm\nFriday 9:30am-4:00pm\nSaturday 10:00am-5:00pm\nClosed Sunday and Monday \nAdmission is $9 for adults and children 1 year and older.\nPlease visit here to reserve your timed session tickets.\nMembers FREE. Become a member today\, click here.  \n\nAs a 501(c)3 Non-Profit\, our goal is to make memories and create learning opportunities for children in our community.\nYour donation will help children discover\, play\, imagine\, and grow in a safe and nurturing environment. Donate here 
URL:https://woodlandschildrensmuseum.org/event/museum-open-930am-200pm/2026-02-04/
LOCATION:The Woodlands Children’s Museum
END:VEVENT
BEGIN:VEVENT
DTSTART;TZID=America/Chicago:20260204T110000
DTEND;TZID=America/Chicago:20260204T110000
DTSTAMP:20260423T014327
CREATED:20260109T235036Z
LAST-MODIFIED:20260109T235043Z
UID:10020746-1770202800-1770202800@woodlandschildrensmuseum.org
SUMMARY:Houston Grand Opera’s Storybook presentation of Ruby's Chinese New Year
DESCRIPTION:  \n       \nHouston Grand Opera’s Storybook presentation of “Ruby’s Chinese New Year” by Vicki Lee on Wednesday\, February 4th at 11:00am. In this story\, Ruby has a special card to give to her grandmother for Chinese New Year. But who will help her get to grandmother’s house to deliver it? Will it be clever Rat\, strong Ox\, or cautious Rabbit? In this Chinese New Year tale\, animals from the Chinese zodiac help a little girl deliver a gift to her grandmother.  Included in the price of admission\, which is $9 for adults and children 1 year and older. bit.ly/TWCMtickets  #Opera #Music #ToddlerMom #Art #ChildrensMuseum #TheWoodlands #WoodlandsMom #TheWoodlandsChildrensMuseum  \nSpring 2026 Hours Jan. 2nd – May 30th\nTuesday-Thursday 9:30am-2:00pm\, Friday 9:30am-4:00pm\, Saturday 10:00am-5:00pm\nClosed Sunday and Monday \n\nAs a 501(c)3 Non-Profit\, our goal is to make memories and create learning opportunities for children in our community.\nYour donation will help children discover\, play\, imagine\, and grow in a safe and nurturing environment. Donate here. 
URL:https://woodlandschildrensmuseum.org/event/houston-grand-operas-storybook-presentation-of-rubys-chinese-new-year/
LOCATION:The Woodlands Children’s Museum
END:VEVENT
BEGIN:VEVENT
DTSTART;TZID=America/Chicago:20260205T080000
DTEND;TZID=America/Chicago:20260205T170000
DTSTAMP:20260423T014327
CREATED:20251124T164833Z
LAST-MODIFIED:20251124T164833Z
UID:10020610-1770278400-1770310800@woodlandschildrensmuseum.org
SUMMARY:Museum OPEN 9:30am-2:00pm
DESCRIPTION:Spring Hours Jan. 2nd – May 30th\nTuesday – Thursday 9:30am-2:00pm\nFriday 9:30am-4:00pm\nSaturday 10:00am-5:00pm\nClosed Sunday and Monday \nAdmission is $9 for adults and children 1 year and older.\nPlease visit here to reserve your timed session tickets.\nMembers FREE. Become a member today\, click here.  \n\nAs a 501(c)3 Non-Profit\, our goal is to make memories and create learning opportunities for children in our community.\nYour donation will help children discover\, play\, imagine\, and grow in a safe and nurturing environment. Donate here 
URL:https://woodlandschildrensmuseum.org/event/museum-open-930am-200pm/2026-02-05/
LOCATION:The Woodlands Children’s Museum
END:VEVENT
BEGIN:VEVENT
DTSTART;TZID=America/Chicago:20260205T110000
DTEND;TZID=America/Chicago:20260205T110000
DTSTAMP:20260423T014327
CREATED:20260109T231713Z
LAST-MODIFIED:20260109T231722Z
UID:10020737-1770289200-1770289200@woodlandschildrensmuseum.org
SUMMARY:Shadow Puppet Theatre-Mr. Brown Can Moo! Can You?
DESCRIPTION:Shadow Puppet Theatre\, Thursday\, February 5th at 11am presents “Mr. Brown Can Moo! Can You?” by Dr. Seuss. This delightful Dr. Seuss classic encourages children to use their imaginations along with Mr. Brown to create the sounds of the world around them including the “buzz buzz” of a bee and the “pip” of a goldfish kiss!  Included in the price of admission\, which is $9 for adults and children 1 year and older. bit.ly/TWCMtickets  #ToddlerMom #Art #ChildrensMuseum #TheWoodlands #WoodlandsMom #BookReading #StoryTime #TheWoodlandsChildrensMuseum \nShadow Puppet Theatre is an introduction to storytelling elements that allow our readers and audience to interact directly with each other\, children of all ages are enchanted with the animated shadows. \nSpring Hours Jan. 2nd – May 30th\nTuesday – Thursday 9:30am-2:00pm\nFriday 9:30am-4:00pm\nSaturday 10:00am-5:00pm\nClosed Sunday and Monday \n\nAs a 501(c)3 Non-Profit\, our goal is to make memories and create learning opportunities for children in our community.\nYour donation will help children discover\, play\, imagine\, and grow in a safe and nurturing environment. Donate here. 
URL:https://woodlandschildrensmuseum.org/event/shadow-puppet-theatre-mr-brown-can-moo-can-you-4/
LOCATION:The Woodlands Children’s Museum
END:VEVENT
BEGIN:VEVENT
DTSTART;TZID=America/Chicago:20260206T080000
DTEND;TZID=America/Chicago:20260206T170000
DTSTAMP:20260423T014327
CREATED:20251124T165036Z
LAST-MODIFIED:20251124T165036Z
UID:10020664-1770364800-1770397200@woodlandschildrensmuseum.org
SUMMARY:Museum OPEN 9:30am-4:00pm
DESCRIPTION:Spring Hours Jan. 2nd – May 30th\nTuesday – Thursday 9:30am-2:00pm\nFriday 9:30am-4:00pm\nSaturday 10:00am-5:00pm\nClosed Sunday and Monday \nAdmission is $9 for adults and children 1 year and older.\nPlease visit here to reserve your timed session tickets.\nMembers FREE. Become a member today\, click here.  \n\nAs a 501(c)3 Non-Profit\, our goal is to make memories and create learning opportunities for children in our community.\nYour donation will help children discover\, play\, imagine\, and grow in a safe and nurturing environment. Donate here 
URL:https://woodlandschildrensmuseum.org/event/museum-open-930am-400pm/2026-02-06/
LOCATION:The Woodlands Children’s Museum
END:VEVENT
BEGIN:VEVENT
DTSTART;TZID=America/Chicago:20260206T110000
DTEND;TZID=America/Chicago:20260206T110000
DTSTAMP:20260423T014327
CREATED:20260109T232751Z
LAST-MODIFIED:20260109T232758Z
UID:10020741-1770375600-1770375600@woodlandschildrensmuseum.org
SUMMARY:Storybook Theatre-Tacky and the Winter Games
DESCRIPTION:Storybook Theatre\, Friday\, February 6th at 11am presents “Tacky and the Winter Games” by Helen Lester. The Opening Ceremony of the Winter Olympics is tonight\, and this is the perfect story to celebrate sportsmanship\, determination\, competition\, and the thrill of the games! Children will delight in the antics of Tacky and his fellow penguin friends as they participate in the winter games. Included in the price of admission\, which is $9 for adults and children 1 year and older. bit.ly/TWCMtickets  #ToddlerMom #Art #ChildrensMuseum #TheWoodlands #WoodlandsMom #BookReading #StoryTime #TheWoodlandsChildrensMuseum \nCultivate a lifelong appreciation for literature by introducing your child to the enchantment of reading at a young age. Storybook Theatre seamlessly integrates beloved childhood stories with engaging elements such as songs\, rhymes\, and fingerplays\, fostering early literacy skills and enhancing language development in a dynamic and entertaining manner. \nSpring Hours Jan. 2nd – May 30th\nTuesday – Thursday 9:30am-2:00pm\nFriday 9:30am-4:00pm\nSaturday 10:00am-5:00pm\nClosed Sunday and Monday \n\nAs a 501(c)3 Non-Profit\, our goal is to make memories and create learning opportunities for children in our community.\nYour donation will help children discover\, play\, imagine\, and grow in a safe and nurturing environment. Donate here. 
URL:https://woodlandschildrensmuseum.org/event/storybook-theatre-tacky-and-the-winter-games/
LOCATION:The Woodlands Children’s Museum
END:VEVENT
BEGIN:VEVENT
DTSTART;TZID=America/Chicago:20260207T080000
DTEND;TZID=America/Chicago:20260207T170000
DTSTAMP:20260423T014327
CREATED:20251124T165157Z
LAST-MODIFIED:20251124T165157Z
UID:10020686-1770451200-1770483600@woodlandschildrensmuseum.org
SUMMARY:Museum OPEN 10:00am-5:00pm
DESCRIPTION:Spring Hours Jan. 2nd – May 30th\nTuesday – Thursday 9:30am-2:00pm\nFriday 9:30am-4:00pm\nSaturday 10:00am-5:00pm\nClosed Sunday and Monday \nAdmission is $9 for adults and children 1 year and older.\nPlease visit here to reserve your timed session tickets.\nMembers FREE. Become a member today\, click here.  \n\nAs a 501(c)3 Non-Profit\, our goal is to make memories and create learning opportunities for children in our community.\nYour donation will help children discover\, play\, imagine\, and grow in a safe and nurturing environment. Donate here 
URL:https://woodlandschildrensmuseum.org/event/museum-open-1000am-500pm/2026-02-07/
LOCATION:The Woodlands Children’s Museum
END:VEVENT
BEGIN:VEVENT
DTSTART;TZID=America/Chicago:20260207T150000
DTEND;TZID=America/Chicago:20260207T170000
DTSTAMP:20260423T014327
CREATED:20260112T214135Z
LAST-MODIFIED:20260130T163334Z
UID:10020754-1770476400-1770483600@woodlandschildrensmuseum.org
SUMMARY:Summer of STEAM Saturday Sneak Peek
DESCRIPTION:Summer of STEAM Saturday Sneak Peek!\nSaturday\, February 7th 3pm-5pm\nWe invite you to a special FREE preview of our upcoming summer workshops. Instructors will be available to answer your questions and discuss the science\, art\, and technology focuses of our most popular workshops. You’ll even get to try a summer project with hands-on activities like Lego ® Animation and Medieval Marvels. \nPaid admission to the museum is required for any Sneak Peek attendees wishing to play in the museum before or after the event.\nEarly bird discount codes for the Summer 2026 Workshop registration will be offered to all who register and attend this event. (One per family). \nClick for your ZERO cost registration to this event.  \n  \nSpring Hours Jan. 2nd – May 30th\nTuesday – Thursday 9:30am-2:00pm\nFriday 9:30am-4:00pm\nSaturday 10:00am-5:00pm\nClosed Sunday and Monday \n\nAs a 501(c)3 Non-Profit\, our goal is to make memories and create learning opportunities for children in our community.\nYour donation will help children discover\, play\, imagine\, and grow in a safe and nurturing environment. Donate here. 
URL:https://woodlandschildrensmuseum.org/event/summer-of-steam-saturday-sneak-peek/
LOCATION:The Woodlands Children’s Museum
END:VEVENT
END:VCALENDAR