BEGIN:VCALENDAR
VERSION:2.0
PRODID:-//The Woodlands Children&#039;s Museum - ECPv6.15.20//NONSGML v1.0//EN
CALSCALE:GREGORIAN
METHOD:PUBLISH
X-ORIGINAL-URL:https://woodlandschildrensmuseum.org
X-WR-CALDESC:Events for The Woodlands Children&#039;s Museum
REFRESH-INTERVAL;VALUE=DURATION:PT1H
X-Robots-Tag:noindex
X-PUBLISHED-TTL:PT1H
BEGIN:VTIMEZONE
TZID:America/Chicago
BEGIN:DAYLIGHT
TZOFFSETFROM:-0600
TZOFFSETTO:-0500
TZNAME:CDT
DTSTART:20250309T080000
END:DAYLIGHT
BEGIN:STANDARD
TZOFFSETFROM:-0500
TZOFFSETTO:-0600
TZNAME:CST
DTSTART:20251102T070000
END:STANDARD
BEGIN:DAYLIGHT
TZOFFSETFROM:-0600
TZOFFSETTO:-0500
TZNAME:CDT
DTSTART:20260308T080000
END:DAYLIGHT
BEGIN:STANDARD
TZOFFSETFROM:-0500
TZOFFSETTO:-0600
TZNAME:CST
DTSTART:20261101T070000
END:STANDARD
BEGIN:DAYLIGHT
TZOFFSETFROM:-0600
TZOFFSETTO:-0500
TZNAME:CDT
DTSTART:20270314T080000
END:DAYLIGHT
BEGIN:STANDARD
TZOFFSETFROM:-0500
TZOFFSETTO:-0600
TZNAME:CST
DTSTART:20271107T070000
END:STANDARD
END:VTIMEZONE
BEGIN:VEVENT
DTSTART;TZID=America/Chicago:20260127T080000
DTEND;TZID=America/Chicago:20260127T170000
DTSTAMP:20260423T025844
CREATED:20251124T164833Z
LAST-MODIFIED:20251124T164833Z
UID:10020605-1769500800-1769533200@woodlandschildrensmuseum.org
SUMMARY:Museum OPEN 9:30am-2:00pm
DESCRIPTION:Spring Hours Jan. 2nd – May 30th\nTuesday – Thursday 9:30am-2:00pm\nFriday 9:30am-4:00pm\nSaturday 10:00am-5:00pm\nClosed Sunday and Monday \nAdmission is $9 for adults and children 1 year and older.\nPlease visit here to reserve your timed session tickets.\nMembers FREE. Become a member today\, click here.  \n\nAs a 501(c)3 Non-Profit\, our goal is to make memories and create learning opportunities for children in our community.\nYour donation will help children discover\, play\, imagine\, and grow in a safe and nurturing environment. Donate here 
URL:https://woodlandschildrensmuseum.org/event/museum-open-930am-200pm/2026-01-27/
LOCATION:The Woodlands Children’s Museum
END:VEVENT
BEGIN:VEVENT
DTSTART;TZID=America/Chicago:20260127T110000
DTEND;TZID=America/Chicago:20260127T110000
DTSTAMP:20260423T025844
CREATED:20251124T171003Z
LAST-MODIFIED:20251124T171004Z
UID:10020710-1769511600-1769511600@woodlandschildrensmuseum.org
SUMMARY:Boogie Bash-Bean Bag Boogie
DESCRIPTION:Boogie Bash on Tuesday\, January 27th at 11am\, presents Bean Bag Boogie. We’ll be enjoying bean bag movement songs that teach children to follow directions\, move rhythmically\, and develop coordination and motor skills. #Dance #Movement #Music #ToddlerMom #Art #ChildrensMuseum #TheWoodlands #WoodlandsMom #TheWoodlandsChildrensMuseum   Included in the price of admission\, which is $9 for adults and children 1 year and older. bit.ly/TWCMtickets \nSpring Hours Jan. 2nd – May 30th\nTuesday – Thursday 9:30am-2:00pm \nFriday 9:30am-4:00pm\nSaturday 10:00am-5:00pm\nClosed Sunday and Monday \n\nAs a 501(c)3 Non-Profit\, our goal is to make memories and create learning opportunities for children in our community.\nYour donation will help children discover\, play\, imagine\, and grow in a safe and nurturing environment. Donate here. 
URL:https://woodlandschildrensmuseum.org/event/boogie-bash-162-5/
LOCATION:The Woodlands Children’s Museum
END:VEVENT
BEGIN:VEVENT
DTSTART;TZID=America/Chicago:20260128T080000
DTEND;TZID=America/Chicago:20260128T170000
DTSTAMP:20260423T025844
CREATED:20251124T164833Z
LAST-MODIFIED:20251124T164833Z
UID:10020606-1769587200-1769619600@woodlandschildrensmuseum.org
SUMMARY:Museum OPEN 9:30am-2:00pm
DESCRIPTION:Spring Hours Jan. 2nd – May 30th\nTuesday – Thursday 9:30am-2:00pm\nFriday 9:30am-4:00pm\nSaturday 10:00am-5:00pm\nClosed Sunday and Monday \nAdmission is $9 for adults and children 1 year and older.\nPlease visit here to reserve your timed session tickets.\nMembers FREE. Become a member today\, click here.  \n\nAs a 501(c)3 Non-Profit\, our goal is to make memories and create learning opportunities for children in our community.\nYour donation will help children discover\, play\, imagine\, and grow in a safe and nurturing environment. Donate here 
URL:https://woodlandschildrensmuseum.org/event/museum-open-930am-200pm/2026-01-28/
LOCATION:The Woodlands Children’s Museum
END:VEVENT
BEGIN:VEVENT
DTSTART;TZID=America/Chicago:20260129T080000
DTEND;TZID=America/Chicago:20260129T170000
DTSTAMP:20260423T025844
CREATED:20251124T164833Z
LAST-MODIFIED:20251124T164833Z
UID:10020607-1769673600-1769706000@woodlandschildrensmuseum.org
SUMMARY:Museum OPEN 9:30am-2:00pm
DESCRIPTION:Spring Hours Jan. 2nd – May 30th\nTuesday – Thursday 9:30am-2:00pm\nFriday 9:30am-4:00pm\nSaturday 10:00am-5:00pm\nClosed Sunday and Monday \nAdmission is $9 for adults and children 1 year and older.\nPlease visit here to reserve your timed session tickets.\nMembers FREE. Become a member today\, click here.  \n\nAs a 501(c)3 Non-Profit\, our goal is to make memories and create learning opportunities for children in our community.\nYour donation will help children discover\, play\, imagine\, and grow in a safe and nurturing environment. Donate here 
URL:https://woodlandschildrensmuseum.org/event/museum-open-930am-200pm/2026-01-29/
LOCATION:The Woodlands Children’s Museum
END:VEVENT
BEGIN:VEVENT
DTSTART;TZID=America/Chicago:20260129T110000
DTEND;TZID=America/Chicago:20260129T110000
DTSTAMP:20260423T025844
CREATED:20251124T171914Z
LAST-MODIFIED:20251125T195114Z
UID:10020714-1769684400-1769684400@woodlandschildrensmuseum.org
SUMMARY:Shadow Puppet Theatre-Sadie and the Snowman
DESCRIPTION:Shadow Puppet Theatre\, Thursday\, January 29th at 11am presents “Sadie and the Snowman” by Allen Morgan. With spring approaching\, Sadie worries about her snowman being able to stick around!  Included in the price of admission\, which is $9 for adults and children 1 year and older. bit.ly/TWCMtickets  #ToddlerMom #Art #ChildrensMuseum #TheWoodlands #WoodlandsMom #BookReading #StoryTime #TheWoodlandsChildrensMuseum \nShadow Puppet Theatre is an introduction to storytelling elements that allow our readers and audience to interact directly with each other\, children of all ages are enchanted with the animated shadows. \nSpring Hours Jan. 2nd – May 30th\nTuesday – Thursday 9:30am-2:00pm\nFriday 9:30am-4:00pm\nSaturday 10:00am-5:00pm\nClosed Sunday and Monday \n\nAs a 501(c)3 Non-Profit\, our goal is to make memories and create learning opportunities for children in our community.\nYour donation will help children discover\, play\, imagine\, and grow in a safe and nurturing environment. Donate here. 
URL:https://woodlandschildrensmuseum.org/event/shadow-puppet-theatre-162-5/
LOCATION:The Woodlands Children’s Museum
END:VEVENT
BEGIN:VEVENT
DTSTART;TZID=America/Chicago:20260130T080000
DTEND;TZID=America/Chicago:20260130T170000
DTSTAMP:20260423T025844
CREATED:20251124T165036Z
LAST-MODIFIED:20251124T165036Z
UID:10020663-1769760000-1769792400@woodlandschildrensmuseum.org
SUMMARY:Museum OPEN 9:30am-4:00pm
DESCRIPTION:Spring Hours Jan. 2nd – May 30th\nTuesday – Thursday 9:30am-2:00pm\nFriday 9:30am-4:00pm\nSaturday 10:00am-5:00pm\nClosed Sunday and Monday \nAdmission is $9 for adults and children 1 year and older.\nPlease visit here to reserve your timed session tickets.\nMembers FREE. Become a member today\, click here.  \n\nAs a 501(c)3 Non-Profit\, our goal is to make memories and create learning opportunities for children in our community.\nYour donation will help children discover\, play\, imagine\, and grow in a safe and nurturing environment. Donate here 
URL:https://woodlandschildrensmuseum.org/event/museum-open-930am-400pm/2026-01-30/
LOCATION:The Woodlands Children’s Museum
END:VEVENT
BEGIN:VEVENT
DTSTART;TZID=America/Chicago:20260130T110000
DTEND;TZID=America/Chicago:20260130T121500
DTSTAMP:20260423T025844
CREATED:20251124T173444Z
LAST-MODIFIED:20251124T192244Z
UID:10020719-1769770800-1769775300@woodlandschildrensmuseum.org
SUMMARY:Author visit with Alisa & Alejandro Magallón who will read "If You Sing a Song to a Dragon"
DESCRIPTION:Friday\, January 30th at 11am Author visit with Alisa & Alejandro Magallón\, who will read “If You Sing a Song to a Dragon”. Dragons tend to get cranky if they don’t get enough sleep\, just like children. However\, there is a secret way to tame a tired dragon and improve its mood. Our special guests\, Alisa (author and founder of Classical Sing Move Play) and Alejandro (classically trained tenor and translator) are treating us to a bilingual reading and singing storytime today. That will be immediately followed by a meet and greet\, where they will sell and sign their books until 12:15. Included in the price of admission\, which is $9 for adults and children 1 year and older. bit.ly/TWCMtickets  #ToddlerMom #Art #ChildrensMuseum #TheWoodlands #WoodlandsMom #BookReading #StoryTime #TheWoodlandsChildrensMuseum \nSpring Hours Jan. 2nd – May 30th\nTuesday – Thursday 9:30am-2:00pm\nFriday 9:30am-4:00pm\nSaturday 10:00am-5:00pm\nClosed Sunday and Monday \n\nAs a 501(c)3 Non-Profit\, our goal is to make memories and create learning opportunities for children in our community.\nYour donation will help children discover\, play\, imagine\, and grow in a safe and nurturing environment. Donate here. 
URL:https://woodlandschildrensmuseum.org/event/storybook-theatre-151-6/
LOCATION:The Woodlands Children’s Museum
END:VEVENT
BEGIN:VEVENT
DTSTART;TZID=America/Chicago:20260131T080000
DTEND;TZID=America/Chicago:20260131T170000
DTSTAMP:20260423T025844
CREATED:20251124T165157Z
LAST-MODIFIED:20251124T165157Z
UID:10020685-1769846400-1769878800@woodlandschildrensmuseum.org
SUMMARY:Museum OPEN 10:00am-5:00pm
DESCRIPTION:Spring Hours Jan. 2nd – May 30th\nTuesday – Thursday 9:30am-2:00pm\nFriday 9:30am-4:00pm\nSaturday 10:00am-5:00pm\nClosed Sunday and Monday \nAdmission is $9 for adults and children 1 year and older.\nPlease visit here to reserve your timed session tickets.\nMembers FREE. Become a member today\, click here.  \n\nAs a 501(c)3 Non-Profit\, our goal is to make memories and create learning opportunities for children in our community.\nYour donation will help children discover\, play\, imagine\, and grow in a safe and nurturing environment. Donate here 
URL:https://woodlandschildrensmuseum.org/event/museum-open-1000am-500pm/2026-01-31/
LOCATION:The Woodlands Children’s Museum
END:VEVENT
BEGIN:VEVENT
DTSTART;TZID=America/Chicago:20260131T103000
DTEND;TZID=America/Chicago:20260131T120000
DTSTAMP:20260423T025844
CREATED:20260112T162902Z
LAST-MODIFIED:20260112T162921Z
UID:10020752-1769855400-1769860800@woodlandschildrensmuseum.org
SUMMARY:Andyroo and the Andyroonivers performances at 10:30am and noon
DESCRIPTION:Andyroo and the Andyroonivers\nOn Saturday\, January 31st\, 2026\, at 10:30am and noon\, join AndyRoo on a musical journey to the AndyRooniverse — a magical town created by the ever-expanding landscape of children’s imaginations. Included in the price of admission\, which is $9 for adults and children 1 year and older. bit.ly/TWCMtickets \nSpring Hours Jan. 2nd – May 30th\nTuesday – Thursday 9:30am-2:00pm\nFriday 9:30am-4:00pm\nSaturday 10:00am-5:00pm\nClosed Sunday and Monday \n\nAs a 501(c)3 Non-Profit\, our goal is to make memories and create learning opportunities for children in our community.\nYour donation will help children discover\, play\, imagine\, and grow in a safe and nurturing environment. Donate here. 
URL:https://woodlandschildrensmuseum.org/event/andyroo-and-the-andyroonivers-performances-at-1030am-and-noon/
LOCATION:The Woodlands Children’s Museum
END:VEVENT
END:VCALENDAR