BEGIN:VCALENDAR
VERSION:2.0
PRODID:-//The Woodlands Children&#039;s Museum - ECPv6.15.20//NONSGML v1.0//EN
CALSCALE:GREGORIAN
METHOD:PUBLISH
X-ORIGINAL-URL:https://woodlandschildrensmuseum.org
X-WR-CALDESC:Events for The Woodlands Children&#039;s Museum
REFRESH-INTERVAL;VALUE=DURATION:PT1H
X-Robots-Tag:noindex
X-PUBLISHED-TTL:PT1H
BEGIN:VTIMEZONE
TZID:America/Chicago
BEGIN:DAYLIGHT
TZOFFSETFROM:-0600
TZOFFSETTO:-0500
TZNAME:CDT
DTSTART:20240310T080000
END:DAYLIGHT
BEGIN:STANDARD
TZOFFSETFROM:-0500
TZOFFSETTO:-0600
TZNAME:CST
DTSTART:20241103T070000
END:STANDARD
BEGIN:DAYLIGHT
TZOFFSETFROM:-0600
TZOFFSETTO:-0500
TZNAME:CDT
DTSTART:20250309T080000
END:DAYLIGHT
BEGIN:STANDARD
TZOFFSETFROM:-0500
TZOFFSETTO:-0600
TZNAME:CST
DTSTART:20251102T070000
END:STANDARD
BEGIN:DAYLIGHT
TZOFFSETFROM:-0600
TZOFFSETTO:-0500
TZNAME:CDT
DTSTART:20260308T080000
END:DAYLIGHT
BEGIN:STANDARD
TZOFFSETFROM:-0500
TZOFFSETTO:-0600
TZNAME:CST
DTSTART:20261101T070000
END:STANDARD
BEGIN:DAYLIGHT
TZOFFSETFROM:-0600
TZOFFSETTO:-0500
TZNAME:CDT
DTSTART:20270314T080000
END:DAYLIGHT
BEGIN:STANDARD
TZOFFSETFROM:-0500
TZOFFSETTO:-0600
TZNAME:CST
DTSTART:20271107T070000
END:STANDARD
END:VTIMEZONE
BEGIN:VEVENT
DTSTART;TZID=America/Chicago:20251230T093000
DTEND;TZID=America/Chicago:20251230T093000
DTSTAMP:20260423T013612
CREATED:20240723T201350Z
LAST-MODIFIED:20251024T201329Z
UID:10020037-1767087000-1767087000@woodlandschildrensmuseum.org
SUMMARY:Museum Open
DESCRIPTION:Fall Hours: August 12th-December 30th\nTuesday-Thursday 9:30am-2:00pm\, Friday 9:30am-4:00pm\, Saturday 10:00am-5:00pm\nClosed Sunday and Monday \nAdmission is $9 for adults and children 1 year and older. Please visit here to reserve your timed session tickets. \nMembers FREE. Become a member today\, click here.  \n\nAs a 501(c)3 Non-Profit\, our goal is to make memories and create learning opportunities for children in our community.\nYour donation will help children discover\, play\, imagine\, and grow in a safe and nurturing environment. Donate here 
URL:https://woodlandschildrensmuseum.org/event/museum-open-25-2/2025-12-30/
LOCATION:The Woodlands Children’s Museum
END:VEVENT
BEGIN:VEVENT
DTSTART;TZID=America/Chicago:20251230T100000
DTEND;TZID=America/Chicago:20251230T130000
DTSTAMP:20260423T013612
CREATED:20251024T202518Z
LAST-MODIFIED:20251024T202528Z
UID:10020578-1767088800-1767099600@woodlandschildrensmuseum.org
SUMMARY:Monty the Magician Magic Shows 10:00am\, 11:00am\, 12:00pm and 1:00pm
DESCRIPTION:Monty the Magician Magic Shows\, Tuesday\, December 30th\, 10:00am\, 11:00am\, 12:00pm and 1:00pm. Included in the price of admission\, which is $9 for adults and children 1 year and older. bit.ly/TWCMtickets #ToddlerMom #Art #ChildrensMuseum #TheWoodlands #WoodlandsMom #Magic #TheWoodlandsChildrensMuseum \n  \nFall Hours\nTuesday-Thursday 9:30am-2:00pm\, Friday 9:30am-4:00pm\, Saturday 10:00am-5:00pm\nClosed Sunday and Monday \n\nAs a 501(c)3 Non-Profit\, our goal is to make memories and create learning opportunities for children in our community.\nYour donation will help children discover\, play\, imagine\, and grow in a safe and nurturing environment. Donate here. 
URL:https://woodlandschildrensmuseum.org/event/monty-the-magician-magic-shows-1000am-1100am-1200pm-and-100pm/
LOCATION:The Woodlands Children’s Museum
END:VEVENT
BEGIN:VEVENT
DTSTART;TZID=America/Chicago:20251231T093000
DTEND;TZID=America/Chicago:20251231T153000
DTSTAMP:20260423T013612
CREATED:20251024T201931Z
LAST-MODIFIED:20251106T164756Z
UID:10020576-1767173400-1767195000@woodlandschildrensmuseum.org
SUMMARY:High Noon Countdown
DESCRIPTION:   \nHigh Noon Countdown\nWednesday\, December 31st\n9:30am-11:00am\, 11:45am-1:15pm\, 2:00pm-3:30pm\nRing in the New Year with a balloon drop extravaganza with your little ones!\nJoin us Wednesday\, December 31st for High Noon Countdown\, offered at 9:30am-11:00am\, 11:45am-1:15pm\, 2:00pm-3:30pm.\nCreate festive New Year’s hats and a time capsule to capture memories to share in the future. Get ready to pop and bop in our bubble wrap dance room and enjoy Tom’s Fun Band who will be rocking the house with their upbeat tunes\, making this a New Year’s Eve one to remember. Enjoy a delicious New Year’s punch upon exiting. #ToddlerMom #Art #ChildrensMuseum #TheWoodlands #WoodlandsMom #TheWoodlandsChildrensMuseum #HolidaySeason2025 \n$10 Adults\, $25 Children\, Under 1 year old free.  Click for tickets. \n  \nThank you to Sonic and 1/2 Price Boxes for supporting High Noon Countdown.\n     \nFall Hours (NEW OPEN TIME)\nTuesday-Thursday 9:30am-2:00pm\nFriday 9:30am-4:00pm\nSaturday 10:00am-5:00pm\nClosed Sunday and Monday \n\nAs a 501(c)3 Non-Profit\, our goal is to make memories and create learning opportunities for children in our community.\nYour donation will help children discover\, play\, imagine\, and grow in a safe and nurturing environment. Donate here 
URL:https://woodlandschildrensmuseum.org/event/high-noon-countdown-6/
LOCATION:The Woodlands Children’s Museum
END:VEVENT
BEGIN:VEVENT
DTSTART;TZID=America/Chicago:20251231T093000
DTEND;TZID=America/Chicago:20251231T153000
DTSTAMP:20260423T013612
CREATED:20251024T202038Z
LAST-MODIFIED:20251024T202107Z
UID:10020577-1767173400-1767195000@woodlandschildrensmuseum.org
SUMMARY:Museum open ONLY for HIGH NOON COUNTDOWN
DESCRIPTION:
URL:https://woodlandschildrensmuseum.org/event/museum-open-only-for-high-noon-countdown/
LOCATION:The Woodlands Children’s Museum
END:VEVENT
BEGIN:VEVENT
DTSTART;TZID=America/Chicago:20260102T080000
DTEND;TZID=America/Chicago:20260102T170000
DTSTAMP:20260423T013612
CREATED:20251124T165036Z
LAST-MODIFIED:20251124T165036Z
UID:10020659-1767340800-1767373200@woodlandschildrensmuseum.org
SUMMARY:Museum OPEN 9:30am-4:00pm
DESCRIPTION:Spring Hours Jan. 2nd – May 30th\nTuesday – Thursday 9:30am-2:00pm\nFriday 9:30am-4:00pm\nSaturday 10:00am-5:00pm\nClosed Sunday and Monday \nAdmission is $9 for adults and children 1 year and older.\nPlease visit here to reserve your timed session tickets.\nMembers FREE. Become a member today\, click here.  \n\nAs a 501(c)3 Non-Profit\, our goal is to make memories and create learning opportunities for children in our community.\nYour donation will help children discover\, play\, imagine\, and grow in a safe and nurturing environment. Donate here 
URL:https://woodlandschildrensmuseum.org/event/museum-open-930am-400pm/2026-01-02/
LOCATION:The Woodlands Children’s Museum
END:VEVENT
BEGIN:VEVENT
DTSTART;TZID=America/Chicago:20260102T110000
DTEND;TZID=America/Chicago:20260102T110000
DTSTAMP:20260423T013612
CREATED:20251124T172403Z
LAST-MODIFIED:20251125T195303Z
UID:10020715-1767351600-1767351600@woodlandschildrensmuseum.org
SUMMARY:Storybook Theatre-Squirrel’s New Year’s Resolution
DESCRIPTION:Storybook Theatre\, Friday\, January 2nd at 11am presents “Squirrel’s New Year’s Resolution’ by Pat Miller. Squirrel learns about making resolutions and helps her friends with theirs. However\, she struggles to find a resolution for herself!  Included in the price of admission\, which is $9 for adults and children 1 year and older. bit.ly/TWCMtickets  #ToddlerMom #Art #ChildrensMuseum #TheWoodlands #WoodlandsMom #BookReading #StoryTime #TheWoodlandsChildrensMuseum \nCultivate a lifelong appreciation for literature by introducing your child to the enchantment of reading at a young age. Storybook Theatre seamlessly integrates beloved childhood stories with engaging elements such as songs\, rhymes\, and fingerplays\, fostering early literacy skills and enhancing language development in a dynamic and entertaining manner. \nSpring Hours Jan. 2nd – May 30th\nTuesday – Thursday 9:30am-2:00pm\nFriday 9:30am-4:00pm\nSaturday 10:00am-5:00pm\nClosed Sunday and Monday \n\nAs a 501(c)3 Non-Profit\, our goal is to make memories and create learning opportunities for children in our community.\nYour donation will help children discover\, play\, imagine\, and grow in a safe and nurturing environment. Donate here. 
URL:https://woodlandschildrensmuseum.org/event/storybook-theatre-151-2/
LOCATION:The Woodlands Children’s Museum
END:VEVENT
BEGIN:VEVENT
DTSTART;TZID=America/Chicago:20260103T080000
DTEND;TZID=America/Chicago:20260103T170000
DTSTAMP:20260423T013612
CREATED:20251124T165157Z
LAST-MODIFIED:20251124T165157Z
UID:10020681-1767427200-1767459600@woodlandschildrensmuseum.org
SUMMARY:Museum OPEN 10:00am-5:00pm
DESCRIPTION:Spring Hours Jan. 2nd – May 30th\nTuesday – Thursday 9:30am-2:00pm\nFriday 9:30am-4:00pm\nSaturday 10:00am-5:00pm\nClosed Sunday and Monday \nAdmission is $9 for adults and children 1 year and older.\nPlease visit here to reserve your timed session tickets.\nMembers FREE. Become a member today\, click here.  \n\nAs a 501(c)3 Non-Profit\, our goal is to make memories and create learning opportunities for children in our community.\nYour donation will help children discover\, play\, imagine\, and grow in a safe and nurturing environment. Donate here 
URL:https://woodlandschildrensmuseum.org/event/museum-open-1000am-500pm/2026-01-03/
LOCATION:The Woodlands Children’s Museum
END:VEVENT
BEGIN:VEVENT
DTSTART;TZID=America/Chicago:20260103T103000
DTEND;TZID=America/Chicago:20260103T133000
DTSTAMP:20260423T013612
CREATED:20251124T174016Z
LAST-MODIFIED:20251212T195728Z
UID:10020720-1767436200-1767447000@woodlandschildrensmuseum.org
SUMMARY:Will Parker Musical Performances at 10:30am\, 11:30am\, 12:30pm\, 1:30pm
DESCRIPTION:Join us on Sat. Jan. 3rd for children’s musician Will Parker\, musical performances at 10:30am\, 11:30am\, 12:30pm\, 1:30pm. Included in the price of admission\, which is $9 for adults and children 1 year and older. bit.ly/TWCMtickets #ToddlerMom #Art #ChildrensMuseum #TheWoodlands #WoodlandsMom  #TheWoodlandsChildrensMuseum \nSpring Hours Jan. 2nd – May 30th\nTuesday – Thursday 9:30am-2:00pm\nFriday 9:30am-4:00pm\nSaturday 10:00am-5:00pm\nClosed Sunday and Monday \n\nAs a 501(c)3 Non-Profit\, our goal is to make memories and create learning opportunities for children in our community.\nYour donation will help children discover\, play\, imagine\, and grow in a safe and nurturing environment. Donate here. 
URL:https://woodlandschildrensmuseum.org/event/will-parker-musical-performances-at-1030am-1130am-1230pm-130pm/
LOCATION:The Woodlands Children’s Museum
END:VEVENT
END:VCALENDAR