BEGIN:VCALENDAR
VERSION:2.0
PRODID:-//The Woodlands Children&#039;s Museum - ECPv6.15.20//NONSGML v1.0//EN
CALSCALE:GREGORIAN
METHOD:PUBLISH
X-WR-CALNAME:The Woodlands Children&#039;s Museum
X-ORIGINAL-URL:https://woodlandschildrensmuseum.org
X-WR-CALDESC:Events for The Woodlands Children&#039;s Museum
REFRESH-INTERVAL;VALUE=DURATION:PT1H
X-Robots-Tag:noindex
X-PUBLISHED-TTL:PT1H
BEGIN:VTIMEZONE
TZID:America/Chicago
BEGIN:DAYLIGHT
TZOFFSETFROM:-0600
TZOFFSETTO:-0500
TZNAME:CDT
DTSTART:20240310T080000
END:DAYLIGHT
BEGIN:STANDARD
TZOFFSETFROM:-0500
TZOFFSETTO:-0600
TZNAME:CST
DTSTART:20241103T070000
END:STANDARD
BEGIN:DAYLIGHT
TZOFFSETFROM:-0600
TZOFFSETTO:-0500
TZNAME:CDT
DTSTART:20250309T080000
END:DAYLIGHT
BEGIN:STANDARD
TZOFFSETFROM:-0500
TZOFFSETTO:-0600
TZNAME:CST
DTSTART:20251102T070000
END:STANDARD
BEGIN:DAYLIGHT
TZOFFSETFROM:-0600
TZOFFSETTO:-0500
TZNAME:CDT
DTSTART:20260308T080000
END:DAYLIGHT
BEGIN:STANDARD
TZOFFSETFROM:-0500
TZOFFSETTO:-0600
TZNAME:CST
DTSTART:20261101T070000
END:STANDARD
END:VTIMEZONE
BEGIN:VEVENT
DTSTART;TZID=America/Chicago:20251221T080000
DTEND;TZID=America/Chicago:20251221T170000
DTSTAMP:20260423T032409
CREATED:20251024T205051Z
LAST-MODIFIED:20251024T205135Z
UID:10020591-1766304000-1766336400@woodlandschildrensmuseum.org
SUMMARY:Museum Closed for Christmas
DESCRIPTION:
URL:https://woodlandschildrensmuseum.org/event/museum-closed-for-christmas-5/2025-12-21/
LOCATION:The Woodlands Children’s Museum
END:VEVENT
BEGIN:VEVENT
DTSTART;TZID=America/Chicago:20251222T080000
DTEND;TZID=America/Chicago:20251222T170000
DTSTAMP:20260423T032409
CREATED:20251024T205051Z
LAST-MODIFIED:20251024T205135Z
UID:10020592-1766390400-1766422800@woodlandschildrensmuseum.org
SUMMARY:Museum Closed for Christmas
DESCRIPTION:
URL:https://woodlandschildrensmuseum.org/event/museum-closed-for-christmas-5/2025-12-22/
LOCATION:The Woodlands Children’s Museum
END:VEVENT
BEGIN:VEVENT
DTSTART;TZID=America/Chicago:20251223T080000
DTEND;TZID=America/Chicago:20251223T170000
DTSTAMP:20260423T032409
CREATED:20251024T205051Z
LAST-MODIFIED:20251024T205135Z
UID:10020593-1766476800-1766509200@woodlandschildrensmuseum.org
SUMMARY:Museum Closed for Christmas
DESCRIPTION:
URL:https://woodlandschildrensmuseum.org/event/museum-closed-for-christmas-5/2025-12-23/
LOCATION:The Woodlands Children’s Museum
END:VEVENT
BEGIN:VEVENT
DTSTART;TZID=America/Chicago:20251223T093000
DTEND;TZID=America/Chicago:20251223T093000
DTSTAMP:20260423T032409
CREATED:20251024T200956Z
LAST-MODIFIED:20251024T201001Z
UID:10020032-1766482200-1766482200@woodlandschildrensmuseum.org
SUMMARY:Museum Closed
DESCRIPTION:Fall Hours: August 12th-December 30th\nTuesday-Thursday 9:30am-2:00pm\, Friday 9:30am-4:00pm\, Saturday 10:00am-5:00pm\nClosed Sunday and Monday \nAdmission is $9 for adults and children 1 year and older. Please visit here to reserve your timed session tickets. \nMembers FREE. Become a member today\, click here.  \n\nAs a 501(c)3 Non-Profit\, our goal is to make memories and create learning opportunities for children in our community.\nYour donation will help children discover\, play\, imagine\, and grow in a safe and nurturing environment. Donate here 
URL:https://woodlandschildrensmuseum.org/event/museum-open-25-2-14/
LOCATION:The Woodlands Children’s Museum
END:VEVENT
BEGIN:VEVENT
DTSTART;TZID=America/Chicago:20251224T080000
DTEND;TZID=America/Chicago:20251224T170000
DTSTAMP:20260423T032409
CREATED:20251024T205051Z
LAST-MODIFIED:20251024T205135Z
UID:10020594-1766563200-1766595600@woodlandschildrensmuseum.org
SUMMARY:Museum Closed for Christmas
DESCRIPTION:
URL:https://woodlandschildrensmuseum.org/event/museum-closed-for-christmas-5/2025-12-24/
LOCATION:The Woodlands Children’s Museum
END:VEVENT
BEGIN:VEVENT
DTSTART;TZID=America/Chicago:20251224T093000
DTEND;TZID=America/Chicago:20251224T093000
DTSTAMP:20260423T032409
CREATED:20251024T201059Z
LAST-MODIFIED:20251024T201104Z
UID:10020033-1766568600-1766568600@woodlandschildrensmuseum.org
SUMMARY:Museum Closed
DESCRIPTION:Fall Hours: August 12th-December 30th\nTuesday-Thursday 9:30am-2:00pm\, Friday 9:30am-4:00pm\, Saturday 10:00am-5:00pm\nClosed Sunday and Monday \nAdmission is $9 for adults and children 1 year and older. Please visit here to reserve your timed session tickets. \nMembers FREE. Become a member today\, click here.  \n\nAs a 501(c)3 Non-Profit\, our goal is to make memories and create learning opportunities for children in our community.\nYour donation will help children discover\, play\, imagine\, and grow in a safe and nurturing environment. Donate here 
URL:https://woodlandschildrensmuseum.org/event/museum-open-25-2-15/
LOCATION:The Woodlands Children’s Museum
END:VEVENT
BEGIN:VEVENT
DTSTART;TZID=America/Chicago:20251225T080000
DTEND;TZID=America/Chicago:20251225T170000
DTSTAMP:20260423T032409
CREATED:20251024T205051Z
LAST-MODIFIED:20251024T205135Z
UID:10020595-1766649600-1766682000@woodlandschildrensmuseum.org
SUMMARY:Museum Closed for Christmas
DESCRIPTION:
URL:https://woodlandschildrensmuseum.org/event/museum-closed-for-christmas-5/2025-12-25/
LOCATION:The Woodlands Children’s Museum
END:VEVENT
BEGIN:VEVENT
DTSTART;TZID=America/Chicago:20251225T093000
DTEND;TZID=America/Chicago:20251225T093000
DTSTAMP:20260423T032409
CREATED:20251024T201453Z
LAST-MODIFIED:20251024T201458Z
UID:10020574-1766655000-1766655000@woodlandschildrensmuseum.org
SUMMARY:Museum Closed
DESCRIPTION:Fall Hours: August 12th-December 30th\nTuesday-Thursday 9:30am-2:00pm\, Friday 9:30am-4:00pm\, Saturday 10:00am-5:00pm\nClosed Sunday and Monday \nAdmission is $9 for adults and children 1 year and older. Please visit here to reserve your timed session tickets. \nMembers FREE. Become a member today\, click here.  \n\nAs a 501(c)3 Non-Profit\, our goal is to make memories and create learning opportunities for children in our community.\nYour donation will help children discover\, play\, imagine\, and grow in a safe and nurturing environment. Donate here 
URL:https://woodlandschildrensmuseum.org/event/museum-open-25-2-16/
LOCATION:The Woodlands Children’s Museum
END:VEVENT
BEGIN:VEVENT
DTSTART;TZID=America/Chicago:20251226T093000
DTEND;TZID=America/Chicago:20251226T093000
DTSTAMP:20260423T032409
CREATED:20240723T201350Z
LAST-MODIFIED:20251024T201329Z
UID:10020575-1766741400-1766741400@woodlandschildrensmuseum.org
SUMMARY:Museum Open
DESCRIPTION:Fall Hours: August 12th-December 30th\nTuesday-Thursday 9:30am-2:00pm\, Friday 9:30am-4:00pm\, Saturday 10:00am-5:00pm\nClosed Sunday and Monday \nAdmission is $9 for adults and children 1 year and older. Please visit here to reserve your timed session tickets. \nMembers FREE. Become a member today\, click here.  \n\nAs a 501(c)3 Non-Profit\, our goal is to make memories and create learning opportunities for children in our community.\nYour donation will help children discover\, play\, imagine\, and grow in a safe and nurturing environment. Donate here 
URL:https://woodlandschildrensmuseum.org/event/museum-open-25-2/2025-12-26/
LOCATION:The Woodlands Children’s Museum
END:VEVENT
BEGIN:VEVENT
DTSTART;TZID=America/Chicago:20251226T093000
DTEND;TZID=America/Chicago:20251226T160000
DTSTAMP:20260423T032409
CREATED:20251024T204907Z
LAST-MODIFIED:20251024T204919Z
UID:10020585-1766741400-1766764800@woodlandschildrensmuseum.org
SUMMARY:Snowflake Scavenger Hunt
DESCRIPTION:Join us for a Snowflake Scavenger Hunt on Friday\, December 26\, 9:30am-4:00pm.#ToddlerMom #Art #ChildrensMuseum #TheWoodlands #WoodlandsMom #TheWoodlandsChildrensMuseum   Included in the price of admission\, which is $9 for adults and children 1 year and older. bit.ly/TWCMtickets \nFall Hours\nTuesday-Thursday 9:30am-2:00pm\, Friday 9:30am-4:00pm\, Saturday 10:00am-5:00pm\nClosed Sunday and Monday \n\nAs a 501(c)3 Non-Profit\, our goal is to make memories and create learning opportunities for children in our community.\nYour donation will help children discover\, play\, imagine\, and grow in a safe and nurturing environment. Donate here. 
URL:https://woodlandschildrensmuseum.org/event/snowflake-scavenger-hunt-2/
LOCATION:The Woodlands Children’s Museum
END:VEVENT
BEGIN:VEVENT
DTSTART;TZID=America/Chicago:20251227T100000
DTEND;TZID=America/Chicago:20251227T170000
DTSTAMP:20260423T032409
CREATED:20250908T174725Z
LAST-MODIFIED:20250908T193427Z
UID:10020074-1766829600-1766854800@woodlandschildrensmuseum.org
SUMMARY:Museum Open
DESCRIPTION:Fall Hours: August 12th-December 30th\nTuesday-Thursday 9:30am-2:00pm\, Friday 9:30am-4:00pm\, Saturday 10:00am-5:00pm\nClosed Sunday and Monday \nAdmission is $9 for adults and children 1 year and older. Please visit here to reserve your timed session tickets. \nMembers FREE. Become a member today\, click here.  \n\nAs a 501(c)3 Non-Profit\, our goal is to make memories and create learning opportunities for children in our community.\nYour donation will help children discover\, play\, imagine\, and grow in a safe and nurturing environment. Donate here 
URL:https://woodlandschildrensmuseum.org/event/museum-open-35/2025-12-27/
LOCATION:The Woodlands Children’s Museum
END:VEVENT
BEGIN:VEVENT
DTSTART;TZID=America/Chicago:20251227T103000
DTEND;TZID=America/Chicago:20251227T133000
DTSTAMP:20260423T032409
CREATED:20251024T204703Z
LAST-MODIFIED:20251024T204703Z
UID:10020584-1766831400-1766842200@woodlandschildrensmuseum.org
SUMMARY:Weather Wonders with Meteorologist Maggie Shows at 10:30am\, 11:30am\, 12:30pm\, 1:30pm.
DESCRIPTION:On Saturday\, December 27th\, join us for Weather Wonders with Meteorologist Maggie shows at 10:30am\,11:30am\, 12:30pm\, and 1:30pm. This show shares the enlightening exploration of the water cycle\, cloud formation\, and the fascinating world of weather patterns. This captivating performance utilizes puppetry and ventriloquism to demonstrate the intricate workings of weather phenomena. From the gentle patter of rain to the destructive force of tornadoes\, audiences of all ages will be captivated by this educational and entertaining show. #Music #ToddlerMom #Art #ChildrensMuseum #TheWoodlands #WoodlandsMom #TheWoodlandsChildrensMuseum   Included in the price of admission\, which is $9 for adults and children 1 year and older. bit.ly/TWCMtickets \nFall Hours\nTuesday-Thursday 9:30am-2:00pm\, Friday 9:30am-4:00pm\, Saturday 10:00am-5:00pm\nClosed Sunday and Monday \n\nAs a 501(c)3 Non-Profit\, our goal is to make memories and create learning opportunities for children in our community.\nYour donation will help children discover\, play\, imagine\, and grow in a safe and nurturing environment. Donate here. 
URL:https://woodlandschildrensmuseum.org/event/weather-wonders-with-meteorologist-maggie-shows-at-1030am-1130am-1230pm-130pm/
LOCATION:The Woodlands Children’s Museum
END:VEVENT
END:VCALENDAR