BEGIN:VCALENDAR
VERSION:2.0
PRODID:-//The Woodlands Children&#039;s Museum - ECPv6.15.20//NONSGML v1.0//EN
CALSCALE:GREGORIAN
METHOD:PUBLISH
X-ORIGINAL-URL:https://woodlandschildrensmuseum.org
X-WR-CALDESC:Events for The Woodlands Children&#039;s Museum
REFRESH-INTERVAL;VALUE=DURATION:PT1H
X-Robots-Tag:noindex
X-PUBLISHED-TTL:PT1H
BEGIN:VTIMEZONE
TZID:America/Chicago
BEGIN:DAYLIGHT
TZOFFSETFROM:-0600
TZOFFSETTO:-0500
TZNAME:CDT
DTSTART:20240310T080000
END:DAYLIGHT
BEGIN:STANDARD
TZOFFSETFROM:-0500
TZOFFSETTO:-0600
TZNAME:CST
DTSTART:20241103T070000
END:STANDARD
BEGIN:DAYLIGHT
TZOFFSETFROM:-0600
TZOFFSETTO:-0500
TZNAME:CDT
DTSTART:20250309T080000
END:DAYLIGHT
BEGIN:STANDARD
TZOFFSETFROM:-0500
TZOFFSETTO:-0600
TZNAME:CST
DTSTART:20251102T070000
END:STANDARD
BEGIN:DAYLIGHT
TZOFFSETFROM:-0600
TZOFFSETTO:-0500
TZNAME:CDT
DTSTART:20260308T080000
END:DAYLIGHT
BEGIN:STANDARD
TZOFFSETFROM:-0500
TZOFFSETTO:-0600
TZNAME:CST
DTSTART:20261101T070000
END:STANDARD
END:VTIMEZONE
BEGIN:VEVENT
DTSTART;TZID=America/Chicago:20251209T093000
DTEND;TZID=America/Chicago:20251209T093000
DTSTAMP:20260423T032543
CREATED:20240723T201350Z
LAST-MODIFIED:20251024T201329Z
UID:10020022-1765272600-1765272600@woodlandschildrensmuseum.org
SUMMARY:Museum Open
DESCRIPTION:Fall Hours: August 12th-December 30th\nTuesday-Thursday 9:30am-2:00pm\, Friday 9:30am-4:00pm\, Saturday 10:00am-5:00pm\nClosed Sunday and Monday \nAdmission is $9 for adults and children 1 year and older. Please visit here to reserve your timed session tickets. \nMembers FREE. Become a member today\, click here.  \n\nAs a 501(c)3 Non-Profit\, our goal is to make memories and create learning opportunities for children in our community.\nYour donation will help children discover\, play\, imagine\, and grow in a safe and nurturing environment. Donate here 
URL:https://woodlandschildrensmuseum.org/event/museum-open-25-2/2025-12-09/
LOCATION:The Woodlands Children’s Museum
END:VEVENT
BEGIN:VEVENT
DTSTART;TZID=America/Chicago:20251209T093000
DTEND;TZID=America/Chicago:20251209T093000
DTSTAMP:20260423T032543
CREATED:20250722T160449Z
LAST-MODIFIED:20251024T200912Z
UID:10020163-1765272600-1765272600@woodlandschildrensmuseum.org
SUMMARY:Rhyme Time for babies and toddlers ages 6-24 months
DESCRIPTION:Rhyme Time is a group class focused on gently exposing your child to an environment of music through songs\, movement\, singing and first introductions to instruments. It’s an excellent way to interact with other families in our community\, while fostering socialization for babies. Meets TUESDAYS at 9:30am\, included in the price of admission\, which is $9 for adults and children 1 year and older.  bit.ly/TWCMtickets \nFall Hours\nTuesday-Thursday 9:30am-2:00pm\, Friday 9:30am-4:00pm\, Saturday 10:00am-5:00pm\nClosed Sunday and Monday.\nClick here to see our event calendar.\n \n  \n\nAs a 501(c)3 Non-Profit\, our goal is to make memories and create learning opportunities for children in our community.\nYour donation will help children discover\, play\, imagine\, and grow in a safe and nurturing environment. Donate here 
URL:https://woodlandschildrensmuseum.org/event/rhyme-time-for-babies-and-toddlers-ages-6-24-months-6/2025-12-09/
LOCATION:The Woodlands Children’s Museum
END:VEVENT
BEGIN:VEVENT
DTSTART;TZID=America/Chicago:20251209T110000
DTEND;TZID=America/Chicago:20251209T110000
DTSTAMP:20260423T032543
CREATED:20251024T193740Z
LAST-MODIFIED:20251024T194030Z
UID:10020154-1765278000-1765278000@woodlandschildrensmuseum.org
SUMMARY:Boogie Bash-Santa and Friends Bop
DESCRIPTION:Boogie Bash on Tuesday\, December 9th at 11am\, presents Santa and Friends Bop. Join us for fun songs and activities celebrating jolly ole Saint Nick and his special friends!\n#Dance #Movement #Music #ToddlerMom #Art #ChildrensMuseum #TheWoodlands #WoodlandsMom #TheWoodlandsChildrensMuseum   Included in the price of admission\, which is $9 for adults and children 1 year and older. bit.ly/TWCMtickets \nFall Hours\nTuesday-Thursday 9:30am-2:00pm\, Friday 9:30am-4:00pm\, Saturday 10:00am-5:00pm\nClosed Sunday and Monday \n\nAs a 501(c)3 Non-Profit\, our goal is to make memories and create learning opportunities for children in our community.\nYour donation will help children discover\, play\, imagine\, and grow in a safe and nurturing environment. Donate here. 
URL:https://woodlandschildrensmuseum.org/event/boogie-bash-santa-and-friends-bo/
LOCATION:The Woodlands Children’s Museum
END:VEVENT
BEGIN:VEVENT
DTSTART;TZID=America/Chicago:20251210T093000
DTEND;TZID=America/Chicago:20251210T093000
DTSTAMP:20260423T032543
CREATED:20240723T201350Z
LAST-MODIFIED:20251024T201329Z
UID:10020568-1765359000-1765359000@woodlandschildrensmuseum.org
SUMMARY:Museum Open
DESCRIPTION:Fall Hours: August 12th-December 30th\nTuesday-Thursday 9:30am-2:00pm\, Friday 9:30am-4:00pm\, Saturday 10:00am-5:00pm\nClosed Sunday and Monday \nAdmission is $9 for adults and children 1 year and older. Please visit here to reserve your timed session tickets. \nMembers FREE. Become a member today\, click here.  \n\nAs a 501(c)3 Non-Profit\, our goal is to make memories and create learning opportunities for children in our community.\nYour donation will help children discover\, play\, imagine\, and grow in a safe and nurturing environment. Donate here 
URL:https://woodlandschildrensmuseum.org/event/museum-open-25-2/2025-12-10/
LOCATION:The Woodlands Children’s Museum
END:VEVENT
BEGIN:VEVENT
DTSTART;TZID=America/Chicago:20251210T110000
DTEND;TZID=America/Chicago:20251210T110000
DTSTAMP:20260423T032543
CREATED:20251024T203847Z
LAST-MODIFIED:20251026T161044Z
UID:10020583-1765364400-1765364400@woodlandschildrensmuseum.org
SUMMARY:Houston Grand Opera’s Storybook presentation of Maria's Magical Musical Adventure
DESCRIPTION:Houston Grand Opera’s Storybook presentation of  Maria’s Magical Musical Adventure\, Wednesday\, December 10th at 11:00am. Maria’s Magical Music Adventure features a girl named Maria\, who loves to sing. When Matthew the Magician appears\, Maria is hesitant\, but after Matthew explains that he is a magical musician with the ability to time travel\, the two travel to Venice\, Italy to meet Antonio Vivaldi\, who has just written The Four Seasons. With breathtaking illustrations and a story full of adventure and excitement\, Maria’s Magical Music Adventure transports readers back in time alongside Maria and Matthew\, delighting and inspiring audiences of all ages.#Music #ToddlerMom #Art #ChildrensMuseum #TheWoodlands #WoodlandsMom #TheWoodlandsChildrensMuseum   Included in the price of admission\, which is $9 for adults and children 1 year and older. bit.ly/TWCMtickets \n       \nFall Hours\nTuesday-Thursday 9:30am-2:00pm\, Friday 9:30am-4:00pm\, Saturday 10:00am-5:00pm\nClosed Sunday and Monday \n\nAs a 501(c)3 Non-Profit\, our goal is to make memories and create learning opportunities for children in our community.\nYour donation will help children discover\, play\, imagine\, and grow in a safe and nurturing environment. Donate here. 
URL:https://woodlandschildrensmuseum.org/event/houston-grand-operas-storybook-presentation-of-marias-magical-musical-adventure-2/
LOCATION:The Woodlands Children’s Museum
END:VEVENT
BEGIN:VEVENT
DTSTART;TZID=America/Chicago:20251211T093000
DTEND;TZID=America/Chicago:20251211T093000
DTSTAMP:20260423T032543
CREATED:20240723T201350Z
LAST-MODIFIED:20251024T201329Z
UID:10020569-1765445400-1765445400@woodlandschildrensmuseum.org
SUMMARY:Museum Open
DESCRIPTION:Fall Hours: August 12th-December 30th\nTuesday-Thursday 9:30am-2:00pm\, Friday 9:30am-4:00pm\, Saturday 10:00am-5:00pm\nClosed Sunday and Monday \nAdmission is $9 for adults and children 1 year and older. Please visit here to reserve your timed session tickets. \nMembers FREE. Become a member today\, click here.  \n\nAs a 501(c)3 Non-Profit\, our goal is to make memories and create learning opportunities for children in our community.\nYour donation will help children discover\, play\, imagine\, and grow in a safe and nurturing environment. Donate here 
URL:https://woodlandschildrensmuseum.org/event/museum-open-25-2/2025-12-11/
LOCATION:The Woodlands Children’s Museum
END:VEVENT
BEGIN:VEVENT
DTSTART;TZID=America/Chicago:20251211T110000
DTEND;TZID=America/Chicago:20251211T110000
DTSTAMP:20260423T032543
CREATED:20251024T194428Z
LAST-MODIFIED:20251026T175815Z
UID:10020156-1765450800-1765450800@woodlandschildrensmuseum.org
SUMMARY:Shadow Puppet Theatre-Llama Llama Holiday Drama
DESCRIPTION:Shadow Puppet Theatre\, Thursday\, December 11th at 11am presents “Llama Llama Holiday Drama” by Anna Dewdney. Llama Llama wonders if Christmas will ever arrive while he and Mama Llama rush around getting ready for the holidays. Overwhelmed by all the hustle and bustle\, his meltdown is met with his understanding mama’s hugs and love. Included in the price of admission\, which is $9 for adults and children 1 year and older. bit.ly/TWCMtickets  #ToddlerMom #Art #ChildrensMuseum #TheWoodlands #WoodlandsMom #BookReading #StoryTime #TheWoodlandsChildrensMuseum \nShadow Puppet Theatre is an introduction to storytelling elements that allow our readers and audience to interact directly with each other\, children of all ages are enchanted with the animated shadows. \nFall Hours\nTuesday-Thursday 9:30am-2:00pm\, Friday 9:30am-4:00pm\, Saturday 10:00am-5:00pm\nClosed Sunday and Monday \n\nAs a 501(c)3 Non-Profit\, our goal is to make memories and create learning opportunities for children in our community.\nYour donation will help children discover\, play\, imagine\, and grow in a safe and nurturing environment. Donate here. 
URL:https://woodlandschildrensmuseum.org/event/shadow-puppet-theatre-llama-llama-holiday-drama-5/
LOCATION:The Woodlands Children’s Museum
END:VEVENT
BEGIN:VEVENT
DTSTART;TZID=America/Chicago:20251212T093000
DTEND;TZID=America/Chicago:20251212T093000
DTSTAMP:20260423T032543
CREATED:20240723T201350Z
LAST-MODIFIED:20251024T201329Z
UID:10020570-1765531800-1765531800@woodlandschildrensmuseum.org
SUMMARY:Museum Open
DESCRIPTION:Fall Hours: August 12th-December 30th\nTuesday-Thursday 9:30am-2:00pm\, Friday 9:30am-4:00pm\, Saturday 10:00am-5:00pm\nClosed Sunday and Monday \nAdmission is $9 for adults and children 1 year and older. Please visit here to reserve your timed session tickets. \nMembers FREE. Become a member today\, click here.  \n\nAs a 501(c)3 Non-Profit\, our goal is to make memories and create learning opportunities for children in our community.\nYour donation will help children discover\, play\, imagine\, and grow in a safe and nurturing environment. Donate here 
URL:https://woodlandschildrensmuseum.org/event/museum-open-25-2/2025-12-12/
LOCATION:The Woodlands Children’s Museum
END:VEVENT
BEGIN:VEVENT
DTSTART;TZID=America/Chicago:20251212T110000
DTEND;TZID=America/Chicago:20251212T110000
DTSTAMP:20260423T032543
CREATED:20251024T195106Z
LAST-MODIFIED:20251026T180051Z
UID:10020159-1765537200-1765537200@woodlandschildrensmuseum.org
SUMMARY:Storybook Theatre-Santa’s Sleigh Is on Its Way to My House
DESCRIPTION:Storybook Theatre\, Friday\, December 12th at 11am presents “Santa’s Sleigh Is on Its Way to My House” by Eric James. It’s Christmas Eve\, and Santa is on his way with all those presents! All the children in town are sleeping except for you! How can you possibly fall asleep?…but Santa won’t visit if you’re awake! Included in the price of admission\, which is $9 for adults and children 1 year and older. bit.ly/TWCMtickets  #ToddlerMom #Art #ChildrensMuseum #TheWoodlands #WoodlandsMom #BookReading #StoryTime #TheWoodlandsChildrensMuseum \nCultivate a lifelong appreciation for literature by introducing your child to the enchantment of reading at a young age. Storybook Theatre seamlessly integrates beloved childhood stories with engaging elements such as songs\, rhymes\, and fingerplays\, fostering early literacy skills and enhancing language development in a dynamic and entertaining manner. \nFall Hours\nTuesday-Thursday 9:30am-2:00pm\, Friday 9:30am-4:00pm\, Saturday 10:00am-5:00pm\nClosed Sunday and Monday \n\nAs a 501(c)3 Non-Profit\, our goal is to make memories and create learning opportunities for children in our community.\nYour donation will help children discover\, play\, imagine\, and grow in a safe and nurturing environment. Donate here. 
URL:https://woodlandschildrensmuseum.org/event/storybook-theatre-santas-sleigh-is-on-its-way-to-my-house/
LOCATION:The Woodlands Children’s Museum
END:VEVENT
BEGIN:VEVENT
DTSTART;TZID=America/Chicago:20251213T090000
DTEND;TZID=America/Chicago:20251213T140000
DTSTAMP:20260423T032543
CREATED:20251020T194812Z
LAST-MODIFIED:20251211T211252Z
UID:10020150-1765616400-1765634400@woodlandschildrensmuseum.org
SUMMARY:Santa's Merry Mingle-Reservation Required Event
DESCRIPTION:Santa’s Merry Mingle.\nSaturday\, December 13th\, 2025\, 9am-2pm. \n• Professional framed photo visit with Santa\n• Live holiday music by the Lone Star Strummers\n• Le Theatre de Marionette Peppermint Twist shows at 10:30am and 12:30pm\n• Gingerbread House building with Mrs. Claus\n• Special story time with Mrs. Claus at 9:30am\, 11:30am\, 1:30pm\n• Create holiday art projects\n• Holiday goodie bag\n• Visit and photos with Olaf\n• Snow play\n• Write a letter to Santa \nChildren 0-13 $30\, Adults $10. Click for tickets.  \nSanta’s Merry Mingle – An Annual Holiday Experience at The Woodlands Children’s Museum. \nOn Saturday\, December 13\, 2025 from 9:00am – 2:00pm\, The Woodlands Children’s Museum will offer an atmosphere of pure North Pole magic\, filled with music\, art and interactive play\, truly embracing the holiday spirit.  \nAs guests step inside\, they are greeted with live holiday music presented by the Lone Star Strummers. During the day\, guests are invited to visit and pose for photos with Olaf from Frozen and engaging in hands-on snow play creating shapes with handfuls of white flakes.  \nThe event also features a visit with jolly old St. Nick. Santa will be happy to hear all of the children’s Christmas wishes as well as pose for a framed professional photo which will surely be a treasured family keepsake. \nAt 9:30am\, Mrs. Claus will present her first special holiday reading followed by two more readings at 11:30am and 1:30pm.  \nStroll over to Mrs. Claus’s Gingerbread House Workshop\, where young candy architects can use frosting as cement and gumdrops to decorate shingles and construct a holiday masterpiece.  \n“We are excited to welcome back Le Theatre de Marionette’s Peppermint Twist show on stage at 10:30am and 12:30pm\,” stated the museum’s Executive Director Angela Colton. “The show’s puppetry offers an opportunity for young guests to experience this timeless art form with its unique blend of artistry\, skill\, and imagination.” After the show\, children can spend time exploring exhibits and visiting The Muse art bar to create a special holiday art project. Upon exiting\, be sure to enjoy a holiday treat bag to take home.  \nTickets for children 0-13 are $30 and adults are $10. Limited tickets are on sale now at www.woodlandschildrensmuseum.org. The museum will be closed to the public and open for event-only admission on Saturday\, December 13th from 9:00am – 2:00pm. The museum will re-open for general admission from 2:00pm – 5:00pm. \nSpecial story times\n\n \n• 9:30 “The Night Before Christmas” by Clement C. Moore. Mrs. Claus will read Santa’s favorite story\, the classic Christmas poem with vibrant illustrations by Steph Lew. \n• 11:30 “Dream Snow” by Eric Carle. The old farmer is wondering how Christmas can come without any snow as he settles down for his nap. He dreams of a snowstorm covering him and his animals named One\, Two\, Three\, Four\, and Five. Will his dream come true? \n• 1:30 “If You Take a Mouse to the Movies” by Laura Numeroff. The beloved little mouse from If You Give a Mouse a Cookie is back and celebrating the holiday! “If you take a mouse to the movies\, he’ll ask you for some popcorn…\,” and so it begins! \n  \nThank you to Sonic\, Boni’s Dance and Performing Arts Studio and The Young Learners Academy for your support!\n      \nThis event is supported in part by the Texas Commission on the Arts and The Cynthia Woods Mitchell Pavilion. \n \nFall Hours\nTuesday-Thursday 9:30am-2:00pm\, Friday 9:30am-4:00pm\, Saturday 10:00am-5:00pm\nClosed Sunday and Monday \n\nAs a 501(c)3 Non-Profit\, our goal is to make memories and create learning opportunities for children in our community.\nYour donation will help children discover\, play\, imagine\, and grow in a safe and nurturing environment. Donate here. 
URL:https://woodlandschildrensmuseum.org/event/santas-merry-mingle-3/
LOCATION:The Woodlands Children’s Museum
END:VEVENT
BEGIN:VEVENT
DTSTART;TZID=America/Chicago:20251213T100000
DTEND;TZID=America/Chicago:20251213T170000
DTSTAMP:20260423T032543
CREATED:20251024T202616Z
LAST-MODIFIED:20251024T202734Z
UID:10020072-1765620000-1765645200@woodlandschildrensmuseum.org
SUMMARY:Museum Open with REGULAR admission 2pm-5pm
DESCRIPTION:Fall Hours: August 12th-December 30th\nTuesday-Thursday 9:30am-2:00pm\, Friday 9:30am-4:00pm\, Saturday 10:00am-5:00pm\nClosed Sunday and Monday \nAdmission is $9 for adults and children 1 year and older. Please visit here to reserve your timed session tickets. \nMembers FREE. Become a member today\, click here.  \n\nAs a 501(c)3 Non-Profit\, our goal is to make memories and create learning opportunities for children in our community.\nYour donation will help children discover\, play\, imagine\, and grow in a safe and nurturing environment. Donate here 
URL:https://woodlandschildrensmuseum.org/event/museum-open-35-2/
LOCATION:The Woodlands Children’s Museum
END:VEVENT
END:VCALENDAR