BEGIN:VCALENDAR
VERSION:2.0
PRODID:-//The Woodlands Children&#039;s Museum - ECPv6.15.20//NONSGML v1.0//EN
CALSCALE:GREGORIAN
METHOD:PUBLISH
X-ORIGINAL-URL:https://woodlandschildrensmuseum.org
X-WR-CALDESC:Events for The Woodlands Children&#039;s Museum
REFRESH-INTERVAL;VALUE=DURATION:PT1H
X-Robots-Tag:noindex
X-PUBLISHED-TTL:PT1H
BEGIN:VTIMEZONE
TZID:America/Chicago
BEGIN:DAYLIGHT
TZOFFSETFROM:-0600
TZOFFSETTO:-0500
TZNAME:CDT
DTSTART:20240310T080000
END:DAYLIGHT
BEGIN:STANDARD
TZOFFSETFROM:-0500
TZOFFSETTO:-0600
TZNAME:CST
DTSTART:20241103T070000
END:STANDARD
BEGIN:DAYLIGHT
TZOFFSETFROM:-0600
TZOFFSETTO:-0500
TZNAME:CDT
DTSTART:20250309T080000
END:DAYLIGHT
BEGIN:STANDARD
TZOFFSETFROM:-0500
TZOFFSETTO:-0600
TZNAME:CST
DTSTART:20251102T070000
END:STANDARD
BEGIN:DAYLIGHT
TZOFFSETFROM:-0600
TZOFFSETTO:-0500
TZNAME:CDT
DTSTART:20260308T080000
END:DAYLIGHT
BEGIN:STANDARD
TZOFFSETFROM:-0500
TZOFFSETTO:-0600
TZNAME:CST
DTSTART:20261101T070000
END:STANDARD
END:VTIMEZONE
BEGIN:VEVENT
DTSTART;TZID=America/Chicago:20250119T080000
DTEND;TZID=America/Chicago:20250119T170000
DTSTAMP:20260424T020733
CREATED:20231118T183813Z
LAST-MODIFIED:20250203T184526Z
UID:10018379-1737273600-1737306000@woodlandschildrensmuseum.org
SUMMARY:Museum Closed
DESCRIPTION:Hours: Tues-Thurs 10am-2pm.\nFri. 10am-4pm. Sat. 10am-5pm.\nClosed Sundays and Mondays\nStarting Jan. 2nd daily admission is $9 per person 1 years and older\, children under 1 and Museum Members are free.\nRecommended ages 7 years and under.\nChildren must be accompanied by an adult at all times. Click for tickets. \nAs a 501(c)3 Non-Profit\, our goal is to make memories and create learning opportunities for children in our community. Your donation will help children discover\, play\, imagine\, and grow in a safe and nurturing environment. Click here to donate now.  \n  \n 
URL:https://woodlandschildrensmuseum.org/event/museum-closed-100/2025-01-19/
LOCATION:The Woodlands Children’s Museum
END:VEVENT
BEGIN:VEVENT
DTSTART;TZID=America/Chicago:20250120T080000
DTEND;TZID=America/Chicago:20250120T170000
DTSTAMP:20260424T020733
CREATED:20231118T183813Z
LAST-MODIFIED:20250203T184526Z
UID:10018380-1737360000-1737392400@woodlandschildrensmuseum.org
SUMMARY:Museum Closed
DESCRIPTION:Hours: Tues-Thurs 10am-2pm.\nFri. 10am-4pm. Sat. 10am-5pm.\nClosed Sundays and Mondays\nStarting Jan. 2nd daily admission is $9 per person 1 years and older\, children under 1 and Museum Members are free.\nRecommended ages 7 years and under.\nChildren must be accompanied by an adult at all times. Click for tickets. \nAs a 501(c)3 Non-Profit\, our goal is to make memories and create learning opportunities for children in our community. Your donation will help children discover\, play\, imagine\, and grow in a safe and nurturing environment. Click here to donate now.  \n  \n 
URL:https://woodlandschildrensmuseum.org/event/museum-closed-100/2025-01-20/
LOCATION:The Woodlands Children’s Museum
END:VEVENT
BEGIN:VEVENT
DTSTART;TZID=America/Chicago:20250121T080000
DTEND;TZID=America/Chicago:20250121T170000
DTSTAMP:20260424T020733
CREATED:20250119T222430Z
LAST-MODIFIED:20250119T222430Z
UID:10019611-1737446400-1737478800@woodlandschildrensmuseum.org
SUMMARY:THE MUSEUM IS CLOSED DUE TO INCLEMENT WEATHER
DESCRIPTION:
URL:https://woodlandschildrensmuseum.org/event/the-museum-is-closed-due-to-inclement-weather/
LOCATION:The Woodlands Children’s Museum
END:VEVENT
BEGIN:VEVENT
DTSTART;TZID=America/Chicago:20250122T093000
DTEND;TZID=America/Chicago:20250122T093000
DTSTAMP:20260424T020733
CREATED:20240723T201350Z
LAST-MODIFIED:20251024T201329Z
UID:10020433-1737538200-1737538200@woodlandschildrensmuseum.org
SUMMARY:Museum Open
DESCRIPTION:Fall Hours: August 12th-December 30th\nTuesday-Thursday 9:30am-2:00pm\, Friday 9:30am-4:00pm\, Saturday 10:00am-5:00pm\nClosed Sunday and Monday \nAdmission is $9 for adults and children 1 year and older. Please visit here to reserve your timed session tickets. \nMembers FREE. Become a member today\, click here.  \n\nAs a 501(c)3 Non-Profit\, our goal is to make memories and create learning opportunities for children in our community.\nYour donation will help children discover\, play\, imagine\, and grow in a safe and nurturing environment. Donate here 
URL:https://woodlandschildrensmuseum.org/event/museum-open-25-2/2025-01-22/
LOCATION:The Woodlands Children’s Museum
END:VEVENT
BEGIN:VEVENT
DTSTART;TZID=America/Chicago:20250123T093000
DTEND;TZID=America/Chicago:20250123T093000
DTSTAMP:20260424T020733
CREATED:20240723T201350Z
LAST-MODIFIED:20251024T201329Z
UID:10020434-1737624600-1737624600@woodlandschildrensmuseum.org
SUMMARY:Museum Open
DESCRIPTION:Fall Hours: August 12th-December 30th\nTuesday-Thursday 9:30am-2:00pm\, Friday 9:30am-4:00pm\, Saturday 10:00am-5:00pm\nClosed Sunday and Monday \nAdmission is $9 for adults and children 1 year and older. Please visit here to reserve your timed session tickets. \nMembers FREE. Become a member today\, click here.  \n\nAs a 501(c)3 Non-Profit\, our goal is to make memories and create learning opportunities for children in our community.\nYour donation will help children discover\, play\, imagine\, and grow in a safe and nurturing environment. Donate here 
URL:https://woodlandschildrensmuseum.org/event/museum-open-25-2/2025-01-23/
LOCATION:The Woodlands Children’s Museum
END:VEVENT
BEGIN:VEVENT
DTSTART;TZID=America/Chicago:20250123T110000
DTEND;TZID=America/Chicago:20250123T110000
DTSTAMP:20260424T020733
CREATED:20241122T210204Z
LAST-MODIFIED:20241122T210357Z
UID:10019578-1737630000-1737630000@woodlandschildrensmuseum.org
SUMMARY:Shadow Puppet Theatre-The Mitten
DESCRIPTION:Shadow Puppet Theatre Thursday\, January 23rd at 11am presents “The Mitten” by Jan Brett. Based on a traditional Ukrainian folktale\, this is the story of what happens when Nicki drops his white mitten in the snow and an assortment of forest animals crawl in one by one. Included in the price of admission\, which is $9 for adults and children 1 year and older.  bit.ly/TWCMtickets  #ToddlerMom #Art #ChildrensMuseum #TheWoodlands #WoodlandsMom #BookReading #StoryTime #TheWoodlandsChildrensMuseum \nShadow Puppet Theatre is an introduction to storytelling elements that allow our readers and audience to interact directly with each other\, children of all ages are enchanted with the animated shadows. \n(NEW OPEN TIME)\nTuesday-Thursday 9:30am-2:00pm\nFriday 9:30am-4:00pm\nSaturday 10:00am-5:00pm\nClosed Sunday and Monday \n\nAs a 501(c)3 Non-Profit\, our goal is to make memories and create learning opportunities for children in our community.\nYour donation will help children discover\, play\, imagine\, and grow in a safe and nurturing environment. Donate here 
URL:https://woodlandschildrensmuseum.org/event/shadow-puppet-theatre-147/
LOCATION:The Woodlands Children’s Museum
END:VEVENT
BEGIN:VEVENT
DTSTART;TZID=America/Chicago:20250123T110000
DTEND;TZID=America/Chicago:20250123T110000
DTSTAMP:20260424T020733
CREATED:20241122T213511Z
LAST-MODIFIED:20250122T165235Z
UID:10019586-1737630000-1737630000@woodlandschildrensmuseum.org
SUMMARY:Mini Masterminds-balancing snake
DESCRIPTION:Join us Wednesday\, January 22 for Mini Masterminds balancing snake. Celebrate the Year of the Snake by creating a balancing snake art project. Texture\, color and gravity bring these fun reptiles to life!  Included in the price of admission\, which is $9 for adults and children 1 year and older. bit.ly/TWCMtickets  #ToddlerMom #Art #ChildrensMuseum #TheWoodlands #WoodlandsMom #Science #TheWoodlandsChildrensMuseum \n(NEW OPEN TIME)\nTuesday-Thursday 9:30am-2:00pm\nFriday 9:30am-4:00pm\nSaturday 10:00am-5:00pm\nClosed Sunday and Monday \n\nAs a 501(c)3 Non-Profit\, our goal is to make memories and create learning opportunities for children in our community.\nYour donation will help children discover\, play\, imagine\, and grow in a safe and nurturing environment. Donate here 
URL:https://woodlandschildrensmuseum.org/event/mini-masterminds-balancing-snake/
LOCATION:The Woodlands Children’s Museum
END:VEVENT
BEGIN:VEVENT
DTSTART;TZID=America/Chicago:20250124T093000
DTEND;TZID=America/Chicago:20250124T093000
DTSTAMP:20260424T020733
CREATED:20240723T201350Z
LAST-MODIFIED:20251024T201329Z
UID:10020435-1737711000-1737711000@woodlandschildrensmuseum.org
SUMMARY:Museum Open
DESCRIPTION:Fall Hours: August 12th-December 30th\nTuesday-Thursday 9:30am-2:00pm\, Friday 9:30am-4:00pm\, Saturday 10:00am-5:00pm\nClosed Sunday and Monday \nAdmission is $9 for adults and children 1 year and older. Please visit here to reserve your timed session tickets. \nMembers FREE. Become a member today\, click here.  \n\nAs a 501(c)3 Non-Profit\, our goal is to make memories and create learning opportunities for children in our community.\nYour donation will help children discover\, play\, imagine\, and grow in a safe and nurturing environment. Donate here 
URL:https://woodlandschildrensmuseum.org/event/museum-open-25-2/2025-01-24/
LOCATION:The Woodlands Children’s Museum
END:VEVENT
BEGIN:VEVENT
DTSTART;TZID=America/Chicago:20250124T110000
DTEND;TZID=America/Chicago:20250124T110000
DTSTAMP:20260424T020733
CREATED:20241122T211643Z
LAST-MODIFIED:20241122T211713Z
UID:10019582-1737716400-1737716400@woodlandschildrensmuseum.org
SUMMARY:Storybook Theatre-The Year of the Snake: Tales from the Chinese Zodiac
DESCRIPTION:Storybook Theatre at 11am Friday\, January 24th  presents “The Year of the Snake: Tales from the Chinese Zodiac” by Oliver Chin. In honor of Lunar New Year (January 29) and The Year of the Snake\, this story is about Suzie\, a young serpent who sets out on an adventure to change others’ attitudes about snakes! Included in the price of admission\, which is $9 for adults and children 1 year and older. bit.ly/TWCMtickets  #ToddlerMom #Art #ChildrensMuseum #TheWoodlands #WoodlandsMom #BookReading #StoryTime #TheWoodlandsChildrensMuseum \nIntroduce your child to the wonder of reading and instill a love of books at an early age. Storybook Theatre combines your favorite childhood books with songs\, rhymes and fingerplays which are meant to promote early literacy and enhance language development. \n(NEW OPEN TIME)\nTuesday-Thursday 9:30am-2:00pm\nFriday 9:30am-4:00pm\nSaturday 10:00am-5:00pm\nClosed Sunday and Monday \n\nAs a 501(c)3 Non-Profit\, our goal is to make memories and create learning opportunities for children in our community.\nYour donation will help children discover\, play\, imagine\, and grow in a safe and nurturing environment. Donate here 
URL:https://woodlandschildrensmuseum.org/event/storybook-theatre-the-year-of-the-snake-tales-from-the-chinese-zodiac/
LOCATION:The Woodlands Children’s Museum
END:VEVENT
BEGIN:VEVENT
DTSTART;TZID=America/Chicago:20250125T103000
DTEND;TZID=America/Chicago:20250125T133000
DTSTAMP:20260424T020733
CREATED:20241126T221251Z
LAST-MODIFIED:20250116T204042Z
UID:10019591-1737801000-1737811800@woodlandschildrensmuseum.org
SUMMARY:Lunar New Year Celebration and Parades
DESCRIPTION:Lunar New Year Saturday\, January 25th\nCelebrate the Year of the SNAKE 🐍🎊 with us! Experience the Museum transformed in traditional colors and decorations for this amazing Lunar New Year’s event while experiencing various fun activities and art projects! Performances by the Houston Lion Kings at 10:30am\, 11:30am\, 12:30pm\, and 1:30pm. Enjoy an author visit with Ulysses Hsu\, who will be reading “The Story of Science: Universe” on stage at 11:00am followed by a meet-and-greet. Included in the price of admission\, which is $9 for adults and children 1 year and older. bit.ly/TWCMtickets  #ToddlerMom #Art #ChildrensMuseum #TheWoodlands #WoodlandsMom  #TheWoodlandsChildrensMuseum \nUlysses Hsu will be our special guest author during our Lunar New Year celebration on Saturday\, January 25. He will be reading The Story of Science:  Universe on stage at 11:00am followed by a meet-and-greet\, also on stage\, where he will sign his books until 12:15pm.  All three of his books can be purchased at the front desk the day of the program prior to getting them signed.  \nUlysses\, a junior at the John Cooper School\, started writing and had his first book published at 13-years-old.  Through his writing and illustrations\, his goal is to express creativity and knowledge\, hoping to teach science in a fun and engaging way and at the same time inspire others to read.  This is his third published children’s book\, all part of the series\, \nThe Story of Science.  \n   \n  \nThanks PF Chang’s – The Woodlands for supporting this event.
URL:https://woodlandschildrensmuseum.org/event/lunar-new-year-celebration-and-parades/
LOCATION:The Woodlands Children’s Museum
END:VEVENT
BEGIN:VEVENT
DTSTART;TZID=America/Chicago:20250125T110000
DTEND;TZID=America/Chicago:20250125T110000
DTSTAMP:20260424T020733
CREATED:20241122T212820Z
LAST-MODIFIED:20241122T212915Z
UID:10019584-1737802800-1737802800@woodlandschildrensmuseum.org
SUMMARY:Author Visit with Ulysses Hsu
DESCRIPTION:Join us for a special author visit on Saturday\, January 25th from 11:00am-12:15pm with Ulysses Hsu who will be reading  “The Story of Science:  Universe“.  Ulysses\, a junior at the John Cooper School\, started writing and had his first book published at 13-years-old. This book is the third in his series of books that teach science in a fun and engaging way.  Included in the price of admission\, which is $9 for adults and children 1 year and older. bit.ly/TWCMtickets  #ToddlerMom #Art #ChildrensMuseum #TheWoodlands #WoodlandsMom #BookReading #StoryTime #TheWoodlandsChildrensMuseum #AuthorVisit \n(NEW OPEN TIME)\nTuesday-Thursday 9:30am-2:00pm\nFriday 9:30am-4:00pm\nSaturday 10:00am-5:00pm\nClosed Sunday and Monday \n\nAs a 501(c)3 Non-Profit\, our goal is to make memories and create learning opportunities for children in our community.\nYour donation will help children discover\, play\, imagine\, and grow in a safe and nurturing environment. Donate here 
URL:https://woodlandschildrensmuseum.org/event/author-visit-with-ulysses-hsu/
LOCATION:The Woodlands Children’s Museum
END:VEVENT
END:VCALENDAR