BEGIN:VCALENDAR
VERSION:2.0
PRODID:-//The Woodlands Children&#039;s Museum - ECPv6.15.20//NONSGML v1.0//EN
CALSCALE:GREGORIAN
METHOD:PUBLISH
X-WR-CALNAME:The Woodlands Children&#039;s Museum
X-ORIGINAL-URL:https://woodlandschildrensmuseum.org
X-WR-CALDESC:Events for The Woodlands Children&#039;s Museum
REFRESH-INTERVAL;VALUE=DURATION:PT1H
X-Robots-Tag:noindex
X-PUBLISHED-TTL:PT1H
BEGIN:VTIMEZONE
TZID:America/Chicago
BEGIN:DAYLIGHT
TZOFFSETFROM:-0600
TZOFFSETTO:-0500
TZNAME:CDT
DTSTART:20230312T080000
END:DAYLIGHT
BEGIN:STANDARD
TZOFFSETFROM:-0500
TZOFFSETTO:-0600
TZNAME:CST
DTSTART:20231105T070000
END:STANDARD
BEGIN:DAYLIGHT
TZOFFSETFROM:-0600
TZOFFSETTO:-0500
TZNAME:CDT
DTSTART:20240310T080000
END:DAYLIGHT
BEGIN:STANDARD
TZOFFSETFROM:-0500
TZOFFSETTO:-0600
TZNAME:CST
DTSTART:20241103T070000
END:STANDARD
BEGIN:DAYLIGHT
TZOFFSETFROM:-0600
TZOFFSETTO:-0500
TZNAME:CDT
DTSTART:20250309T080000
END:DAYLIGHT
BEGIN:STANDARD
TZOFFSETFROM:-0500
TZOFFSETTO:-0600
TZNAME:CST
DTSTART:20251102T070000
END:STANDARD
END:VTIMEZONE
BEGIN:VEVENT
DTSTART;TZID=America/Chicago:20241110T080000
DTEND;TZID=America/Chicago:20241110T170000
DTSTAMP:20260424T052348
CREATED:20231118T183813Z
LAST-MODIFIED:20250203T184526Z
UID:10018359-1731225600-1731258000@woodlandschildrensmuseum.org
SUMMARY:Museum Closed
DESCRIPTION:Hours: Tues-Thurs 10am-2pm.\nFri. 10am-4pm. Sat. 10am-5pm.\nClosed Sundays and Mondays\nStarting Jan. 2nd daily admission is $9 per person 1 years and older\, children under 1 and Museum Members are free.\nRecommended ages 7 years and under.\nChildren must be accompanied by an adult at all times. Click for tickets. \nAs a 501(c)3 Non-Profit\, our goal is to make memories and create learning opportunities for children in our community. Your donation will help children discover\, play\, imagine\, and grow in a safe and nurturing environment. Click here to donate now.  \n  \n 
URL:https://woodlandschildrensmuseum.org/event/museum-closed-100/2024-11-10/
LOCATION:The Woodlands Children’s Museum
END:VEVENT
BEGIN:VEVENT
DTSTART;TZID=America/Chicago:20241111T080000
DTEND;TZID=America/Chicago:20241111T170000
DTSTAMP:20260424T052348
CREATED:20231118T183813Z
LAST-MODIFIED:20250203T184526Z
UID:10018360-1731312000-1731344400@woodlandschildrensmuseum.org
SUMMARY:Museum Closed
DESCRIPTION:Hours: Tues-Thurs 10am-2pm.\nFri. 10am-4pm. Sat. 10am-5pm.\nClosed Sundays and Mondays\nStarting Jan. 2nd daily admission is $9 per person 1 years and older\, children under 1 and Museum Members are free.\nRecommended ages 7 years and under.\nChildren must be accompanied by an adult at all times. Click for tickets. \nAs a 501(c)3 Non-Profit\, our goal is to make memories and create learning opportunities for children in our community. Your donation will help children discover\, play\, imagine\, and grow in a safe and nurturing environment. Click here to donate now.  \n  \n 
URL:https://woodlandschildrensmuseum.org/event/museum-closed-100/2024-11-11/
LOCATION:The Woodlands Children’s Museum
END:VEVENT
BEGIN:VEVENT
DTSTART;TZID=America/Chicago:20241112T093000
DTEND;TZID=America/Chicago:20241112T093000
DTSTAMP:20260424T052348
CREATED:20240723T201350Z
LAST-MODIFIED:20251024T201329Z
UID:10019080-1731403800-1731403800@woodlandschildrensmuseum.org
SUMMARY:Museum Open
DESCRIPTION:Fall Hours: August 12th-December 30th\nTuesday-Thursday 9:30am-2:00pm\, Friday 9:30am-4:00pm\, Saturday 10:00am-5:00pm\nClosed Sunday and Monday \nAdmission is $9 for adults and children 1 year and older. Please visit here to reserve your timed session tickets. \nMembers FREE. Become a member today\, click here.  \n\nAs a 501(c)3 Non-Profit\, our goal is to make memories and create learning opportunities for children in our community.\nYour donation will help children discover\, play\, imagine\, and grow in a safe and nurturing environment. Donate here 
URL:https://woodlandschildrensmuseum.org/event/museum-open-25-2/2024-11-12/
LOCATION:The Woodlands Children’s Museum
END:VEVENT
BEGIN:VEVENT
DTSTART;TZID=America/Chicago:20241112T093000
DTEND;TZID=America/Chicago:20241112T093000
DTSTAMP:20260424T052349
CREATED:20240827T231709Z
LAST-MODIFIED:20250621T182216Z
UID:10019347-1731403800-1731403800@woodlandschildrensmuseum.org
SUMMARY:Rhyme Time for babies and toddlers ages 6-24 months.
DESCRIPTION:Rhyme Time is a group class focused on gently exposing your child to an environment of music through songs\, movement\, singing and first introductions to instruments. It’s an excellent way to interact with other families in our community\, while fostering socialization for babies. Meets TUESDAYS at 9:30am\, included in the price of admission\, which is $9 for adults and children 1 year and older.  bit.ly/TWCMtickets \nSummer Hours\nJune 3rd – August 9th 2025\nTuesday-Friday 9:30am-4:00pm\, Saturday\, 10:00am-5:00pm. Closed Sunday and Monday. \nFall Hours\nTuesday-Thursday 9:30am-2:00pm\, Friday 9:30am-4:00pm\, Saturday 10:00am-5:00pm\nClosed Sunday and Monday \n\nAs a 501(c)3 Non-Profit\, our goal is to make memories and create learning opportunities for children in our community.\nYour donation will help children discover\, play\, imagine\, and grow in a safe and nurturing environment. Donate here 
URL:https://woodlandschildrensmuseum.org/event/rhyme-time-for-babies-and-toddlers-ages-6-24-months-5-2/2024-11-12/
LOCATION:The Woodlands Children’s Museum
END:VEVENT
BEGIN:VEVENT
DTSTART;TZID=America/Chicago:20241112T110000
DTEND;TZID=America/Chicago:20241112T110000
DTSTAMP:20260424T052349
CREATED:20240921T193641Z
LAST-MODIFIED:20240921T194219Z
UID:10019528-1731409200-1731409200@woodlandschildrensmuseum.org
SUMMARY:Boogie Bash-Native American Rhythm
DESCRIPTION:Boogie Bash on Tuesday\, November 12th at 11am\, presents “Native American Rhythms“. November is Native American Alaska Native Heritage Month; and we will be celebrating with fun activities including ribbon dancing\, a Native American Friendship Dance\, and playing rhythm instruments to lively Native American music.  #Dance #Movement #Music #ToddlerMom #Art #ChildrensMuseum #TheWoodlands #WoodlandsMom #TheWoodlandsChildrensMuseum   Included in the price of admission\, which is $9 for adults and children 1 year and older. bit.ly/TWCMtickets \nFall Hours (NEW OPEN TIME)\nTuesday-Thursday 9:30am-2:00pm\, Friday 9:30am-4:00pm\, Saturday 10:00am-5:00pm. Closed Sunday and Monday. \n\nAs a 501(c)3 Non-Profit\, our goal is to make memories and create learning opportunities for children in our community.\nYour donation will help children discover\, play\, imagine\, and grow in a safe and nurturing environment. Donate here 
URL:https://woodlandschildrensmuseum.org/event/boogie-bash-native-american-rhythm/
LOCATION:The Woodlands Children’s Museum
END:VEVENT
BEGIN:VEVENT
DTSTART;TZID=America/Chicago:20241113T093000
DTEND;TZID=America/Chicago:20241113T093000
DTSTAMP:20260424T052349
CREATED:20240723T201350Z
LAST-MODIFIED:20251024T201329Z
UID:10020406-1731490200-1731490200@woodlandschildrensmuseum.org
SUMMARY:Museum Open
DESCRIPTION:Fall Hours: August 12th-December 30th\nTuesday-Thursday 9:30am-2:00pm\, Friday 9:30am-4:00pm\, Saturday 10:00am-5:00pm\nClosed Sunday and Monday \nAdmission is $9 for adults and children 1 year and older. Please visit here to reserve your timed session tickets. \nMembers FREE. Become a member today\, click here.  \n\nAs a 501(c)3 Non-Profit\, our goal is to make memories and create learning opportunities for children in our community.\nYour donation will help children discover\, play\, imagine\, and grow in a safe and nurturing environment. Donate here 
URL:https://woodlandschildrensmuseum.org/event/museum-open-25-2/2024-11-13/
LOCATION:The Woodlands Children’s Museum
END:VEVENT
BEGIN:VEVENT
DTSTART;TZID=America/Chicago:20241114T093000
DTEND;TZID=America/Chicago:20241114T093000
DTSTAMP:20260424T052349
CREATED:20240723T201350Z
LAST-MODIFIED:20251024T201329Z
UID:10020407-1731576600-1731576600@woodlandschildrensmuseum.org
SUMMARY:Museum Open
DESCRIPTION:Fall Hours: August 12th-December 30th\nTuesday-Thursday 9:30am-2:00pm\, Friday 9:30am-4:00pm\, Saturday 10:00am-5:00pm\nClosed Sunday and Monday \nAdmission is $9 for adults and children 1 year and older. Please visit here to reserve your timed session tickets. \nMembers FREE. Become a member today\, click here.  \n\nAs a 501(c)3 Non-Profit\, our goal is to make memories and create learning opportunities for children in our community.\nYour donation will help children discover\, play\, imagine\, and grow in a safe and nurturing environment. Donate here 
URL:https://woodlandschildrensmuseum.org/event/museum-open-25-2/2024-11-14/
LOCATION:The Woodlands Children’s Museum
END:VEVENT
BEGIN:VEVENT
DTSTART;TZID=America/Chicago:20241114T110000
DTEND;TZID=America/Chicago:20241114T110000
DTSTAMP:20260424T052349
CREATED:20240921T195131Z
LAST-MODIFIED:20240921T195531Z
UID:10019532-1731582000-1731582000@woodlandschildrensmuseum.org
SUMMARY:Shadow Puppet Theatre-Fall Leaves Fall
DESCRIPTION:Shadow Puppet Theatre Thursday\, November 14th at 11am presents “Fall Leaves Fall” by Zoe Hall. Children will learn about all the fun changes and activities that are part of autumn. Included in the price of admission\, which is $9 for adults and children 1 year and older.  bit.ly/TWCMtickets  #ToddlerMom #Art #ChildrensMuseum #TheWoodlands #WoodlandsMom #BookReading #StoryTime #TheWoodlandsChildrensMuseum \nShadow Puppet Theatre is an introduction to storytelling elements that allow our readers and audience to interact directly with each other\, children of all ages are enchanted with the animated shadows. \nFall Hours (NEW OPEN TIME)\nTuesday-Thursday 9:30am-2:00pm\nFriday 9:30am-4:00pm\nSaturday 10:00am-5:00pm\nClosed Sunday and Monday \n\nAs a 501(c)3 Non-Profit\, our goal is to make memories and create learning opportunities for children in our community.\nYour donation will help children discover\, play\, imagine\, and grow in a safe and nurturing environment. Donate here 
URL:https://woodlandschildrensmuseum.org/event/shadow-puppet-theatre-143/
LOCATION:The Woodlands Children’s Museum
END:VEVENT
BEGIN:VEVENT
DTSTART;TZID=America/Chicago:20241115T093000
DTEND;TZID=America/Chicago:20241115T093000
DTSTAMP:20260424T052349
CREATED:20240723T201350Z
LAST-MODIFIED:20251024T201329Z
UID:10020408-1731663000-1731663000@woodlandschildrensmuseum.org
SUMMARY:Museum Open
DESCRIPTION:Fall Hours: August 12th-December 30th\nTuesday-Thursday 9:30am-2:00pm\, Friday 9:30am-4:00pm\, Saturday 10:00am-5:00pm\nClosed Sunday and Monday \nAdmission is $9 for adults and children 1 year and older. Please visit here to reserve your timed session tickets. \nMembers FREE. Become a member today\, click here.  \n\nAs a 501(c)3 Non-Profit\, our goal is to make memories and create learning opportunities for children in our community.\nYour donation will help children discover\, play\, imagine\, and grow in a safe and nurturing environment. Donate here 
URL:https://woodlandschildrensmuseum.org/event/museum-open-25-2/2024-11-15/
LOCATION:The Woodlands Children’s Museum
END:VEVENT
BEGIN:VEVENT
DTSTART;TZID=America/Chicago:20241115T110000
DTEND;TZID=America/Chicago:20241115T110000
DTSTAMP:20260424T052349
CREATED:20240921T200543Z
LAST-MODIFIED:20240921T200636Z
UID:10019536-1731668400-1731668400@woodlandschildrensmuseum.org
SUMMARY:Storybook Theatre-Bear Came Along
DESCRIPTION:Storybook Theatre at 11am Friday\, November 15th presents “Bear Came Along” by Richard T. Morris. A river flowing through a forest provides the opportunity for adventures to a big bear and his friends and illustrates the importance of friendship and community.  Included in the price of admission\, which is $9 for adults and children 1 year and older. bit.ly/TWCMtickets  #ToddlerMom #Art #ChildrensMuseum #TheWoodlands #WoodlandsMom #BookReading #StoryTime #TheWoodlandsChildrensMuseum \nIntroduce your child to the wonder of reading and instill a love of books at an early age. Storybook Theatre combines your favorite childhood books with songs\, rhymes and fingerplays which are meant to promote early literacy and enhance language development. \nFall Hours (NEW OPEN TIME)\nTuesday-Thursday 9:30am-2:00pm\nFriday 9:30am-4:00pm\nSaturday 10:00am-5:00pm\nClosed Sunday and Monday \n\nAs a 501(c)3 Non-Profit\, our goal is to make memories and create learning opportunities for children in our community.\nYour donation will help children discover\, play\, imagine\, and grow in a safe and nurturing environment. Donate here 
URL:https://woodlandschildrensmuseum.org/event/storybook-theatre-bear-came-along/
LOCATION:The Woodlands Children’s Museum
END:VEVENT
END:VCALENDAR