BEGIN:VCALENDAR
VERSION:2.0
PRODID:-//The Woodlands Children&#039;s Museum - ECPv6.15.20//NONSGML v1.0//EN
CALSCALE:GREGORIAN
METHOD:PUBLISH
X-WR-CALNAME:The Woodlands Children&#039;s Museum
X-ORIGINAL-URL:https://woodlandschildrensmuseum.org
X-WR-CALDESC:Events for The Woodlands Children&#039;s Museum
REFRESH-INTERVAL;VALUE=DURATION:PT1H
X-Robots-Tag:noindex
X-PUBLISHED-TTL:PT1H
BEGIN:VTIMEZONE
TZID:America/Chicago
BEGIN:DAYLIGHT
TZOFFSETFROM:-0600
TZOFFSETTO:-0500
TZNAME:CDT
DTSTART:20230312T080000
END:DAYLIGHT
BEGIN:STANDARD
TZOFFSETFROM:-0500
TZOFFSETTO:-0600
TZNAME:CST
DTSTART:20231105T070000
END:STANDARD
BEGIN:DAYLIGHT
TZOFFSETFROM:-0600
TZOFFSETTO:-0500
TZNAME:CDT
DTSTART:20240310T080000
END:DAYLIGHT
BEGIN:STANDARD
TZOFFSETFROM:-0500
TZOFFSETTO:-0600
TZNAME:CST
DTSTART:20241103T070000
END:STANDARD
BEGIN:DAYLIGHT
TZOFFSETFROM:-0600
TZOFFSETTO:-0500
TZNAME:CDT
DTSTART:20250309T080000
END:DAYLIGHT
BEGIN:STANDARD
TZOFFSETFROM:-0500
TZOFFSETTO:-0600
TZNAME:CST
DTSTART:20251102T070000
END:STANDARD
END:VTIMEZONE
BEGIN:VEVENT
DTSTART;TZID=America/Chicago:20241027T080000
DTEND;TZID=America/Chicago:20241027T170000
DTSTAMP:20260424T035819
CREATED:20231118T183813Z
LAST-MODIFIED:20250203T184526Z
UID:10018355-1730016000-1730048400@woodlandschildrensmuseum.org
SUMMARY:Museum Closed
DESCRIPTION:Hours: Tues-Thurs 10am-2pm.\nFri. 10am-4pm. Sat. 10am-5pm.\nClosed Sundays and Mondays\nStarting Jan. 2nd daily admission is $9 per person 1 years and older\, children under 1 and Museum Members are free.\nRecommended ages 7 years and under.\nChildren must be accompanied by an adult at all times. Click for tickets. \nAs a 501(c)3 Non-Profit\, our goal is to make memories and create learning opportunities for children in our community. Your donation will help children discover\, play\, imagine\, and grow in a safe and nurturing environment. Click here to donate now.  \n  \n 
URL:https://woodlandschildrensmuseum.org/event/museum-closed-100/2024-10-27/
LOCATION:The Woodlands Children’s Museum
END:VEVENT
BEGIN:VEVENT
DTSTART;TZID=America/Chicago:20241027T130000
DTEND;TZID=America/Chicago:20241027T170000
DTSTAMP:20260424T035819
CREATED:20240813T221307Z
LAST-MODIFIED:20240814T143424Z
UID:10019488-1730034000-1730048400@woodlandschildrensmuseum.org
SUMMARY:Trick or Treat Trail at Rob Fleming Rec Center
DESCRIPTION:Join us at Trick or Treat Trail Sunday\, October 27 from 1pm-5pm at Rob Fleming Rec Center\, we will be having fun with SLIME and creating amazing art projects. 
URL:https://woodlandschildrensmuseum.org/event/trick-or-treat-trail-at-rob-fleming-rec-center/
LOCATION:The Woodlands Children’s Museum
END:VEVENT
BEGIN:VEVENT
DTSTART;TZID=America/Chicago:20241028T080000
DTEND;TZID=America/Chicago:20241028T170000
DTSTAMP:20260424T035819
CREATED:20231118T183813Z
LAST-MODIFIED:20250203T184526Z
UID:10018356-1730102400-1730134800@woodlandschildrensmuseum.org
SUMMARY:Museum Closed
DESCRIPTION:Hours: Tues-Thurs 10am-2pm.\nFri. 10am-4pm. Sat. 10am-5pm.\nClosed Sundays and Mondays\nStarting Jan. 2nd daily admission is $9 per person 1 years and older\, children under 1 and Museum Members are free.\nRecommended ages 7 years and under.\nChildren must be accompanied by an adult at all times. Click for tickets. \nAs a 501(c)3 Non-Profit\, our goal is to make memories and create learning opportunities for children in our community. Your donation will help children discover\, play\, imagine\, and grow in a safe and nurturing environment. Click here to donate now.  \n  \n 
URL:https://woodlandschildrensmuseum.org/event/museum-closed-100/2024-10-28/
LOCATION:The Woodlands Children’s Museum
END:VEVENT
BEGIN:VEVENT
DTSTART;TZID=America/Chicago:20241029T093000
DTEND;TZID=America/Chicago:20241029T093000
DTSTAMP:20260424T035819
CREATED:20240723T201350Z
LAST-MODIFIED:20251024T201329Z
UID:10019070-1730194200-1730194200@woodlandschildrensmuseum.org
SUMMARY:Museum Open
DESCRIPTION:Fall Hours: August 12th-December 30th\nTuesday-Thursday 9:30am-2:00pm\, Friday 9:30am-4:00pm\, Saturday 10:00am-5:00pm\nClosed Sunday and Monday \nAdmission is $9 for adults and children 1 year and older. Please visit here to reserve your timed session tickets. \nMembers FREE. Become a member today\, click here.  \n\nAs a 501(c)3 Non-Profit\, our goal is to make memories and create learning opportunities for children in our community.\nYour donation will help children discover\, play\, imagine\, and grow in a safe and nurturing environment. Donate here 
URL:https://woodlandschildrensmuseum.org/event/museum-open-25-2/2024-10-29/
LOCATION:The Woodlands Children’s Museum
END:VEVENT
BEGIN:VEVENT
DTSTART;TZID=America/Chicago:20241029T093000
DTEND;TZID=America/Chicago:20241029T093000
DTSTAMP:20260424T035819
CREATED:20240827T231709Z
LAST-MODIFIED:20250621T182216Z
UID:10019345-1730194200-1730194200@woodlandschildrensmuseum.org
SUMMARY:Rhyme Time for babies and toddlers ages 6-24 months.
DESCRIPTION:Rhyme Time is a group class focused on gently exposing your child to an environment of music through songs\, movement\, singing and first introductions to instruments. It’s an excellent way to interact with other families in our community\, while fostering socialization for babies. Meets TUESDAYS at 9:30am\, included in the price of admission\, which is $9 for adults and children 1 year and older.  bit.ly/TWCMtickets \nSummer Hours\nJune 3rd – August 9th 2025\nTuesday-Friday 9:30am-4:00pm\, Saturday\, 10:00am-5:00pm. Closed Sunday and Monday. \nFall Hours\nTuesday-Thursday 9:30am-2:00pm\, Friday 9:30am-4:00pm\, Saturday 10:00am-5:00pm\nClosed Sunday and Monday \n\nAs a 501(c)3 Non-Profit\, our goal is to make memories and create learning opportunities for children in our community.\nYour donation will help children discover\, play\, imagine\, and grow in a safe and nurturing environment. Donate here 
URL:https://woodlandschildrensmuseum.org/event/rhyme-time-for-babies-and-toddlers-ages-6-24-months-5-2/2024-10-29/
LOCATION:The Woodlands Children’s Museum
END:VEVENT
BEGIN:VEVENT
DTSTART;TZID=America/Chicago:20241029T110000
DTEND;TZID=America/Chicago:20241029T110000
DTSTAMP:20260424T035819
CREATED:20240830T212934Z
LAST-MODIFIED:20240830T213044Z
UID:10019511-1730199600-1730199600@woodlandschildrensmuseum.org
SUMMARY:Boogie Bash-Halloween Hop
DESCRIPTION:Boogie Bash on Tuesday\, October 29th at 11am\, presents Halloween Hop.  We’re celebrating Halloween with kid-friendly fingerplays\, songs\, and creative movement activities.  #Dance #Movement #Music #ToddlerMom #Art #ChildrensMuseum #TheWoodlands #WoodlandsMom #TheWoodlandsChildrensMuseum   Included in the price of admission\, which is $9 for adults and children 1 year and older. bit.ly/TWCMtickets \nFall Hours (NEW OPEN TIME)\nTuesday-Thursday 9:30am-2:00pm\, Friday 9:30am-4:00pm\, Saturday 10:00am-5:00pm. Closed Sunday and Monday. \n\nAs a 501(c)3 Non-Profit\, our goal is to make memories and create learning opportunities for children in our community.\nYour donation will help children discover\, play\, imagine\, and grow in a safe and nurturing environment. Donate here 
URL:https://woodlandschildrensmuseum.org/event/boogie-bash-halloween-hop/
LOCATION:The Woodlands Children’s Museum
END:VEVENT
BEGIN:VEVENT
DTSTART;TZID=America/Chicago:20241030T093000
DTEND;TZID=America/Chicago:20241030T093000
DTSTAMP:20260424T035819
CREATED:20240831T195951Z
LAST-MODIFIED:20240831T200654Z
UID:10019071-1730280600-1730280600@woodlandschildrensmuseum.org
SUMMARY:Museum only open 9:30am-Noon
DESCRIPTION:Closing early for SpookTacular set up.  \n \nClick for tickets.  \n  \nFall Hours (NEW OPEN TIME)\nTuesday-Thursday 9:30am-2:00pm \nFriday 9:30am-4:00pm\nSaturday 10:00am-5:00pm\nClosed Sunday and Monday \n  \nAdmission is $9 for adults and children 1 year and older. Please visit here to reserve your timed session tickets. \nMembers FREE. Become a member today\, click here.  \n\nAs a 501(c)3 Non-Profit\, our goal is to make memories and create learning opportunities for children in our community.\nYour donation will help children discover\, play\, imagine\, and grow in a safe and nurturing environment. Donate here 
URL:https://woodlandschildrensmuseum.org/event/museum-open-25-2-2/
LOCATION:The Woodlands Children’s Museum
END:VEVENT
BEGIN:VEVENT
DTSTART;TZID=America/Chicago:20241031T090000
DTEND;TZID=America/Chicago:20241031T140000
DTSTAMP:20260424T035819
CREATED:20240809T213739Z
LAST-MODIFIED:20241022T121920Z
UID:10019483-1730365200-1730383200@woodlandschildrensmuseum.org
SUMMARY:Spooktacular 9am-2pm
DESCRIPTION:Spooktacular\nThursday\, October 31st\nWear your costumes and join the museum for our annual SpookTacular Halloween Monster Mash Party. \n• Monty the Magician Magic shows at 10:30am\, 11:30am 12:30pm and 1:30pm. \n• SpookTacular art projects and games.\n• Monster Mash Boogie Bash at 10:00am and 11:00am. \nThis non-spooky event will be filled with \nchild-friendly games and activities.\nAdults $9\, Children $12\, under one $6\nClick for tickets. \nThank you to AmeriClinic for Kids\, for supporting our SpookTacular event! Stop by and visit their caricature artist next Thursday\, October 31 for a special spooky drawing in your favorite costume!
URL:https://woodlandschildrensmuseum.org/event/spooktacular-4/
LOCATION:The Woodlands Children’s Museum
END:VEVENT
BEGIN:VEVENT
DTSTART;TZID=America/Chicago:20241031T090000
DTEND;TZID=America/Chicago:20241031T140000
DTSTAMP:20260424T035819
CREATED:20240831T201830Z
LAST-MODIFIED:20240831T201923Z
UID:10019072-1730365200-1730383200@woodlandschildrensmuseum.org
SUMMARY:Museum ONLY open for SpookTacular
DESCRIPTION:Spooktacular\nThursday\, October 31st\nWear your costumes and join the museum for our annual SpookTacular Halloween Monster Mash Party. \n• Monty the Magician Magic shows at 10:30am\, 11:30am 12:30pm and 1:30pm. \n• SpookTacular art projects and games.\n• Monster Mash Boogie Bash at 10:00am and 11:00am. \nThis non-spooky event will be filled with \nchild-friendly games and activities.\nAdults $9\, Children $12\, under one $6\nClick for tickets.
URL:https://woodlandschildrensmuseum.org/event/museum-open-25-2-3/
LOCATION:The Woodlands Children’s Museum
END:VEVENT
BEGIN:VEVENT
DTSTART;TZID=America/Chicago:20241031T100000
DTEND;TZID=America/Chicago:20241031T110000
DTSTAMP:20260424T035819
CREATED:20240831T192407Z
LAST-MODIFIED:20241028T144919Z
UID:10019517-1730368800-1730372400@woodlandschildrensmuseum.org
SUMMARY:Monster Mash Boogie Bash at 10am & 11am
DESCRIPTION:Miss Jan will share a child-friendly “spooky” story and fun Halloween musical activities at each session. At 10:00am- Go Away\, Big Green Monster! by Ed Emberley. This classic story invites children to conquer their fears and handle their emotions through fun interaction and imagination by creating a “monster” and then making him disappear. Then at 11:00am- Spooky Spooky Spooky! by Cathy MacLennan. This non-scary yet spine-tingling tale transports us through the dark hours of Halloween night and introduces us to some creepy creatures along the way like “horrible howling cats” and “slithery slugs.” #Dance #Movement #Music #ToddlerMom #Art #ChildrensMuseum #TheWoodlands #WoodlandsMom #TheWoodlandsChildrensMuseum   \nFall Hours (NEW OPEN TIME)\nTuesday-Thursday 9:30am-2:00pm\, Friday 9:30am-4:00pm\, Saturday 10:00am-5:00pm. Closed Sunday and Monday. \n\nAs a 501(c)3 Non-Profit\, our goal is to make memories and create learning opportunities for children in our community.\nYour donation will help children discover\, play\, imagine\, and grow in a safe and nurturing environment. Donate here 
URL:https://woodlandschildrensmuseum.org/event/monster-mash-boogie-bash-at-10am-11am/
LOCATION:The Woodlands Children’s Museum
END:VEVENT
BEGIN:VEVENT
DTSTART;TZID=America/Chicago:20241101T093000
DTEND;TZID=America/Chicago:20241101T093000
DTSTAMP:20260424T035819
CREATED:20240723T201350Z
LAST-MODIFIED:20251024T201329Z
UID:10020402-1730453400-1730453400@woodlandschildrensmuseum.org
SUMMARY:Museum Open
DESCRIPTION:Fall Hours: August 12th-December 30th\nTuesday-Thursday 9:30am-2:00pm\, Friday 9:30am-4:00pm\, Saturday 10:00am-5:00pm\nClosed Sunday and Monday \nAdmission is $9 for adults and children 1 year and older. Please visit here to reserve your timed session tickets. \nMembers FREE. Become a member today\, click here.  \n\nAs a 501(c)3 Non-Profit\, our goal is to make memories and create learning opportunities for children in our community.\nYour donation will help children discover\, play\, imagine\, and grow in a safe and nurturing environment. Donate here 
URL:https://woodlandschildrensmuseum.org/event/museum-open-25-2/2024-11-01/
LOCATION:The Woodlands Children’s Museum
END:VEVENT
BEGIN:VEVENT
DTSTART;TZID=America/Chicago:20241101T110000
DTEND;TZID=America/Chicago:20241101T110000
DTSTAMP:20260424T035819
CREATED:20240921T200306Z
LAST-MODIFIED:20240921T200343Z
UID:10019535-1730458800-1730458800@woodlandschildrensmuseum.org
SUMMARY:Storybook Theatre-Binny’s Diwali
DESCRIPTION:Storybook Theatre at 11am Friday\, November 1st presents “Binny’s Diwali” by Thrity Umrigar. We are celebrating Diwali today. This heartwarming story about Binny sharing details and customs of her favorite holiday with her class gives us a look into the special celebration of Diwali\, the Festival of Lights.  Included in the price of admission\, which is $9 for adults and children 1 year and older. bit.ly/TWCMtickets  #ToddlerMom #Art #ChildrensMuseum #TheWoodlands #WoodlandsMom #BookReading #StoryTime #TheWoodlandsChildrensMuseum \nIntroduce your child to the wonder of reading and instill a love of books at an early age. Storybook Theatre combines your favorite childhood books with songs\, rhymes and fingerplays which are meant to promote early literacy and enhance language development. \nFall Hours (NEW OPEN TIME)\nTuesday-Thursday 9:30am-2:00pm\nFriday 9:30am-4:00pm\nSaturday 10:00am-5:00pm\nClosed Sunday and Monday \n\nAs a 501(c)3 Non-Profit\, our goal is to make memories and create learning opportunities for children in our community.\nYour donation will help children discover\, play\, imagine\, and grow in a safe and nurturing environment. Donate here 
URL:https://woodlandschildrensmuseum.org/event/storybook-theatre-binnys-diwali/
LOCATION:The Woodlands Children’s Museum
END:VEVENT
END:VCALENDAR