BEGIN:VCALENDAR
VERSION:2.0
PRODID:-//The Woodlands Children&#039;s Museum - ECPv6.15.20//NONSGML v1.0//EN
CALSCALE:GREGORIAN
METHOD:PUBLISH
X-ORIGINAL-URL:https://woodlandschildrensmuseum.org
X-WR-CALDESC:Events for The Woodlands Children&#039;s Museum
REFRESH-INTERVAL;VALUE=DURATION:PT1H
X-Robots-Tag:noindex
X-PUBLISHED-TTL:PT1H
BEGIN:VTIMEZONE
TZID:America/Chicago
BEGIN:DAYLIGHT
TZOFFSETFROM:-0600
TZOFFSETTO:-0500
TZNAME:CDT
DTSTART:20230312T080000
END:DAYLIGHT
BEGIN:STANDARD
TZOFFSETFROM:-0500
TZOFFSETTO:-0600
TZNAME:CST
DTSTART:20231105T070000
END:STANDARD
BEGIN:DAYLIGHT
TZOFFSETFROM:-0600
TZOFFSETTO:-0500
TZNAME:CDT
DTSTART:20240310T080000
END:DAYLIGHT
BEGIN:STANDARD
TZOFFSETFROM:-0500
TZOFFSETTO:-0600
TZNAME:CST
DTSTART:20241103T070000
END:STANDARD
BEGIN:DAYLIGHT
TZOFFSETFROM:-0600
TZOFFSETTO:-0500
TZNAME:CDT
DTSTART:20250309T080000
END:DAYLIGHT
BEGIN:STANDARD
TZOFFSETFROM:-0500
TZOFFSETTO:-0600
TZNAME:CST
DTSTART:20251102T070000
END:STANDARD
END:VTIMEZONE
BEGIN:VEVENT
DTSTART;TZID=America/Chicago:20241020T080000
DTEND;TZID=America/Chicago:20241020T170000
DTSTAMP:20260424T070129
CREATED:20231118T183813Z
LAST-MODIFIED:20250203T184526Z
UID:10018353-1729411200-1729443600@woodlandschildrensmuseum.org
SUMMARY:Museum Closed
DESCRIPTION:Hours: Tues-Thurs 10am-2pm.\nFri. 10am-4pm. Sat. 10am-5pm.\nClosed Sundays and Mondays\nStarting Jan. 2nd daily admission is $9 per person 1 years and older\, children under 1 and Museum Members are free.\nRecommended ages 7 years and under.\nChildren must be accompanied by an adult at all times. Click for tickets. \nAs a 501(c)3 Non-Profit\, our goal is to make memories and create learning opportunities for children in our community. Your donation will help children discover\, play\, imagine\, and grow in a safe and nurturing environment. Click here to donate now.  \n  \n 
URL:https://woodlandschildrensmuseum.org/event/museum-closed-100/2024-10-20/
LOCATION:The Woodlands Children’s Museum
END:VEVENT
BEGIN:VEVENT
DTSTART;TZID=America/Chicago:20241021T080000
DTEND;TZID=America/Chicago:20241021T170000
DTSTAMP:20260424T070129
CREATED:20231118T183813Z
LAST-MODIFIED:20250203T184526Z
UID:10018354-1729497600-1729530000@woodlandschildrensmuseum.org
SUMMARY:Museum Closed
DESCRIPTION:Hours: Tues-Thurs 10am-2pm.\nFri. 10am-4pm. Sat. 10am-5pm.\nClosed Sundays and Mondays\nStarting Jan. 2nd daily admission is $9 per person 1 years and older\, children under 1 and Museum Members are free.\nRecommended ages 7 years and under.\nChildren must be accompanied by an adult at all times. Click for tickets. \nAs a 501(c)3 Non-Profit\, our goal is to make memories and create learning opportunities for children in our community. Your donation will help children discover\, play\, imagine\, and grow in a safe and nurturing environment. Click here to donate now.  \n  \n 
URL:https://woodlandschildrensmuseum.org/event/museum-closed-100/2024-10-21/
LOCATION:The Woodlands Children’s Museum
END:VEVENT
BEGIN:VEVENT
DTSTART;TZID=America/Chicago:20241022T093000
DTEND;TZID=America/Chicago:20241022T093000
DTSTAMP:20260424T070129
CREATED:20240723T201350Z
LAST-MODIFIED:20251024T201329Z
UID:10019065-1729589400-1729589400@woodlandschildrensmuseum.org
SUMMARY:Museum Open
DESCRIPTION:Fall Hours: August 12th-December 30th\nTuesday-Thursday 9:30am-2:00pm\, Friday 9:30am-4:00pm\, Saturday 10:00am-5:00pm\nClosed Sunday and Monday \nAdmission is $9 for adults and children 1 year and older. Please visit here to reserve your timed session tickets. \nMembers FREE. Become a member today\, click here.  \n\nAs a 501(c)3 Non-Profit\, our goal is to make memories and create learning opportunities for children in our community.\nYour donation will help children discover\, play\, imagine\, and grow in a safe and nurturing environment. Donate here 
URL:https://woodlandschildrensmuseum.org/event/museum-open-25-2/2024-10-22/
LOCATION:The Woodlands Children’s Museum
END:VEVENT
BEGIN:VEVENT
DTSTART;TZID=America/Chicago:20241022T093000
DTEND;TZID=America/Chicago:20241022T093000
DTSTAMP:20260424T070129
CREATED:20240827T231709Z
LAST-MODIFIED:20250621T182216Z
UID:10019344-1729589400-1729589400@woodlandschildrensmuseum.org
SUMMARY:Rhyme Time for babies and toddlers ages 6-24 months.
DESCRIPTION:Rhyme Time is a group class focused on gently exposing your child to an environment of music through songs\, movement\, singing and first introductions to instruments. It’s an excellent way to interact with other families in our community\, while fostering socialization for babies. Meets TUESDAYS at 9:30am\, included in the price of admission\, which is $9 for adults and children 1 year and older.  bit.ly/TWCMtickets \nSummer Hours\nJune 3rd – August 9th 2025\nTuesday-Friday 9:30am-4:00pm\, Saturday\, 10:00am-5:00pm. Closed Sunday and Monday. \nFall Hours\nTuesday-Thursday 9:30am-2:00pm\, Friday 9:30am-4:00pm\, Saturday 10:00am-5:00pm\nClosed Sunday and Monday \n\nAs a 501(c)3 Non-Profit\, our goal is to make memories and create learning opportunities for children in our community.\nYour donation will help children discover\, play\, imagine\, and grow in a safe and nurturing environment. Donate here 
URL:https://woodlandschildrensmuseum.org/event/rhyme-time-for-babies-and-toddlers-ages-6-24-months-5-2/2024-10-22/
LOCATION:The Woodlands Children’s Museum
END:VEVENT
BEGIN:VEVENT
DTSTART;TZID=America/Chicago:20241022T110000
DTEND;TZID=America/Chicago:20241022T110000
DTSTAMP:20260424T070129
CREATED:20240830T212738Z
LAST-MODIFIED:20240831T185913Z
UID:10019512-1729594800-1729594800@woodlandschildrensmuseum.org
SUMMARY:Boogie Bash-Movin’ and Groovin’ to Favorite Children’s Songs
DESCRIPTION:Boogie Bash on Tuesday\, October 22nd at 11am\, presents Movin’ and Groovin’ to Favorite Children’s Songs.  We will be enjoying some favorite songs today through creative movement and fingerplays. #Dance #Movement #Music #ToddlerMom #Art #ChildrensMuseum #TheWoodlands #WoodlandsMom #TheWoodlandsChildrensMuseum   Included in the price of admission\, which is $9 for adults and children 1 year and older. bit.ly/TWCMtickets \nFall Hours (NEW OPEN TIME)\nTuesday-Thursday 9:30am-2:00pm\, Friday 9:30am-4:00pm\, Saturday 10:00am-5:00pm. Closed Sunday and Monday. \n\nAs a 501(c)3 Non-Profit\, our goal is to make memories and create learning opportunities for children in our community.\nYour donation will help children discover\, play\, imagine\, and grow in a safe and nurturing environment. Donate here 
URL:https://woodlandschildrensmuseum.org/event/boogie-bash-movin-and-groovin-to-favorite-childrens-songs-2/
LOCATION:The Woodlands Children’s Museum
END:VEVENT
BEGIN:VEVENT
DTSTART;TZID=America/Chicago:20241023T093000
DTEND;TZID=America/Chicago:20241023T093000
DTSTAMP:20260424T070129
CREATED:20240723T201350Z
LAST-MODIFIED:20251024T201329Z
UID:10020399-1729675800-1729675800@woodlandschildrensmuseum.org
SUMMARY:Museum Open
DESCRIPTION:Fall Hours: August 12th-December 30th\nTuesday-Thursday 9:30am-2:00pm\, Friday 9:30am-4:00pm\, Saturday 10:00am-5:00pm\nClosed Sunday and Monday \nAdmission is $9 for adults and children 1 year and older. Please visit here to reserve your timed session tickets. \nMembers FREE. Become a member today\, click here.  \n\nAs a 501(c)3 Non-Profit\, our goal is to make memories and create learning opportunities for children in our community.\nYour donation will help children discover\, play\, imagine\, and grow in a safe and nurturing environment. Donate here 
URL:https://woodlandschildrensmuseum.org/event/museum-open-25-2/2024-10-23/
LOCATION:The Woodlands Children’s Museum
END:VEVENT
BEGIN:VEVENT
DTSTART;TZID=America/Chicago:20241023T110000
DTEND;TZID=America/Chicago:20241023T110000
DTSTAMP:20260424T070129
CREATED:20240831T195045Z
LAST-MODIFIED:20240903T215348Z
UID:10019523-1729681200-1729681200@woodlandschildrensmuseum.org
SUMMARY:Looking at Art Lady Presentation
DESCRIPTION:Looking at Art Lady Presentation on Wednesday\, October 23rd at 11:00am. Children and adults will enjoy this light-hearted journey through art history. Famous paintings throughout time will plant a seed of interest in the fine arts for you and your child. We will briefly talk about each painting but quickly shift to giggles as each piece will have a parody version. Children will be introduced to various pop culture faces and characters in the parody while subtly remembering the original piece. #Educate #Empower #Excite #Art #ArtHistory  This event is included in the price of admission\, which is $9 for adults and children 1 year and older. bit.ly/TWCMtickets     \nThis project is supported in part by The David Gottlieb Education Micrgrant from The Woodlands Arts Council.\n  \nFall Hours (NEW OPEN TIME)\nTuesday-Thursday 9:30am-2:00pm\nFriday 9:30am-4:00pm\nSaturday 10:00am-5:00pm\nClosed Sunday and Monday \n\nAs a 501(c)3 Non-Profit\, our goal is to make memories and create learning opportunities for children in our community.\nYour donation will help children discover\, play\, imagine\, and grow in a safe and nurturing environment.\nDonate here.
URL:https://woodlandschildrensmuseum.org/event/looking-at-art-lady-presentation-15/
LOCATION:The Woodlands Children’s Museum
END:VEVENT
BEGIN:VEVENT
DTSTART;TZID=America/Chicago:20241024T093000
DTEND;TZID=America/Chicago:20241024T093000
DTSTAMP:20260424T070129
CREATED:20240723T201350Z
LAST-MODIFIED:20251024T201329Z
UID:10020400-1729762200-1729762200@woodlandschildrensmuseum.org
SUMMARY:Museum Open
DESCRIPTION:Fall Hours: August 12th-December 30th\nTuesday-Thursday 9:30am-2:00pm\, Friday 9:30am-4:00pm\, Saturday 10:00am-5:00pm\nClosed Sunday and Monday \nAdmission is $9 for adults and children 1 year and older. Please visit here to reserve your timed session tickets. \nMembers FREE. Become a member today\, click here.  \n\nAs a 501(c)3 Non-Profit\, our goal is to make memories and create learning opportunities for children in our community.\nYour donation will help children discover\, play\, imagine\, and grow in a safe and nurturing environment. Donate here 
URL:https://woodlandschildrensmuseum.org/event/museum-open-25-2/2024-10-24/
LOCATION:The Woodlands Children’s Museum
END:VEVENT
BEGIN:VEVENT
DTSTART;TZID=America/Chicago:20241024T110000
DTEND;TZID=America/Chicago:20241024T110000
DTSTAMP:20260424T070129
CREATED:20240831T191741Z
LAST-MODIFIED:20240831T191933Z
UID:10019516-1729767600-1729767600@woodlandschildrensmuseum.org
SUMMARY:Shadow Puppet Theatre-If You’re a Monster and You Know It
DESCRIPTION:Shadow Puppet Theatre Thursday\, October 24th at 11am presents “If You’re a Monster and You Know It” by Rebecca Emberley. This fun twist on “If You’re Happy and You Know It” follows some lively\, child-friendly monsters as they stomp their paws and twitch their tails!  Included in the price of admission\, which is $9 for adults and children 1 year and older.  bit.ly/TWCMtickets  #ToddlerMom #Art #ChildrensMuseum #TheWoodlands #WoodlandsMom #BookReading #StoryTime #TheWoodlandsChildrensMuseum  \nShadow Puppet Theatre is an introduction to storytelling elements that allow our readers and audience to interact directly with each other\, children of all ages are enchanted with the animated shadows. \nFall Hours (NEW OPEN TIME)\nTuesday-Thursday 9:30am-2:00pm\nFriday 9:30am-4:00pm\nSaturday 10:00am-5:00pm\nClosed Sunday and Monday \n\nAs a 501(c)3 Non-Profit\, our goal is to make memories and create learning opportunities for children in our community.\nYour donation will help children discover\, play\, imagine\, and grow in a safe and nurturing environment. Donate here 
URL:https://woodlandschildrensmuseum.org/event/shadow-puppet-theatre-if-youre-a-monster-and-you-know-it-4/
LOCATION:The Woodlands Children’s Museum
END:VEVENT
BEGIN:VEVENT
DTSTART;TZID=America/Chicago:20241025T093000
DTEND;TZID=America/Chicago:20241025T093000
DTSTAMP:20260424T070129
CREATED:20240723T201350Z
LAST-MODIFIED:20251024T201329Z
UID:10020401-1729848600-1729848600@woodlandschildrensmuseum.org
SUMMARY:Museum Open
DESCRIPTION:Fall Hours: August 12th-December 30th\nTuesday-Thursday 9:30am-2:00pm\, Friday 9:30am-4:00pm\, Saturday 10:00am-5:00pm\nClosed Sunday and Monday \nAdmission is $9 for adults and children 1 year and older. Please visit here to reserve your timed session tickets. \nMembers FREE. Become a member today\, click here.  \n\nAs a 501(c)3 Non-Profit\, our goal is to make memories and create learning opportunities for children in our community.\nYour donation will help children discover\, play\, imagine\, and grow in a safe and nurturing environment. Donate here 
URL:https://woodlandschildrensmuseum.org/event/museum-open-25-2/2024-10-25/
LOCATION:The Woodlands Children’s Museum
END:VEVENT
BEGIN:VEVENT
DTSTART;TZID=America/Chicago:20241025T110000
DTEND;TZID=America/Chicago:20241025T110000
DTSTAMP:20260424T070129
CREATED:20240831T193813Z
LAST-MODIFIED:20240831T193914Z
UID:10019519-1729854000-1729854000@woodlandschildrensmuseum.org
SUMMARY:Storybook Theatre-The Little Old Lady Who Was Not Afraid of Anything
DESCRIPTION:Storybook Theatre at 11am Friday\, October 25th presents “The Little Old Lady Who Was Not Afraid of Anything” by Linda Williams.  This is one of Miss Jan’s favorite stories for Halloween! Children will help provide sound effects for this child-friendly seasonal tale of the little old lady who encounters some noisy items while strolling through the woods. She gets over her fear in a delightful and creative way. Included in the price of admission\, which is $9 for adults and children 1 year and older. bit.ly/TWCMtickets  #ToddlerMom #Art #ChildrensMuseum #TheWoodlands #WoodlandsMom #BookReading #StoryTime #TheWoodlandsChildrensMuseum  \nIntroduce your child to the wonder of reading and instill a love of books at an early age. Storybook Theatre combines your favorite childhood books with songs\, rhymes and fingerplays which are meant to promote early literacy and enhance language development. \nFall Hours (NEW OPEN TIME)\nTuesday-Thursday 9:30am-2:00pm\nFriday 9:30am-4:00pm\nSaturday 10:00am-5:00pm\nClosed Sunday and Monday \n\nAs a 501(c)3 Non-Profit\, our goal is to make memories and create learning opportunities for children in our community.\nYour donation will help children discover\, play\, imagine\, and grow in a safe and nurturing environment. Donate here 
URL:https://woodlandschildrensmuseum.org/event/storybook-theatre-the-little-old-lady-who-was-not-afraid-of-anything-4/
LOCATION:The Woodlands Children’s Museum
END:VEVENT
END:VCALENDAR