BEGIN:VCALENDAR
VERSION:2.0
PRODID:-//The Woodlands Children&#039;s Museum - ECPv6.15.20//NONSGML v1.0//EN
CALSCALE:GREGORIAN
METHOD:PUBLISH
X-WR-CALNAME:The Woodlands Children&#039;s Museum
X-ORIGINAL-URL:https://woodlandschildrensmuseum.org
X-WR-CALDESC:Events for The Woodlands Children&#039;s Museum
REFRESH-INTERVAL;VALUE=DURATION:PT1H
X-Robots-Tag:noindex
X-PUBLISHED-TTL:PT1H
BEGIN:VTIMEZONE
TZID:America/Chicago
BEGIN:DAYLIGHT
TZOFFSETFROM:-0600
TZOFFSETTO:-0500
TZNAME:CDT
DTSTART:20230312T080000
END:DAYLIGHT
BEGIN:STANDARD
TZOFFSETFROM:-0500
TZOFFSETTO:-0600
TZNAME:CST
DTSTART:20231105T070000
END:STANDARD
BEGIN:DAYLIGHT
TZOFFSETFROM:-0600
TZOFFSETTO:-0500
TZNAME:CDT
DTSTART:20240310T080000
END:DAYLIGHT
BEGIN:STANDARD
TZOFFSETFROM:-0500
TZOFFSETTO:-0600
TZNAME:CST
DTSTART:20241103T070000
END:STANDARD
BEGIN:DAYLIGHT
TZOFFSETFROM:-0600
TZOFFSETTO:-0500
TZNAME:CDT
DTSTART:20250309T080000
END:DAYLIGHT
BEGIN:STANDARD
TZOFFSETFROM:-0500
TZOFFSETTO:-0600
TZNAME:CST
DTSTART:20251102T070000
END:STANDARD
END:VTIMEZONE
BEGIN:VEVENT
DTSTART;TZID=America/Chicago:20240915T080000
DTEND;TZID=America/Chicago:20240915T170000
DTSTAMP:20260424T085722
CREATED:20231118T183813Z
LAST-MODIFIED:20250203T184526Z
UID:10018343-1726387200-1726419600@woodlandschildrensmuseum.org
SUMMARY:Museum Closed
DESCRIPTION:Hours: Tues-Thurs 10am-2pm.\nFri. 10am-4pm. Sat. 10am-5pm.\nClosed Sundays and Mondays\nStarting Jan. 2nd daily admission is $9 per person 1 years and older\, children under 1 and Museum Members are free.\nRecommended ages 7 years and under.\nChildren must be accompanied by an adult at all times. Click for tickets. \nAs a 501(c)3 Non-Profit\, our goal is to make memories and create learning opportunities for children in our community. Your donation will help children discover\, play\, imagine\, and grow in a safe and nurturing environment. Click here to donate now.  \n  \n 
URL:https://woodlandschildrensmuseum.org/event/museum-closed-100/2024-09-15/
LOCATION:The Woodlands Children’s Museum
END:VEVENT
BEGIN:VEVENT
DTSTART;TZID=America/Chicago:20240916T080000
DTEND;TZID=America/Chicago:20240916T170000
DTSTAMP:20260424T085722
CREATED:20231118T183813Z
LAST-MODIFIED:20250203T184526Z
UID:10018344-1726473600-1726506000@woodlandschildrensmuseum.org
SUMMARY:Museum Closed
DESCRIPTION:Hours: Tues-Thurs 10am-2pm.\nFri. 10am-4pm. Sat. 10am-5pm.\nClosed Sundays and Mondays\nStarting Jan. 2nd daily admission is $9 per person 1 years and older\, children under 1 and Museum Members are free.\nRecommended ages 7 years and under.\nChildren must be accompanied by an adult at all times. Click for tickets. \nAs a 501(c)3 Non-Profit\, our goal is to make memories and create learning opportunities for children in our community. Your donation will help children discover\, play\, imagine\, and grow in a safe and nurturing environment. Click here to donate now.  \n  \n 
URL:https://woodlandschildrensmuseum.org/event/museum-closed-100/2024-09-16/
LOCATION:The Woodlands Children’s Museum
END:VEVENT
BEGIN:VEVENT
DTSTART;TZID=America/Chicago:20240917T093000
DTEND;TZID=America/Chicago:20240917T093000
DTSTAMP:20260424T085722
CREATED:20240515T200909Z
LAST-MODIFIED:20240515T201043Z
UID:10019339-1726565400-1726565400@woodlandschildrensmuseum.org
SUMMARY:Rhyme Time for babies and toddlers ages 6-24 months.
DESCRIPTION:Rhyme Time is a group class focused on gently exposing your child to an environment of music through songs\, movement\, singing and first introductions to instruments. It’s an excellent way to interact with other families in our community\, while fostering socialization for babies. Meets TUESDAYS at 9:30am\, included in the price of admission\, which is $9 for adults and children 1 year and older.  bit.ly/TWCMtickets \nSummer Hours:\nTuesday\, June 4th-Friday\, August 9th\nTuesday-Friday 9:30am-4:00pm\nSaturday 10am-5pm\nClosed Sunday and Monday \n\nAs a 501(c)3 Non-Profit\, our goal is to make memories and create learning opportunities for children in our community.\nYour donation will help children discover\, play\, imagine\, and grow in a safe and nurturing environment. Donate here 
URL:https://woodlandschildrensmuseum.org/event/rhyme-time-for-babies-and-toddlers-ages-6-24-months-5/2024-09-17/
LOCATION:The Woodlands Children’s Museum
END:VEVENT
BEGIN:VEVENT
DTSTART;TZID=America/Chicago:20240917T093000
DTEND;TZID=America/Chicago:20240917T093000
DTSTAMP:20260424T085722
CREATED:20240723T201350Z
LAST-MODIFIED:20251024T201329Z
UID:10019040-1726565400-1726565400@woodlandschildrensmuseum.org
SUMMARY:Museum Open
DESCRIPTION:Fall Hours: August 12th-December 30th\nTuesday-Thursday 9:30am-2:00pm\, Friday 9:30am-4:00pm\, Saturday 10:00am-5:00pm\nClosed Sunday and Monday \nAdmission is $9 for adults and children 1 year and older. Please visit here to reserve your timed session tickets. \nMembers FREE. Become a member today\, click here.  \n\nAs a 501(c)3 Non-Profit\, our goal is to make memories and create learning opportunities for children in our community.\nYour donation will help children discover\, play\, imagine\, and grow in a safe and nurturing environment. Donate here 
URL:https://woodlandschildrensmuseum.org/event/museum-open-25-2/2024-09-17/
LOCATION:The Woodlands Children’s Museum
END:VEVENT
BEGIN:VEVENT
DTSTART;TZID=America/Chicago:20240917T110000
DTEND;TZID=America/Chicago:20240917T110000
DTSTAMP:20260424T085722
CREATED:20240723T205603Z
LAST-MODIFIED:20240723T210450Z
UID:10019470-1726570800-1726570800@woodlandschildrensmuseum.org
SUMMARY:Boogie Bash-Pirate Party
DESCRIPTION:Boogie Bash on Tuesday\, September 17th at 11am\, presents “Pirate Party” September 19th is Talk Like a Pirate Day\, so we will enjoy a variety of fun musical activities celebrating all things pirate including walking the plank and learning some kid-friendly pirate vocabulary. #Dance #Movement #Music #ToddlerMom #Art #ChildrensMuseum Included in the price of admission\, which is $9 for adults and children 1 year and older. bit.ly/TWCMtickets \nFall Hours (NEW OPEN TIME)\nTuesday-Thursday 9:30am-2:00pm \nFriday 9:30am-4:00pm\nSaturday 10:00am-5:00pm\nClosed Sunday and Monday \n\nAs a 501(c)3 Non-Profit\, our goal is to make memories and create learning opportunities for children in our community.\nYour donation will help children discover\, play\, imagine\, and grow in a safe and nurturing environment. Donate here 
URL:https://woodlandschildrensmuseum.org/event/boogie-bash-pirate-party-3/
LOCATION:The Woodlands Children’s Museum
END:VEVENT
BEGIN:VEVENT
DTSTART;TZID=America/Chicago:20240918T093000
DTEND;TZID=America/Chicago:20240918T093000
DTSTAMP:20260424T085722
CREATED:20240723T201350Z
LAST-MODIFIED:20251024T201329Z
UID:10020384-1726651800-1726651800@woodlandschildrensmuseum.org
SUMMARY:Museum Open
DESCRIPTION:Fall Hours: August 12th-December 30th\nTuesday-Thursday 9:30am-2:00pm\, Friday 9:30am-4:00pm\, Saturday 10:00am-5:00pm\nClosed Sunday and Monday \nAdmission is $9 for adults and children 1 year and older. Please visit here to reserve your timed session tickets. \nMembers FREE. Become a member today\, click here.  \n\nAs a 501(c)3 Non-Profit\, our goal is to make memories and create learning opportunities for children in our community.\nYour donation will help children discover\, play\, imagine\, and grow in a safe and nurturing environment. Donate here 
URL:https://woodlandschildrensmuseum.org/event/museum-open-25-2/2024-09-18/
LOCATION:The Woodlands Children’s Museum
END:VEVENT
BEGIN:VEVENT
DTSTART;TZID=America/Chicago:20240919T093000
DTEND;TZID=America/Chicago:20240919T093000
DTSTAMP:20260424T085722
CREATED:20240723T201350Z
LAST-MODIFIED:20251024T201329Z
UID:10020385-1726738200-1726738200@woodlandschildrensmuseum.org
SUMMARY:Museum Open
DESCRIPTION:Fall Hours: August 12th-December 30th\nTuesday-Thursday 9:30am-2:00pm\, Friday 9:30am-4:00pm\, Saturday 10:00am-5:00pm\nClosed Sunday and Monday \nAdmission is $9 for adults and children 1 year and older. Please visit here to reserve your timed session tickets. \nMembers FREE. Become a member today\, click here.  \n\nAs a 501(c)3 Non-Profit\, our goal is to make memories and create learning opportunities for children in our community.\nYour donation will help children discover\, play\, imagine\, and grow in a safe and nurturing environment. Donate here 
URL:https://woodlandschildrensmuseum.org/event/museum-open-25-2/2024-09-19/
LOCATION:The Woodlands Children’s Museum
END:VEVENT
BEGIN:VEVENT
DTSTART;TZID=America/Chicago:20240919T110000
DTEND;TZID=America/Chicago:20240919T110000
DTSTAMP:20260424T085722
CREATED:20240723T212133Z
LAST-MODIFIED:20240723T212235Z
UID:10019474-1726743600-1726743600@woodlandschildrensmuseum.org
SUMMARY:Shadow Puppet Theatre-Pirate Princess
DESCRIPTION:Shadow Puppet Theatre Thursday\, September 19th at 11am presents “Pirate Princess” by Sudipta Bardhan-Quallen. Princess Bea prefers pirate ships over tea parties and other princess-like activities. When Captain Jack welcomes Bea aboard his ship\, she struggles to prove herself seaworthy and comes close to walking the plank until her princess skills rise to the occasion and save the day! By the way\, today is Talk Like a Pirate Day!   Included in the price of admission\, which is $9 for adults and children 1 year and older.  bit.ly/TWCMtickets   #BookReading #StoryTime #ChildrensBook #ToddlerMom #Art #ChildrensMuseum \nShadow Puppet Theatre is an introduction to storytelling elements that allow our readers and audience to interact directly with each other\, children of all ages are enchanted with the animated shadows. \nFall Hours (NEW OPEN TIME)\nTuesday-Thursday 9:30am-2:00pm\nFriday 9:30am-4:00pm\nSaturday 10:00am-5:00pm\nClosed Sunday and Monday \n\nAs a 501(c)3 Non-Profit\, our goal is to make memories and create learning opportunities for children in our community.\nYour donation will help children discover\, play\, imagine\, and grow in a safe and nurturing environment. Donate here 
URL:https://woodlandschildrensmuseum.org/event/shadow-puppet-theatre-pirate-princess-4/
LOCATION:The Woodlands Children’s Museum
END:VEVENT
BEGIN:VEVENT
DTSTART;TZID=America/Chicago:20240920T093000
DTEND;TZID=America/Chicago:20240920T093000
DTSTAMP:20260424T085722
CREATED:20240723T201350Z
LAST-MODIFIED:20251024T201329Z
UID:10020386-1726824600-1726824600@woodlandschildrensmuseum.org
SUMMARY:Museum Open
DESCRIPTION:Fall Hours: August 12th-December 30th\nTuesday-Thursday 9:30am-2:00pm\, Friday 9:30am-4:00pm\, Saturday 10:00am-5:00pm\nClosed Sunday and Monday \nAdmission is $9 for adults and children 1 year and older. Please visit here to reserve your timed session tickets. \nMembers FREE. Become a member today\, click here.  \n\nAs a 501(c)3 Non-Profit\, our goal is to make memories and create learning opportunities for children in our community.\nYour donation will help children discover\, play\, imagine\, and grow in a safe and nurturing environment. Donate here 
URL:https://woodlandschildrensmuseum.org/event/museum-open-25-2/2024-09-20/
LOCATION:The Woodlands Children’s Museum
END:VEVENT
BEGIN:VEVENT
DTSTART;TZID=America/Chicago:20240920T110000
DTEND;TZID=America/Chicago:20240920T110000
DTSTAMP:20260424T085722
CREATED:20240723T213535Z
LAST-MODIFIED:20240723T213914Z
UID:10019477-1726830000-1726830000@woodlandschildrensmuseum.org
SUMMARY:Storybook Theatre-Skippyjon Jones
DESCRIPTION:Storybook Theatre at 11am Friday\, September 20th presents “Skippyjon Jones” by Judy Schachner. It’s Happy Cat Month…the perfect time to share the exciting and humorous adventures of Skippyjon Jones\, a lively Siamese cat who insists that he is a Chihuahua named El Skippito!  Included in the price of admission\, which is $9 for adults and children 1 year and older. bit.ly/TWCMtickets  #BookReading #StoryTime #ChildrensBook #Educate #Empower #Excite \nIntroduce your child to the wonder of reading and instill a love of books at an early age. Storybook Theatre combines your favorite childhood books with songs\, rhymes and fingerplays which are meant to promote early literacy and enhance language development. \nFall Hours (NEW OPEN TIME)\nTuesday-Thursday 9:30am-2:00pm\nFriday 9:30am-4:00pm\nSaturday 10:00am-5:00pm\nClosed Sunday and Monday \n\nAs a 501(c)3 Non-Profit\, our goal is to make memories and create learning opportunities for children in our community.\nYour donation will help children discover\, play\, imagine\, and grow in a safe and nurturing environment. Donate here 
URL:https://woodlandschildrensmuseum.org/event/storybook-theatre-skippyjon-jones/
LOCATION:The Woodlands Children’s Museum
END:VEVENT
BEGIN:VEVENT
DTSTART;TZID=America/Chicago:20240921T103000
DTEND;TZID=America/Chicago:20240921T140000
DTSTAMP:20260424T085722
CREATED:20240723T221952Z
LAST-MODIFIED:20240830T192221Z
UID:10019482-1726914600-1726927200@woodlandschildrensmuseum.org
SUMMARY:Pirate 'n Mermaid Day
DESCRIPTION:On Saturday\, September 21st board our version of the Jolly Roger and keep a close eye out for treasure and mermaids during Pirate ‘n Mermaid Day! Land-ho; let’s navigate our way through the museum with our best peg-legs and fancy tails to find the hidden treasure! Ariel Meet ‘n Greets at 10:30am\, 11:30am\, 12:30pm\, 1:30pm. Pirate Meet ‘n Greets at 11:30am\, 12:30pm\, 1:30pm. At 11:00am Miss Jan will read “Lola: The Bracelet of Courage” by Sarah Cullen and Carmen Ellis and then at 1:00pm  “How I Became a Pirate” by Melinda Long. This event is included in the price of admission\, which is $9 for adults and children 1 year and older bit.ly/TWCMtickets  #ToddlerMom #Art #TheWoodlands #WoodlandsMom #TheWoodlandsChildrensMuseum #SummerTheWoodlands \nAhoy Mateys! Set sail for an adventure on Pirate ‘n Mermaid Day\, Saturday\, September 21\, 2024\, from 10:00am until 2:00pm. During this event that celebrates the magical world of pirates and mermaids\, the museum’s exhibits will be open for play\, including The Muse art bar where children can create a unique pirate hat or mermaid mask. In the Light Lab\, children can engage in hands-on opportunities that explore color and shape recognition through sorting and matching of nautical themed objects. \n“On Pirate ‘n Mermaid Day\, we encourage children in our community to dress up and follow their hearts and believe in the power of love and giving\,” stated Angela Colton\, the museum’s Executive Director. “These values are expressed in the well-known Disney movie The Little Mermaid\, which is a fairy tale that was originally published in 1837 as part of a collection of stories by Danish author Hans Christian Andersen.” \nOn this special day\, children can make fish lips and strike a pose for a photo opportunity with Princess Ariel at 10:30am\, 11:30am\, 12:30pm\, and 1:30pm. In addition\, there will be Pirate meet and greets at 11:30am\, 12:30pm and 1:30pm. During the event\, guests are encouraged to explore the museum with a treasure map and be on the lookout for hidden objects. \nAt 11:00am\, gather for a mermaid-themed reading of Lola: The Bracelet of Courage by Sarah Cullen and Carmen Ellis. In this tale\, Lola the mermaid loses a magical bracelet that helps her feel brave and must seek a new way home through a kelp forest and dark cave. At 1:00pm\, enjoy How I Became a Pirate by Melinda Long. In this story\, Jeremy Jacob sets off on an adventurous voyage with a pirate crew and discovers the finer points of being a pirate\, such as throwing his food across the table\, getting rid of his manners\, and ignoring bedtime. \nFall Hours (NEW OPEN TIME)\nTuesday-Thursday 9:30am-2:00pm\nFriday 9:30am-4:00pm\nSaturday 10:00am-5:00pm\nClosed Sunday and Monday \n\nAs a 501(c)3 Non-Profit\, our goal is to make memories and create learning opportunities for children in our community.\nYour donation will help children discover\, play\, imagine\, and grow in a safe and nurturing environment. Donate here  \n 
URL:https://woodlandschildrensmuseum.org/event/pirate-n-mermaid-day-5/
LOCATION:The Woodlands Children’s Museum
END:VEVENT
END:VCALENDAR