BEGIN:VCALENDAR
VERSION:2.0
PRODID:-//The Woodlands Children&#039;s Museum - ECPv6.15.20//NONSGML v1.0//EN
CALSCALE:GREGORIAN
METHOD:PUBLISH
X-ORIGINAL-URL:https://woodlandschildrensmuseum.org
X-WR-CALDESC:Events for The Woodlands Children&#039;s Museum
REFRESH-INTERVAL;VALUE=DURATION:PT1H
X-Robots-Tag:noindex
X-PUBLISHED-TTL:PT1H
BEGIN:VTIMEZONE
TZID:America/Chicago
BEGIN:DAYLIGHT
TZOFFSETFROM:-0600
TZOFFSETTO:-0500
TZNAME:CDT
DTSTART:20230312T080000
END:DAYLIGHT
BEGIN:STANDARD
TZOFFSETFROM:-0500
TZOFFSETTO:-0600
TZNAME:CST
DTSTART:20231105T070000
END:STANDARD
BEGIN:DAYLIGHT
TZOFFSETFROM:-0600
TZOFFSETTO:-0500
TZNAME:CDT
DTSTART:20240310T080000
END:DAYLIGHT
BEGIN:STANDARD
TZOFFSETFROM:-0500
TZOFFSETTO:-0600
TZNAME:CST
DTSTART:20241103T070000
END:STANDARD
BEGIN:DAYLIGHT
TZOFFSETFROM:-0600
TZOFFSETTO:-0500
TZNAME:CDT
DTSTART:20250309T080000
END:DAYLIGHT
BEGIN:STANDARD
TZOFFSETFROM:-0500
TZOFFSETTO:-0600
TZNAME:CST
DTSTART:20251102T070000
END:STANDARD
END:VTIMEZONE
BEGIN:VEVENT
DTSTART;TZID=America/Chicago:20240707T080000
DTEND;TZID=America/Chicago:20240707T170000
DTSTAMP:20260424T213323
CREATED:20231118T183813Z
LAST-MODIFIED:20250203T184526Z
UID:10018323-1720339200-1720371600@woodlandschildrensmuseum.org
SUMMARY:Museum Closed
DESCRIPTION:Hours: Tues-Thurs 10am-2pm.\nFri. 10am-4pm. Sat. 10am-5pm.\nClosed Sundays and Mondays\nStarting Jan. 2nd daily admission is $9 per person 1 years and older\, children under 1 and Museum Members are free.\nRecommended ages 7 years and under.\nChildren must be accompanied by an adult at all times. Click for tickets. \nAs a 501(c)3 Non-Profit\, our goal is to make memories and create learning opportunities for children in our community. Your donation will help children discover\, play\, imagine\, and grow in a safe and nurturing environment. Click here to donate now.  \n  \n 
URL:https://woodlandschildrensmuseum.org/event/museum-closed-100/2024-07-07/
LOCATION:The Woodlands Children’s Museum
END:VEVENT
BEGIN:VEVENT
DTSTART;TZID=America/Chicago:20240708T080000
DTEND;TZID=America/Chicago:20240708T170000
DTSTAMP:20260424T213323
CREATED:20231118T183813Z
LAST-MODIFIED:20250203T184526Z
UID:10018324-1720425600-1720458000@woodlandschildrensmuseum.org
SUMMARY:Museum Closed
DESCRIPTION:Hours: Tues-Thurs 10am-2pm.\nFri. 10am-4pm. Sat. 10am-5pm.\nClosed Sundays and Mondays\nStarting Jan. 2nd daily admission is $9 per person 1 years and older\, children under 1 and Museum Members are free.\nRecommended ages 7 years and under.\nChildren must be accompanied by an adult at all times. Click for tickets. \nAs a 501(c)3 Non-Profit\, our goal is to make memories and create learning opportunities for children in our community. Your donation will help children discover\, play\, imagine\, and grow in a safe and nurturing environment. Click here to donate now.  \n  \n 
URL:https://woodlandschildrensmuseum.org/event/museum-closed-100/2024-07-08/
LOCATION:The Woodlands Children’s Museum
END:VEVENT
BEGIN:VEVENT
DTSTART;TZID=America/Chicago:20240709T093000
DTEND;TZID=America/Chicago:20240709T093000
DTSTAMP:20260424T213323
CREATED:20240409T193259Z
LAST-MODIFIED:20240418T211951Z
UID:10018990-1720517400-1720517400@woodlandschildrensmuseum.org
SUMMARY:Museum Open
DESCRIPTION:Summer Hours: Tuesday June 4th-Friday\, August 9th\nTuesday-Friday 9:30am-4pm\nSat. 10am-5pm\nClosed Sunday and Monday. \n  \nAdmission is $9 for adults and children 1 year and older. Please visit here to reserve your timed session tickets. \nMembers FREE. Become a member today\, click here.  \n\nAs a 501(c)3 Non-Profit\, our goal is to make memories and create learning opportunities for children in our community.\nYour donation will help children discover\, play\, imagine\, and grow in a safe and nurturing environment. Donate here 
URL:https://woodlandschildrensmuseum.org/event/museum-open-25/2024-07-09/
LOCATION:The Woodlands Children’s Museum
END:VEVENT
BEGIN:VEVENT
DTSTART;TZID=America/Chicago:20240709T093000
DTEND;TZID=America/Chicago:20240709T093000
DTSTAMP:20260424T213323
CREATED:20240515T200909Z
LAST-MODIFIED:20240515T201043Z
UID:10019329-1720517400-1720517400@woodlandschildrensmuseum.org
SUMMARY:Rhyme Time for babies and toddlers ages 6-24 months.
DESCRIPTION:Rhyme Time is a group class focused on gently exposing your child to an environment of music through songs\, movement\, singing and first introductions to instruments. It’s an excellent way to interact with other families in our community\, while fostering socialization for babies. Meets TUESDAYS at 9:30am\, included in the price of admission\, which is $9 for adults and children 1 year and older.  bit.ly/TWCMtickets \nSummer Hours:\nTuesday\, June 4th-Friday\, August 9th\nTuesday-Friday 9:30am-4:00pm\nSaturday 10am-5pm\nClosed Sunday and Monday \n\nAs a 501(c)3 Non-Profit\, our goal is to make memories and create learning opportunities for children in our community.\nYour donation will help children discover\, play\, imagine\, and grow in a safe and nurturing environment. Donate here 
URL:https://woodlandschildrensmuseum.org/event/rhyme-time-for-babies-and-toddlers-ages-6-24-months-5/2024-07-09/
LOCATION:The Woodlands Children’s Museum
END:VEVENT
BEGIN:VEVENT
DTSTART;TZID=America/Chicago:20240709T110000
DTEND;TZID=America/Chicago:20240709T110000
DTSTAMP:20260424T213323
CREATED:20240523T195908Z
LAST-MODIFIED:20240523T200007Z
UID:10019387-1720522800-1720522800@woodlandschildrensmuseum.org
SUMMARY:Boogie Bash-Celebrating Teddy Bears
DESCRIPTION:Boogie Bash on Tuesday\, July 9th at 11am\, presents “Celebrating Teddy Bears“. Come celebrate these special cuddly creatures with fun musical and rhythmic activities including a bear “hunt” and marching to “Teddy Bears’ Picnic.” Children are welcome to bring their own special teddies from home\, but Miss Jan will also have teddy bears to borrow for the activities. Teddy Bear Picnic Day is July 10th.  #Dance #Movement #Music #ToddlerMom #Art #ChildrensMuseum   Included in the price of admission\, which is $9 for adults and children 1 year and older. bit.ly/TWCMtickets    \nSummer Hours:\nTuesday\, June 4th-Friday\, August 9th\nTuesday-Friday 9:30am-4:00pm\nSaturday 10am-5pm\nClosed Sunday and Monday \n\nAs a 501(c)3 Non-Profit\, our goal is to make memories and create learning opportunities for children in our community.\nYour donation will help children discover\, play\, imagine\, and grow in a safe and nurturing environment. Donate here 
URL:https://woodlandschildrensmuseum.org/event/boogie-bash-celebrating-teddy-bears-2/
LOCATION:The Woodlands Children’s Museum
END:VEVENT
BEGIN:VEVENT
DTSTART;TZID=America/Chicago:20240710T093000
DTEND;TZID=America/Chicago:20240710T093000
DTSTAMP:20260424T213323
CREATED:20240409T193259Z
LAST-MODIFIED:20240418T211951Z
UID:10018991-1720603800-1720603800@woodlandschildrensmuseum.org
SUMMARY:Museum Open
DESCRIPTION:Summer Hours: Tuesday June 4th-Friday\, August 9th\nTuesday-Friday 9:30am-4pm\nSat. 10am-5pm\nClosed Sunday and Monday. \n  \nAdmission is $9 for adults and children 1 year and older. Please visit here to reserve your timed session tickets. \nMembers FREE. Become a member today\, click here.  \n\nAs a 501(c)3 Non-Profit\, our goal is to make memories and create learning opportunities for children in our community.\nYour donation will help children discover\, play\, imagine\, and grow in a safe and nurturing environment. Donate here 
URL:https://woodlandschildrensmuseum.org/event/museum-open-25/2024-07-10/
LOCATION:The Woodlands Children’s Museum
END:VEVENT
BEGIN:VEVENT
DTSTART;TZID=America/Chicago:20240710T110000
DTEND;TZID=America/Chicago:20240710T110000
DTSTAMP:20260424T213323
CREATED:20240527T184826Z
LAST-MODIFIED:20240527T185001Z
UID:10019401-1720609200-1720609200@woodlandschildrensmuseum.org
SUMMARY:Crazy About Critters hosts The Learning Zoo
DESCRIPTION:Crazy About Critters hosts The Learning Zoo on Wednesday\, July 10th at 11:00am. Laugh\, learn and get hands-on during an educational animal encounter on stage. This event is included in the price of admission\, which is $9 for adults and children 1 year and older. bit.ly/TWCMtickets     \nSummer Hours:\nTuesday\, June 4th-Friday\, August 9th\nTuesday-Friday 9:30am-4:00pm\nSaturday 10am-5pm\nClosed Sunday and Monday \n\nAs a 501(c)3 Non-Profit\, our goal is to make memories and create learning opportunities for children in our community.\nYour donation will help children discover\, play\, imagine\, and grow in a safe and nurturing environment. Donate here 
URL:https://woodlandschildrensmuseum.org/event/crazy-about-critters-hosts-the-learning-zoo-29/
LOCATION:The Woodlands Children’s Museum
END:VEVENT
BEGIN:VEVENT
DTSTART;TZID=America/Chicago:20240711T093000
DTEND;TZID=America/Chicago:20240711T093000
DTSTAMP:20260424T213323
CREATED:20240409T193259Z
LAST-MODIFIED:20240418T211951Z
UID:10018992-1720690200-1720690200@woodlandschildrensmuseum.org
SUMMARY:Museum Open
DESCRIPTION:Summer Hours: Tuesday June 4th-Friday\, August 9th\nTuesday-Friday 9:30am-4pm\nSat. 10am-5pm\nClosed Sunday and Monday. \n  \nAdmission is $9 for adults and children 1 year and older. Please visit here to reserve your timed session tickets. \nMembers FREE. Become a member today\, click here.  \n\nAs a 501(c)3 Non-Profit\, our goal is to make memories and create learning opportunities for children in our community.\nYour donation will help children discover\, play\, imagine\, and grow in a safe and nurturing environment. Donate here 
URL:https://woodlandschildrensmuseum.org/event/museum-open-25/2024-07-11/
LOCATION:The Woodlands Children’s Museum
END:VEVENT
BEGIN:VEVENT
DTSTART;TZID=America/Chicago:20240711T110000
DTEND;TZID=America/Chicago:20240711T110000
DTSTAMP:20260424T213323
CREATED:20240524T190815Z
LAST-MODIFIED:20240524T191404Z
UID:10019394-1720695600-1720695600@woodlandschildrensmuseum.org
SUMMARY:Shadow Puppet Theatre-The Grouchy Ladybug
DESCRIPTION:Shadow Puppet Theatre Thursday\, July 11th at 11am presents “The Grouchy Ladybug” by Eric Carle. This beloved classic introduces children to a bad-tempered ladybug who learns the importance of friendship and manners. Included in the price of admission\, which is $9 for adults and children 1 year and older. #BookReading #StoryTime #ChildrensBook #ToddlerMom #Art #ChildrensMuseum bit.ly/TWCMtickets \nShadow Puppet Theatre is an introduction to storytelling elements that allow our readers and audience to interact directly with each other\, children of all ages are enchanted with the animated shadows. \nSummer Hours:\nTuesday\, June 4th-Friday\, August 9th\nTuesday-Friday 9:30am-4:00pm\nSaturday 10am-5pm\nClosed Sunday and Monday \n\nAs a 501(c)3 Non-Profit\, our goal is to make memories and create learning opportunities for children in our community.\nYour donation will help children discover\, play\, imagine\, and grow in a safe and nurturing environment. Donate here 
URL:https://woodlandschildrensmuseum.org/event/shadow-puppet-theatre-the-grouchy-ladybug-3/
LOCATION:The Woodlands Children’s Museum
END:VEVENT
BEGIN:VEVENT
DTSTART;TZID=America/Chicago:20240712T093000
DTEND;TZID=America/Chicago:20240712T093000
DTSTAMP:20260424T213323
CREATED:20240409T193259Z
LAST-MODIFIED:20240418T211951Z
UID:10018993-1720776600-1720776600@woodlandschildrensmuseum.org
SUMMARY:Museum Open
DESCRIPTION:Summer Hours: Tuesday June 4th-Friday\, August 9th\nTuesday-Friday 9:30am-4pm\nSat. 10am-5pm\nClosed Sunday and Monday. \n  \nAdmission is $9 for adults and children 1 year and older. Please visit here to reserve your timed session tickets. \nMembers FREE. Become a member today\, click here.  \n\nAs a 501(c)3 Non-Profit\, our goal is to make memories and create learning opportunities for children in our community.\nYour donation will help children discover\, play\, imagine\, and grow in a safe and nurturing environment. Donate here 
URL:https://woodlandschildrensmuseum.org/event/museum-open-25/2024-07-12/
LOCATION:The Woodlands Children’s Museum
END:VEVENT
BEGIN:VEVENT
DTSTART;TZID=America/Chicago:20240712T110000
DTEND;TZID=America/Chicago:20240712T110000
DTSTAMP:20260424T213323
CREATED:20240524T192639Z
LAST-MODIFIED:20240524T192727Z
UID:10019398-1720782000-1720782000@woodlandschildrensmuseum.org
SUMMARY:Storybook Theatre-My Granny Went to Market: A Round-the-World Counting Rhyme
DESCRIPTION:Storybook Theatre at 11am Friday\, July 12th presents “My Granny Went to Market: A Round-the-World Counting Rhyme” by Stella Blackstone. Granny sets out on a magic carpet ride around the world and collects wonderful souvenirs from every place she visits.  Included in the price of admission\, which is $9 for adults and children 1 year and older. bit.ly/TWCMtickets  #BookReading #StoryTime #ChildrensBook #Educate #Empower #Excite \nIntroduce your child to the wonder of reading and instill a love of books at an early age. Storybook Theatre combines your favorite childhood books with songs\, rhymes and fingerplays which are meant to promote early literacy and enhance language development. \nSummer Hours:\nTuesday\, June 4th-Friday\, August 9th\nTuesday-Friday 9:30am-4:00pm\nSaturday 10am-5pm\nClosed Sunday and Monday \n\nAs a 501(c)3 Non-Profit\, our goal is to make memories and create learning opportunities for children in our community.\nYour donation will help children discover\, play\, imagine\, and grow in a safe and nurturing environment. Donate here 
URL:https://woodlandschildrensmuseum.org/event/storybook-theatre-128/
LOCATION:The Woodlands Children’s Museum
END:VEVENT
BEGIN:VEVENT
DTSTART;TZID=America/Chicago:20240713T100000
DTEND;TZID=America/Chicago:20240713T140000
DTSTAMP:20260424T213323
CREATED:20240527T191144Z
LAST-MODIFIED:20240625T230005Z
UID:10019404-1720864800-1720879200@woodlandschildrensmuseum.org
SUMMARY:Museum's 14th Birthday
DESCRIPTION:Museum’s 14th Birthday 🎈🎂🎉 Saturday\, July 13th\nJoin us for our 14th Birthday Celebration. Enjoy face painting and creating art projects in the MUSE. Giggle and laugh with Le Theatre de Marionette Silly String Puppet variety shows at 11:00am and 1:00pm. Celebrate with a take-away piece of birthday cake. This event is included in the price of admission\, which is $9 for adults and children 1 year and older. bit.ly/TWCMtickets \n \nSupported by Texas Commission on the Arts and The Cynthia Woods Mitchell Pavilion. \n    \nSummer Hours:\nTuesday\, June 4th-Friday\, August 9th\nTuesday-Friday 9:30am-4:00pm\nSaturday 10am-5pm\nClosed Sunday and Monday \n\nAs a 501(c)3 Non-Profit\, our goal is to make memories and create learning opportunities for children in our community.\nYour donation will help children discover\, play\, imagine\, and grow in a safe and nurturing environment.\nDonate here.
URL:https://woodlandschildrensmuseum.org/event/museums-14th-birthday/
LOCATION:The Woodlands Children’s Museum
END:VEVENT
BEGIN:VEVENT
DTSTART;TZID=America/Chicago:20240713T100000
DTEND;TZID=America/Chicago:20240713T170000
DTSTAMP:20260424T213323
CREATED:20240418T212224Z
LAST-MODIFIED:20240418T212255Z
UID:10019275-1720864800-1720890000@woodlandschildrensmuseum.org
SUMMARY:Museum Open
DESCRIPTION:Summer Hours: Tuesday June 4th-Friday\, August 9th\nTuesday-Friday 9:30am-4pm\nSat. 10am-5pm\nClosed Sunday and Monday. \n  \nAdmission is $9 for adults and children 1 year and older. Please visit here to reserve your timed session tickets.\nMembers FREE. Become a member today\, click here.  \n\nAs a 501(c)3 Non-Profit\, our goal is to make memories and create learning opportunities for children in our community.\nYour donation will help children discover\, play\, imagine\, and grow in a safe and nurturing environment. Donate here 
URL:https://woodlandschildrensmuseum.org/event/museum-open-26/2024-07-13/
LOCATION:The Woodlands Children’s Museum
END:VEVENT
BEGIN:VEVENT
DTSTART;TZID=America/Chicago:20240713T110000
DTEND;TZID=America/Chicago:20240713T133000
DTSTAMP:20260424T213323
CREATED:20240610T174812Z
LAST-MODIFIED:20240625T230011Z
UID:10019406-1720868400-1720877400@woodlandschildrensmuseum.org
SUMMARY:Le Theatre de Marionette Silly String Puppet variety shows at 11am & 1pm
DESCRIPTION:Join us Saturday\, July 13th for our 14th Birthday Celebration. Enjoy face painting and creating art projects in the MUSE. Giggle and laugh with Le Theatre de Marionette Silly String Puppet variety shows at 11:00am and 1:00pm. Celebrate with a take-away piece of birthday cake. This event is included in the price of admission\, which is $9 for adults and children 1 year and older. bit.ly/TWCMtickets\n#ToddlerMom #FacePainting #Art #TheWoodlands #WoodlandsMom #TheWoodlandsChildrensMuseum \nSupported by Texas Commission on the Arts and The Cynthia Woods Mitchell Pavilion. \n    \nSummer Hours:\nTuesday\, June 4th-Friday\, August 9th\nTuesday-Friday 9:30am-4:00pm\nSaturday 10am-5pm\nClosed Sunday and Monday \n\nAs a 501(c)3 Non-Profit\, our goal is to make memories and create learning opportunities for children in our community.\nYour donation will help children discover\, play\, imagine\, and grow in a safe and nurturing environment. Donate here 
URL:https://woodlandschildrensmuseum.org/event/le-theatre-de-marionette-silly-string-puppet-variety-shows-at-1100am-and-100pm/
LOCATION:The Woodlands Children’s Museum
END:VEVENT
END:VCALENDAR