BEGIN:VCALENDAR
VERSION:2.0
PRODID:-//The Woodlands Children&#039;s Museum - ECPv6.15.20//NONSGML v1.0//EN
CALSCALE:GREGORIAN
METHOD:PUBLISH
X-ORIGINAL-URL:https://woodlandschildrensmuseum.org
X-WR-CALDESC:Events for The Woodlands Children&#039;s Museum
REFRESH-INTERVAL;VALUE=DURATION:PT1H
X-Robots-Tag:noindex
X-PUBLISHED-TTL:PT1H
BEGIN:VTIMEZONE
TZID:America/Chicago
BEGIN:DAYLIGHT
TZOFFSETFROM:-0600
TZOFFSETTO:-0500
TZNAME:CDT
DTSTART:20230312T080000
END:DAYLIGHT
BEGIN:STANDARD
TZOFFSETFROM:-0500
TZOFFSETTO:-0600
TZNAME:CST
DTSTART:20231105T070000
END:STANDARD
BEGIN:DAYLIGHT
TZOFFSETFROM:-0600
TZOFFSETTO:-0500
TZNAME:CDT
DTSTART:20240310T080000
END:DAYLIGHT
BEGIN:STANDARD
TZOFFSETFROM:-0500
TZOFFSETTO:-0600
TZNAME:CST
DTSTART:20241103T070000
END:STANDARD
BEGIN:DAYLIGHT
TZOFFSETFROM:-0600
TZOFFSETTO:-0500
TZNAME:CDT
DTSTART:20250309T080000
END:DAYLIGHT
BEGIN:STANDARD
TZOFFSETFROM:-0500
TZOFFSETTO:-0600
TZNAME:CST
DTSTART:20251102T070000
END:STANDARD
END:VTIMEZONE
BEGIN:VEVENT
DTSTART;TZID=America/Chicago:20240623T080000
DTEND;TZID=America/Chicago:20240623T170000
DTSTAMP:20260424T224724
CREATED:20231118T183813Z
LAST-MODIFIED:20250203T184526Z
UID:10018319-1719129600-1719162000@woodlandschildrensmuseum.org
SUMMARY:Museum Closed
DESCRIPTION:Hours: Tues-Thurs 10am-2pm.\nFri. 10am-4pm. Sat. 10am-5pm.\nClosed Sundays and Mondays\nStarting Jan. 2nd daily admission is $9 per person 1 years and older\, children under 1 and Museum Members are free.\nRecommended ages 7 years and under.\nChildren must be accompanied by an adult at all times. Click for tickets. \nAs a 501(c)3 Non-Profit\, our goal is to make memories and create learning opportunities for children in our community. Your donation will help children discover\, play\, imagine\, and grow in a safe and nurturing environment. Click here to donate now.  \n  \n 
URL:https://woodlandschildrensmuseum.org/event/museum-closed-100/2024-06-23/
LOCATION:The Woodlands Children’s Museum
END:VEVENT
BEGIN:VEVENT
DTSTART;TZID=America/Chicago:20240624T080000
DTEND;TZID=America/Chicago:20240624T170000
DTSTAMP:20260424T224724
CREATED:20231118T183813Z
LAST-MODIFIED:20250203T184526Z
UID:10018320-1719216000-1719248400@woodlandschildrensmuseum.org
SUMMARY:Museum Closed
DESCRIPTION:Hours: Tues-Thurs 10am-2pm.\nFri. 10am-4pm. Sat. 10am-5pm.\nClosed Sundays and Mondays\nStarting Jan. 2nd daily admission is $9 per person 1 years and older\, children under 1 and Museum Members are free.\nRecommended ages 7 years and under.\nChildren must be accompanied by an adult at all times. Click for tickets. \nAs a 501(c)3 Non-Profit\, our goal is to make memories and create learning opportunities for children in our community. Your donation will help children discover\, play\, imagine\, and grow in a safe and nurturing environment. Click here to donate now.  \n  \n 
URL:https://woodlandschildrensmuseum.org/event/museum-closed-100/2024-06-24/
LOCATION:The Woodlands Children’s Museum
END:VEVENT
BEGIN:VEVENT
DTSTART;TZID=America/Chicago:20240625T093000
DTEND;TZID=America/Chicago:20240625T093000
DTSTAMP:20260424T224724
CREATED:20240409T193259Z
LAST-MODIFIED:20240418T211951Z
UID:10018980-1719307800-1719307800@woodlandschildrensmuseum.org
SUMMARY:Museum Open
DESCRIPTION:Summer Hours: Tuesday June 4th-Friday\, August 9th\nTuesday-Friday 9:30am-4pm\nSat. 10am-5pm\nClosed Sunday and Monday. \n  \nAdmission is $9 for adults and children 1 year and older. Please visit here to reserve your timed session tickets. \nMembers FREE. Become a member today\, click here.  \n\nAs a 501(c)3 Non-Profit\, our goal is to make memories and create learning opportunities for children in our community.\nYour donation will help children discover\, play\, imagine\, and grow in a safe and nurturing environment. Donate here 
URL:https://woodlandschildrensmuseum.org/event/museum-open-25/2024-06-25/
LOCATION:The Woodlands Children’s Museum
END:VEVENT
BEGIN:VEVENT
DTSTART;TZID=America/Chicago:20240625T093000
DTEND;TZID=America/Chicago:20240625T093000
DTSTAMP:20260424T224724
CREATED:20240515T200909Z
LAST-MODIFIED:20240515T201043Z
UID:10019327-1719307800-1719307800@woodlandschildrensmuseum.org
SUMMARY:Rhyme Time for babies and toddlers ages 6-24 months.
DESCRIPTION:Rhyme Time is a group class focused on gently exposing your child to an environment of music through songs\, movement\, singing and first introductions to instruments. It’s an excellent way to interact with other families in our community\, while fostering socialization for babies. Meets TUESDAYS at 9:30am\, included in the price of admission\, which is $9 for adults and children 1 year and older.  bit.ly/TWCMtickets \nSummer Hours:\nTuesday\, June 4th-Friday\, August 9th\nTuesday-Friday 9:30am-4:00pm\nSaturday 10am-5pm\nClosed Sunday and Monday \n\nAs a 501(c)3 Non-Profit\, our goal is to make memories and create learning opportunities for children in our community.\nYour donation will help children discover\, play\, imagine\, and grow in a safe and nurturing environment. Donate here 
URL:https://woodlandschildrensmuseum.org/event/rhyme-time-for-babies-and-toddlers-ages-6-24-months-5/2024-06-25/
LOCATION:The Woodlands Children’s Museum
END:VEVENT
BEGIN:VEVENT
DTSTART;TZID=America/Chicago:20240625T110000
DTEND;TZID=America/Chicago:20240625T110000
DTSTAMP:20260424T224724
CREATED:20240418T214508Z
LAST-MODIFIED:20240418T214554Z
UID:10019286-1719313200-1719313200@woodlandschildrensmuseum.org
SUMMARY:Boogie Bash-Summer Fun
DESCRIPTION:Boogie Bash on Tuesday\, June 25th at 11am\, presents “Summer Fun“. We’re celebrating summer with fun musical activities using beach balls and rainbow ribbons. We’ll also do The Limbo Rock! #Dance #Movement #Music #ToddlerMom #Art #ChildrensMuseum   Included in the price of admission\, which is $9 for adults and children 1 year and older. bit.ly/TWCMtickets    \nSummer Hours:\nTuesday\, June 4th-Friday\, August 9th\nTuesday-Friday 9:30am-4:00pm\nSaturday 10am-5pm\nClosed Sunday and Monday \n\nAs a 501(c)3 Non-Profit\, our goal is to make memories and create learning opportunities for children in our community.\nYour donation will help children discover\, play\, imagine\, and grow in a safe and nurturing environment. Donate here 
URL:https://woodlandschildrensmuseum.org/event/boogie-bash-summer-fun-4/
LOCATION:The Woodlands Children’s Museum
END:VEVENT
BEGIN:VEVENT
DTSTART;TZID=America/Chicago:20240626T093000
DTEND;TZID=America/Chicago:20240626T093000
DTSTAMP:20260424T224724
CREATED:20240409T193259Z
LAST-MODIFIED:20240418T211951Z
UID:10018981-1719394200-1719394200@woodlandschildrensmuseum.org
SUMMARY:Museum Open
DESCRIPTION:Summer Hours: Tuesday June 4th-Friday\, August 9th\nTuesday-Friday 9:30am-4pm\nSat. 10am-5pm\nClosed Sunday and Monday. \n  \nAdmission is $9 for adults and children 1 year and older. Please visit here to reserve your timed session tickets. \nMembers FREE. Become a member today\, click here.  \n\nAs a 501(c)3 Non-Profit\, our goal is to make memories and create learning opportunities for children in our community.\nYour donation will help children discover\, play\, imagine\, and grow in a safe and nurturing environment. Donate here 
URL:https://woodlandschildrensmuseum.org/event/museum-open-25/2024-06-26/
LOCATION:The Woodlands Children’s Museum
END:VEVENT
BEGIN:VEVENT
DTSTART;TZID=America/Chicago:20240626T110000
DTEND;TZID=America/Chicago:20240626T110000
DTSTAMP:20260424T224724
CREATED:20240419T193614Z
LAST-MODIFIED:20240419T193739Z
UID:10019299-1719399600-1719399600@woodlandschildrensmuseum.org
SUMMARY:Looking at Art Lady Presentation
DESCRIPTION:Looking at Art Lady Presentation\, on Wednesday\, June 26th at 11:00am. Children and adults will enjoy this light-hearted journey through art history. Famous paintings throughout time will plant a seed of interest in the fine arts for you and your child. We will briefly talk about each painting but quickly shift to giggles as each piece will have a parody version. Children will be introduced to various pop culture faces and characters in the parody while subtly remembering the original piece. #Educate #Empower #Excite #Art #ArtHistory  This event is included in the price of admission\, which is $9 for adults and children 1 year and older. bit.ly/TWCMtickets     \nThis project is supported in part by The David Gottlieb Education Micrgrant from The Woodlands Arts Council.\n   \nSummer Hours:\nTuesday\, June 4th-Friday\, August 9th\nTuesday-Friday 9:30am-4:00pm\nSaturday 10am-5pm\nClosed Sunday and Monday \n\nAs a 501(c)3 Non-Profit\, our goal is to make memories and create learning opportunities for children in our community.\nYour donation will help children discover\, play\, imagine\, and grow in a safe and nurturing environment.\nDonate here.
URL:https://woodlandschildrensmuseum.org/event/looking-at-art-lady-presentation-12/
LOCATION:The Woodlands Children’s Museum
END:VEVENT
BEGIN:VEVENT
DTSTART;TZID=America/Chicago:20240627T093000
DTEND;TZID=America/Chicago:20240627T093000
DTSTAMP:20260424T224724
CREATED:20240409T193259Z
LAST-MODIFIED:20240418T211951Z
UID:10018982-1719480600-1719480600@woodlandschildrensmuseum.org
SUMMARY:Museum Open
DESCRIPTION:Summer Hours: Tuesday June 4th-Friday\, August 9th\nTuesday-Friday 9:30am-4pm\nSat. 10am-5pm\nClosed Sunday and Monday. \n  \nAdmission is $9 for adults and children 1 year and older. Please visit here to reserve your timed session tickets. \nMembers FREE. Become a member today\, click here.  \n\nAs a 501(c)3 Non-Profit\, our goal is to make memories and create learning opportunities for children in our community.\nYour donation will help children discover\, play\, imagine\, and grow in a safe and nurturing environment. Donate here 
URL:https://woodlandschildrensmuseum.org/event/museum-open-25/2024-06-27/
LOCATION:The Woodlands Children’s Museum
END:VEVENT
BEGIN:VEVENT
DTSTART;TZID=America/Chicago:20240627T110000
DTEND;TZID=America/Chicago:20240627T110000
DTSTAMP:20260424T224724
CREATED:20240418T220048Z
LAST-MODIFIED:20240418T220250Z
UID:10019291-1719486000-1719486000@woodlandschildrensmuseum.org
SUMMARY:Shadow Puppet Theatre-Mela and the Elephant
DESCRIPTION:Shadow Puppet Theatre Thursday\, June 27th at 11am presents “Mela and the Elephant” by Dow Phumiruk. This beautiful story set in Thailand is about Mela\, who ventures outside her village to explore but encounters trouble when her little boat is swept downstream into the jungle. She is unsuccessful in getting help to return home from the jungle creatures she encounters until an elephant appears and teaches Mela a lesson about kindness.  Included in the price of admission\, which is $9 for adults and children 1 year and older. #BookReading #StoryTime #ChildrensBook #ToddlerMom #Art #ChildrensMuseum bit.ly/TWCMtickets \nShadow Puppet Theatre is an introduction to storytelling elements that allow our readers and audience to interact directly with each other\, children of all ages are enchanted with the animated shadows. \nSummer Hours:\nTuesday\, June 4th-Friday\, August 9th\nTuesday-Friday 9:30am-4:00pm\nSaturday 10am-5pm\nClosed Sunday and Monday \n\nAs a 501(c)3 Non-Profit\, our goal is to make memories and create learning opportunities for children in our community.\nYour donation will help children discover\, play\, imagine\, and grow in a safe and nurturing environment. Donate here 
URL:https://woodlandschildrensmuseum.org/event/shadow-puppet-theatre-mela-and-the-elephant-3/
LOCATION:The Woodlands Children’s Museum
END:VEVENT
BEGIN:VEVENT
DTSTART;TZID=America/Chicago:20240628T093000
DTEND;TZID=America/Chicago:20240628T093000
DTSTAMP:20260424T224724
CREATED:20240409T193259Z
LAST-MODIFIED:20240418T211951Z
UID:10018983-1719567000-1719567000@woodlandschildrensmuseum.org
SUMMARY:Museum Open
DESCRIPTION:Summer Hours: Tuesday June 4th-Friday\, August 9th\nTuesday-Friday 9:30am-4pm\nSat. 10am-5pm\nClosed Sunday and Monday. \n  \nAdmission is $9 for adults and children 1 year and older. Please visit here to reserve your timed session tickets. \nMembers FREE. Become a member today\, click here.  \n\nAs a 501(c)3 Non-Profit\, our goal is to make memories and create learning opportunities for children in our community.\nYour donation will help children discover\, play\, imagine\, and grow in a safe and nurturing environment. Donate here 
URL:https://woodlandschildrensmuseum.org/event/museum-open-25/2024-06-28/
LOCATION:The Woodlands Children’s Museum
END:VEVENT
BEGIN:VEVENT
DTSTART;TZID=America/Chicago:20240628T110000
DTEND;TZID=America/Chicago:20240628T121500
DTSTAMP:20260424T224724
CREATED:20240419T141820Z
LAST-MODIFIED:20240503T201412Z
UID:10019295-1719572400-1719576900@woodlandschildrensmuseum.org
SUMMARY:Author Visit with Dr. Meena Julapalli
DESCRIPTION:Friday\, June 28th at 11am\, enjoy an Author Visit with Dr. Meena Julapalli who will read “Listen to the Song in My Heart“. When we listen to the unique song in our hearts and discover the joy it brings\, we can’t help but celebrate and share the love and light in our hearts with the world! Dr. Meena will be reading her book on stage at 11:00; and that will be immediately followed by a meet-and-greet\, where she will sell and sign her books until 12:15.  Included in the price of admission\, which is $9 for adults and children 1 year and older. bit.ly/TWCMtickets  #BookReading #StoryTime #ChildrensBook #Educate #Empower #Excite \nSummer Hours:\nTuesday\, June 4th-Friday\, August 9th\nTuesday-Friday 9:30am-4:00pm\nSaturday 10am-5pm\nClosed Sunday and Monday \n\nAs a 501(c)3 Non-Profit\, our goal is to make memories and create learning opportunities for children in our community.\nYour donation will help children discover\, play\, imagine\, and grow in a safe and nurturing environment. Donate here 
URL:https://woodlandschildrensmuseum.org/event/author-visit-with-dr-meena-julapalli/
LOCATION:The Woodlands Children’s Museum
END:VEVENT
BEGIN:VEVENT
DTSTART;TZID=America/Chicago:20240629T100000
DTEND;TZID=America/Chicago:20240629T170000
DTSTAMP:20260424T224724
CREATED:20240418T212224Z
LAST-MODIFIED:20240418T212255Z
UID:10019273-1719655200-1719680400@woodlandschildrensmuseum.org
SUMMARY:Museum Open
DESCRIPTION:Summer Hours: Tuesday June 4th-Friday\, August 9th\nTuesday-Friday 9:30am-4pm\nSat. 10am-5pm\nClosed Sunday and Monday. \n  \nAdmission is $9 for adults and children 1 year and older. Please visit here to reserve your timed session tickets.\nMembers FREE. Become a member today\, click here.  \n\nAs a 501(c)3 Non-Profit\, our goal is to make memories and create learning opportunities for children in our community.\nYour donation will help children discover\, play\, imagine\, and grow in a safe and nurturing environment. Donate here 
URL:https://woodlandschildrensmuseum.org/event/museum-open-26/2024-06-29/
LOCATION:The Woodlands Children’s Museum
END:VEVENT
END:VCALENDAR