BEGIN:VCALENDAR
VERSION:2.0
PRODID:-//The Woodlands Children&#039;s Museum - ECPv6.15.20//NONSGML v1.0//EN
CALSCALE:GREGORIAN
METHOD:PUBLISH
X-ORIGINAL-URL:https://woodlandschildrensmuseum.org
X-WR-CALDESC:Events for The Woodlands Children&#039;s Museum
REFRESH-INTERVAL;VALUE=DURATION:PT1H
X-Robots-Tag:noindex
X-PUBLISHED-TTL:PT1H
BEGIN:VTIMEZONE
TZID:America/Chicago
BEGIN:DAYLIGHT
TZOFFSETFROM:-0600
TZOFFSETTO:-0500
TZNAME:CDT
DTSTART:20230312T080000
END:DAYLIGHT
BEGIN:STANDARD
TZOFFSETFROM:-0500
TZOFFSETTO:-0600
TZNAME:CST
DTSTART:20231105T070000
END:STANDARD
BEGIN:DAYLIGHT
TZOFFSETFROM:-0600
TZOFFSETTO:-0500
TZNAME:CDT
DTSTART:20240310T080000
END:DAYLIGHT
BEGIN:STANDARD
TZOFFSETFROM:-0500
TZOFFSETTO:-0600
TZNAME:CST
DTSTART:20241103T070000
END:STANDARD
BEGIN:DAYLIGHT
TZOFFSETFROM:-0600
TZOFFSETTO:-0500
TZNAME:CDT
DTSTART:20250309T080000
END:DAYLIGHT
BEGIN:STANDARD
TZOFFSETFROM:-0500
TZOFFSETTO:-0600
TZNAME:CST
DTSTART:20251102T070000
END:STANDARD
END:VTIMEZONE
BEGIN:VEVENT
DTSTART;TZID=America/Chicago:20240616T080000
DTEND;TZID=America/Chicago:20240616T170000
DTSTAMP:20260424T224724
CREATED:20231118T183813Z
LAST-MODIFIED:20250203T184526Z
UID:10018317-1718524800-1718557200@woodlandschildrensmuseum.org
SUMMARY:Museum Closed
DESCRIPTION:Hours: Tues-Thurs 10am-2pm.\nFri. 10am-4pm. Sat. 10am-5pm.\nClosed Sundays and Mondays\nStarting Jan. 2nd daily admission is $9 per person 1 years and older\, children under 1 and Museum Members are free.\nRecommended ages 7 years and under.\nChildren must be accompanied by an adult at all times. Click for tickets. \nAs a 501(c)3 Non-Profit\, our goal is to make memories and create learning opportunities for children in our community. Your donation will help children discover\, play\, imagine\, and grow in a safe and nurturing environment. Click here to donate now.  \n  \n 
URL:https://woodlandschildrensmuseum.org/event/museum-closed-100/2024-06-16/
LOCATION:The Woodlands Children’s Museum
END:VEVENT
BEGIN:VEVENT
DTSTART;TZID=America/Chicago:20240617T080000
DTEND;TZID=America/Chicago:20240617T170000
DTSTAMP:20260424T224724
CREATED:20231118T183813Z
LAST-MODIFIED:20250203T184526Z
UID:10018318-1718611200-1718643600@woodlandschildrensmuseum.org
SUMMARY:Museum Closed
DESCRIPTION:Hours: Tues-Thurs 10am-2pm.\nFri. 10am-4pm. Sat. 10am-5pm.\nClosed Sundays and Mondays\nStarting Jan. 2nd daily admission is $9 per person 1 years and older\, children under 1 and Museum Members are free.\nRecommended ages 7 years and under.\nChildren must be accompanied by an adult at all times. Click for tickets. \nAs a 501(c)3 Non-Profit\, our goal is to make memories and create learning opportunities for children in our community. Your donation will help children discover\, play\, imagine\, and grow in a safe and nurturing environment. Click here to donate now.  \n  \n 
URL:https://woodlandschildrensmuseum.org/event/museum-closed-100/2024-06-17/
LOCATION:The Woodlands Children’s Museum
END:VEVENT
BEGIN:VEVENT
DTSTART;TZID=America/Chicago:20240618T093000
DTEND;TZID=America/Chicago:20240618T093000
DTSTAMP:20260424T224724
CREATED:20240409T193259Z
LAST-MODIFIED:20240418T211951Z
UID:10018975-1718703000-1718703000@woodlandschildrensmuseum.org
SUMMARY:Museum Open
DESCRIPTION:Summer Hours: Tuesday June 4th-Friday\, August 9th\nTuesday-Friday 9:30am-4pm\nSat. 10am-5pm\nClosed Sunday and Monday. \n  \nAdmission is $9 for adults and children 1 year and older. Please visit here to reserve your timed session tickets. \nMembers FREE. Become a member today\, click here.  \n\nAs a 501(c)3 Non-Profit\, our goal is to make memories and create learning opportunities for children in our community.\nYour donation will help children discover\, play\, imagine\, and grow in a safe and nurturing environment. Donate here 
URL:https://woodlandschildrensmuseum.org/event/museum-open-25/2024-06-18/
LOCATION:The Woodlands Children’s Museum
END:VEVENT
BEGIN:VEVENT
DTSTART;TZID=America/Chicago:20240618T093000
DTEND;TZID=America/Chicago:20240618T093000
DTSTAMP:20260424T224724
CREATED:20240515T200909Z
LAST-MODIFIED:20240515T201043Z
UID:10019326-1718703000-1718703000@woodlandschildrensmuseum.org
SUMMARY:Rhyme Time for babies and toddlers ages 6-24 months.
DESCRIPTION:Rhyme Time is a group class focused on gently exposing your child to an environment of music through songs\, movement\, singing and first introductions to instruments. It’s an excellent way to interact with other families in our community\, while fostering socialization for babies. Meets TUESDAYS at 9:30am\, included in the price of admission\, which is $9 for adults and children 1 year and older.  bit.ly/TWCMtickets \nSummer Hours:\nTuesday\, June 4th-Friday\, August 9th\nTuesday-Friday 9:30am-4:00pm\nSaturday 10am-5pm\nClosed Sunday and Monday \n\nAs a 501(c)3 Non-Profit\, our goal is to make memories and create learning opportunities for children in our community.\nYour donation will help children discover\, play\, imagine\, and grow in a safe and nurturing environment. Donate here 
URL:https://woodlandschildrensmuseum.org/event/rhyme-time-for-babies-and-toddlers-ages-6-24-months-5/2024-06-18/
LOCATION:The Woodlands Children’s Museum
END:VEVENT
BEGIN:VEVENT
DTSTART;TZID=America/Chicago:20240618T110000
DTEND;TZID=America/Chicago:20240618T110000
DTSTAMP:20260424T224724
CREATED:20240418T214319Z
LAST-MODIFIED:20240418T214642Z
UID:10019287-1718708400-1718708400@woodlandschildrensmuseum.org
SUMMARY:Boogie Bash-Ocean Boogie
DESCRIPTION:Boogie Bash on Tuesday\, June 18th at 11am\, presents “Ocean Boogie“. It’s National Oceans Month\, and we are celebrating the deep blue sea with musical activities that include marching with rhythm instruments and dancing with scarves and ribbons. We’ll also learn some ocean yoga poses. #Dance #Movement #Music #ToddlerMom #Art #ChildrensMuseum   Included in the price of admission\, which is $9 for adults and children 1 year and older. bit.ly/TWCMtickets    \nSummer Hours:\nTuesday\, June 4th-Friday\, August 9th\nTuesday-Friday 9:30am-4:00pm\nSaturday 10am-5pm\nClosed Sunday and Monday \n\nAs a 501(c)3 Non-Profit\, our goal is to make memories and create learning opportunities for children in our community.\nYour donation will help children discover\, play\, imagine\, and grow in a safe and nurturing environment. Donate here 
URL:https://woodlandschildrensmuseum.org/event/boogie-bash-ocean-boogie-3/
LOCATION:The Woodlands Children’s Museum
END:VEVENT
BEGIN:VEVENT
DTSTART;TZID=America/Chicago:20240619T093000
DTEND;TZID=America/Chicago:20240619T093000
DTSTAMP:20260424T224724
CREATED:20240409T193259Z
LAST-MODIFIED:20240418T211951Z
UID:10018976-1718789400-1718789400@woodlandschildrensmuseum.org
SUMMARY:Museum Open
DESCRIPTION:Summer Hours: Tuesday June 4th-Friday\, August 9th\nTuesday-Friday 9:30am-4pm\nSat. 10am-5pm\nClosed Sunday and Monday. \n  \nAdmission is $9 for adults and children 1 year and older. Please visit here to reserve your timed session tickets. \nMembers FREE. Become a member today\, click here.  \n\nAs a 501(c)3 Non-Profit\, our goal is to make memories and create learning opportunities for children in our community.\nYour donation will help children discover\, play\, imagine\, and grow in a safe and nurturing environment. Donate here 
URL:https://woodlandschildrensmuseum.org/event/museum-open-25/2024-06-19/
LOCATION:The Woodlands Children’s Museum
END:VEVENT
BEGIN:VEVENT
DTSTART;TZID=America/Chicago:20240619T104500
DTEND;TZID=America/Chicago:20240619T120000
DTSTAMP:20260424T224724
CREATED:20240421T173807Z
LAST-MODIFIED:20240508T191507Z
UID:10019307-1718793900-1718798400@woodlandschildrensmuseum.org
SUMMARY:Books Alive! Touring Production of Chicken Big at 10:45am and noon
DESCRIPTION:Join us for two special performances of Chicken Big on Wednesday\, June 19th at 10:45am and noon. Books Alive! adds the music\, with life-size puppetry\, to bring just the right touch to this zany tale that celebrates the joy of acceptance. With wacky\, laugh-out-loud humor and silliness to spare\, this BIG twist on the classic Chicken Little story lends a whole new perspective to what it means to be chicken. This event is included in the price of admission\, which is $9 for adults and children 1 year and older. bit.ly/TWCMtickets\n\nOn a teeny little farm\, in an itty bitty coop\, a very small hen laid a big\, giant egg. And out of this egg came one big\, humongous . . . something. No matter how they try\, these clueless chickens can’t make sense of the gigantic new member of their family—until he saves the day.  \nSponsored in part by ARTreach. Books Alive! from the page to the stage\nBringing the magic of theatre with the gift of Literacy through the Arts\n \n \n  \nSummer Hours:\nTuesday\, June 4th-Friday\, August 9th\nTuesday-Friday 9:30am-4:00pm\nSaturday 10am-5pm\nClosed Sunday and Monday \n\nAs a 501(c)3 Non-Profit\, our goal is to make memories and create learning opportunities for children in our community.\nYour donation will help children discover\, play\, imagine\, and grow in a safe and nurturing environment. Donate here 
URL:https://woodlandschildrensmuseum.org/event/books-alive-touring-production-of-chicken-big-at-1045am-and-noon-3/
LOCATION:The Woodlands Children’s Museum
END:VEVENT
BEGIN:VEVENT
DTSTART;TZID=America/Chicago:20240620T093000
DTEND;TZID=America/Chicago:20240620T093000
DTSTAMP:20260424T224724
CREATED:20240409T193259Z
LAST-MODIFIED:20240418T211951Z
UID:10018977-1718875800-1718875800@woodlandschildrensmuseum.org
SUMMARY:Museum Open
DESCRIPTION:Summer Hours: Tuesday June 4th-Friday\, August 9th\nTuesday-Friday 9:30am-4pm\nSat. 10am-5pm\nClosed Sunday and Monday. \n  \nAdmission is $9 for adults and children 1 year and older. Please visit here to reserve your timed session tickets. \nMembers FREE. Become a member today\, click here.  \n\nAs a 501(c)3 Non-Profit\, our goal is to make memories and create learning opportunities for children in our community.\nYour donation will help children discover\, play\, imagine\, and grow in a safe and nurturing environment. Donate here 
URL:https://woodlandschildrensmuseum.org/event/museum-open-25/2024-06-20/
LOCATION:The Woodlands Children’s Museum
END:VEVENT
BEGIN:VEVENT
DTSTART;TZID=America/Chicago:20240620T100000
DTEND;TZID=America/Chicago:20240620T140000
DTSTAMP:20260424T224724
CREATED:20240421T134700Z
LAST-MODIFIED:20240421T152309Z
UID:10019302-1718877600-1718892000@woodlandschildrensmuseum.org
SUMMARY:Fairy Day and Tinkerbell meet & greets
DESCRIPTION:Join us for Fairy Day on Thursday\, June 20th\, and Saturday\, June 22nd. Celebrate International Fairy Day with Tinker Bell photo ops and meet and greets at 10:30am\, 11:30am\, 12:30pm\, 1:30pm and 2:30pm. Enjoy face painting and creating fairy wings. Special readings of “Camilla the Cupcake Fairy” and “Backyard Fairies”.All adults and children are encouraged to wear their best fairy outfits.  \nAt 11am enjoy “Camilla the Cupcake Fairy” by Tim Bugbird. This precious cupcake fairy is challenged by not being experienced in using her very first wand. However\, by keeping at it with the help of her fairy friends\, they create the perfect cupcake with their perfect friendship. Then at 1pm delight in “Backyard Fairies” by Phoebe Wahl. This magical tale follows a little girl in search of fairies in her backyard and the surrounding woods\, not quite seeing the creatures hiding all around her. The story is a celebration of imagination and nature!  \nThis event is included in the price of admission\, which is $9 for adults and children 1 year and older. bit.ly/TWCMtickets \nSummer Hours:\nTuesday\, June 4th-Friday\, August 9th\nTuesday-Friday 9:30am-4:00pm\nSaturday 10am-5pm\nClosed Sunday and Monday \n\nAs a 501(c)3 Non-Profit\, our goal is to make memories and create learning opportunities for children in our community.\nYour donation will help children discover\, play\, imagine\, and grow in a safe and nurturing environment. Donate here 
URL:https://woodlandschildrensmuseum.org/event/fairy-day-and-tinkerbell-meet-greets/2024-06-20/
LOCATION:The Woodlands Children’s Museum
END:VEVENT
BEGIN:VEVENT
DTSTART;TZID=America/Chicago:20240620T110000
DTEND;TZID=America/Chicago:20240620T130000
DTSTAMP:20260424T224724
CREATED:20240418T215757Z
LAST-MODIFIED:20240419T142825Z
UID:10019290-1718881200-1718888400@woodlandschildrensmuseum.org
SUMMARY:Special Storytimes for Fairy Day 11am & 1pm
DESCRIPTION:Thursday\, June 20th-Special Storytimes for Fairy Day. At 11am enjoy “Camilla the Cupcake Fairy” by Tim Bugbird. This precious cupcake fairy is challenged by not being experienced in using her very first wand. However\, by keeping at it with the help of her fairy friends\, they create the perfect cupcake with their perfect friendship. Then at 1pm delight in “Backyard Fairies” by Phoebe Wahl. This magical tale follows a little girl in search of fairies in her backyard and the surrounding woods\, not quite seeing the creatures hiding all around her. The story is a celebration of imagination and nature!    Included in the price of admission\, which is $9 for adults and children 1 year and older. #BookReading #StoryTime #ChildrensBook #ToddlerMom #Art #ChildrensMuseum bit.ly/TWCMtickets \nSummer Hours:\nTuesday\, June 4th-Friday\, August 9th\nTuesday-Friday 9:30am-4:00pm\nSaturday 10am-5pm\nClosed Sunday and Monday \n\nAs a 501(c)3 Non-Profit\, our goal is to make memories and create learning opportunities for children in our community.\nYour donation will help children discover\, play\, imagine\, and grow in a safe and nurturing environment. Donate here 
URL:https://woodlandschildrensmuseum.org/event/special-storytimes-for-fairy-day-11am-1pm/
LOCATION:The Woodlands Children’s Museum
END:VEVENT
BEGIN:VEVENT
DTSTART;TZID=America/Chicago:20240621T093000
DTEND;TZID=America/Chicago:20240621T093000
DTSTAMP:20260424T224724
CREATED:20240409T193259Z
LAST-MODIFIED:20240418T211951Z
UID:10018978-1718962200-1718962200@woodlandschildrensmuseum.org
SUMMARY:Museum Open
DESCRIPTION:Summer Hours: Tuesday June 4th-Friday\, August 9th\nTuesday-Friday 9:30am-4pm\nSat. 10am-5pm\nClosed Sunday and Monday. \n  \nAdmission is $9 for adults and children 1 year and older. Please visit here to reserve your timed session tickets. \nMembers FREE. Become a member today\, click here.  \n\nAs a 501(c)3 Non-Profit\, our goal is to make memories and create learning opportunities for children in our community.\nYour donation will help children discover\, play\, imagine\, and grow in a safe and nurturing environment. Donate here 
URL:https://woodlandschildrensmuseum.org/event/museum-open-25/2024-06-21/
LOCATION:The Woodlands Children’s Museum
END:VEVENT
BEGIN:VEVENT
DTSTART;TZID=America/Chicago:20240621T110000
DTEND;TZID=America/Chicago:20240621T110000
DTSTAMP:20260424T224724
CREATED:20240419T141341Z
LAST-MODIFIED:20240419T141408Z
UID:10019294-1718967600-1718967600@woodlandschildrensmuseum.org
SUMMARY:Storybook Theatre-A Hole in the Bottom of the Sea
DESCRIPTION:Storybook Theatre at 11am Friday\, June 21st presents “A Hole in the Bottom of the Sea” adapted by Jessica Law. It’s National Oceans Month\, and Miss Jan will share the perfect story to celebrate. We’ll be swimming along with five ocean creatures as Miss Jan sings the story about the ocean food chain from snail to shark with the help of some special puppet friends.  Included in the price of admission\, which is $9 for adults and children 1 year and older. bit.ly/TWCMtickets  #BookReading #StoryTime #ChildrensBook #Educate #Empower #Excite \nIntroduce your child to the wonder of reading and instill a love of books at an early age. Storybook Theatre combines your favorite childhood books with songs\, rhymes and fingerplays which are meant to promote early literacy and enhance language development. \nSummer Hours:\nTuesday\, June 4th-Friday\, August 9th\nTuesday-Friday 9:30am-4:00pm\nSaturday 10am-5pm\nClosed Sunday and Monday \n\nAs a 501(c)3 Non-Profit\, our goal is to make memories and create learning opportunities for children in our community.\nYour donation will help children discover\, play\, imagine\, and grow in a safe and nurturing environment. Donate here 
URL:https://woodlandschildrensmuseum.org/event/storybook-theatre-a-hole-in-the-bottom-of-the-sea/
LOCATION:The Woodlands Children’s Museum
END:VEVENT
BEGIN:VEVENT
DTSTART;TZID=America/Chicago:20240622T100000
DTEND;TZID=America/Chicago:20240622T140000
DTSTAMP:20260424T224724
CREATED:20240421T134700Z
LAST-MODIFIED:20240421T152309Z
UID:10019303-1719050400-1719064800@woodlandschildrensmuseum.org
SUMMARY:Fairy Day and Tinkerbell meet & greets
DESCRIPTION:Join us for Fairy Day on Thursday\, June 20th\, and Saturday\, June 22nd. Celebrate International Fairy Day with Tinker Bell photo ops and meet and greets at 10:30am\, 11:30am\, 12:30pm\, 1:30pm and 2:30pm. Enjoy face painting and creating fairy wings. Special readings of “Camilla the Cupcake Fairy” and “Backyard Fairies”.All adults and children are encouraged to wear their best fairy outfits.  \nAt 11am enjoy “Camilla the Cupcake Fairy” by Tim Bugbird. This precious cupcake fairy is challenged by not being experienced in using her very first wand. However\, by keeping at it with the help of her fairy friends\, they create the perfect cupcake with their perfect friendship. Then at 1pm delight in “Backyard Fairies” by Phoebe Wahl. This magical tale follows a little girl in search of fairies in her backyard and the surrounding woods\, not quite seeing the creatures hiding all around her. The story is a celebration of imagination and nature!  \nThis event is included in the price of admission\, which is $9 for adults and children 1 year and older. bit.ly/TWCMtickets \nSummer Hours:\nTuesday\, June 4th-Friday\, August 9th\nTuesday-Friday 9:30am-4:00pm\nSaturday 10am-5pm\nClosed Sunday and Monday \n\nAs a 501(c)3 Non-Profit\, our goal is to make memories and create learning opportunities for children in our community.\nYour donation will help children discover\, play\, imagine\, and grow in a safe and nurturing environment. Donate here 
URL:https://woodlandschildrensmuseum.org/event/fairy-day-and-tinkerbell-meet-greets/2024-06-22/
LOCATION:The Woodlands Children’s Museum
END:VEVENT
BEGIN:VEVENT
DTSTART;TZID=America/Chicago:20240622T100000
DTEND;TZID=America/Chicago:20240622T170000
DTSTAMP:20260424T224724
CREATED:20240418T212224Z
LAST-MODIFIED:20240418T212255Z
UID:10019272-1719050400-1719075600@woodlandschildrensmuseum.org
SUMMARY:Museum Open
DESCRIPTION:Summer Hours: Tuesday June 4th-Friday\, August 9th\nTuesday-Friday 9:30am-4pm\nSat. 10am-5pm\nClosed Sunday and Monday. \n  \nAdmission is $9 for adults and children 1 year and older. Please visit here to reserve your timed session tickets.\nMembers FREE. Become a member today\, click here.  \n\nAs a 501(c)3 Non-Profit\, our goal is to make memories and create learning opportunities for children in our community.\nYour donation will help children discover\, play\, imagine\, and grow in a safe and nurturing environment. Donate here 
URL:https://woodlandschildrensmuseum.org/event/museum-open-26/2024-06-22/
LOCATION:The Woodlands Children’s Museum
END:VEVENT
BEGIN:VEVENT
DTSTART;TZID=America/Chicago:20240622T110000
DTEND;TZID=America/Chicago:20240622T130000
DTSTAMP:20260424T224724
CREATED:20240419T142658Z
LAST-MODIFIED:20240419T142738Z
UID:10019297-1719054000-1719061200@woodlandschildrensmuseum.org
SUMMARY:Special Storytimes for Fairy Day 11am & 1pm
DESCRIPTION:Saturay\, June 22nd-Special Storytimes for Fairy Day. At 11am enjoy “Camilla the Cupcake Fairy” by Tim Bugbird. This precious cupcake fairy is challenged by not being experienced in using her very first wand. However\, by keeping at it with the help of her fairy friends\, they create the perfect cupcake with their perfect friendship. Then at 1pm delight in “Backyard Fairies” by Phoebe Wahl. This magical tale follows a little girl in search of fairies in her backyard and the surrounding woods\, not quite seeing the creatures hiding all around her. The story is a celebration of imagination and nature!    Included in the price of admission\, which is $9 for adults and children 1 year and older. #BookReading #StoryTime #ChildrensBook #ToddlerMom #Art #ChildrensMuseum bit.ly/TWCMtickets \nSummer Hours:\nTuesday\, June 4th-Friday\, August 9th\nTuesday-Friday 9:30am-4:00pm\nSaturday 10am-5pm\nClosed Sunday and Monday \n\nAs a 501(c)3 Non-Profit\, our goal is to make memories and create learning opportunities for children in our community.\nYour donation will help children discover\, play\, imagine\, and grow in a safe and nurturing environment. Donate here 
URL:https://woodlandschildrensmuseum.org/event/special-storytimes-for-fairy-day-11am-1pm-2/
LOCATION:The Woodlands Children’s Museum
END:VEVENT
END:VCALENDAR