BEGIN:VCALENDAR
VERSION:2.0
PRODID:-//The Woodlands Children&#039;s Museum - ECPv6.15.20//NONSGML v1.0//EN
CALSCALE:GREGORIAN
METHOD:PUBLISH
X-WR-CALNAME:The Woodlands Children&#039;s Museum
X-ORIGINAL-URL:https://woodlandschildrensmuseum.org
X-WR-CALDESC:Events for The Woodlands Children&#039;s Museum
REFRESH-INTERVAL;VALUE=DURATION:PT1H
X-Robots-Tag:noindex
X-PUBLISHED-TTL:PT1H
BEGIN:VTIMEZONE
TZID:America/Chicago
BEGIN:DAYLIGHT
TZOFFSETFROM:-0600
TZOFFSETTO:-0500
TZNAME:CDT
DTSTART:20230312T080000
END:DAYLIGHT
BEGIN:STANDARD
TZOFFSETFROM:-0500
TZOFFSETTO:-0600
TZNAME:CST
DTSTART:20231105T070000
END:STANDARD
BEGIN:DAYLIGHT
TZOFFSETFROM:-0600
TZOFFSETTO:-0500
TZNAME:CDT
DTSTART:20240310T080000
END:DAYLIGHT
BEGIN:STANDARD
TZOFFSETFROM:-0500
TZOFFSETTO:-0600
TZNAME:CST
DTSTART:20241103T070000
END:STANDARD
BEGIN:DAYLIGHT
TZOFFSETFROM:-0600
TZOFFSETTO:-0500
TZNAME:CDT
DTSTART:20250309T080000
END:DAYLIGHT
BEGIN:STANDARD
TZOFFSETFROM:-0500
TZOFFSETTO:-0600
TZNAME:CST
DTSTART:20251102T070000
END:STANDARD
END:VTIMEZONE
BEGIN:VEVENT
DTSTART;TZID=America/Chicago:20240211T080000
DTEND;TZID=America/Chicago:20240211T170000
DTSTAMP:20260425T052628
CREATED:20231118T183813Z
LAST-MODIFIED:20250203T184526Z
UID:10018281-1707638400-1707670800@woodlandschildrensmuseum.org
SUMMARY:Museum Closed
DESCRIPTION:Hours: Tues-Thurs 10am-2pm.\nFri. 10am-4pm. Sat. 10am-5pm.\nClosed Sundays and Mondays\nStarting Jan. 2nd daily admission is $9 per person 1 years and older\, children under 1 and Museum Members are free.\nRecommended ages 7 years and under.\nChildren must be accompanied by an adult at all times. Click for tickets. \nAs a 501(c)3 Non-Profit\, our goal is to make memories and create learning opportunities for children in our community. Your donation will help children discover\, play\, imagine\, and grow in a safe and nurturing environment. Click here to donate now.  \n  \n 
URL:https://woodlandschildrensmuseum.org/event/museum-closed-100/2024-02-11/
LOCATION:The Woodlands Children’s Museum
END:VEVENT
BEGIN:VEVENT
DTSTART;TZID=America/Chicago:20240212T080000
DTEND;TZID=America/Chicago:20240212T170000
DTSTAMP:20260425T052628
CREATED:20231118T183813Z
LAST-MODIFIED:20250203T184526Z
UID:10018282-1707724800-1707757200@woodlandschildrensmuseum.org
SUMMARY:Museum Closed
DESCRIPTION:Hours: Tues-Thurs 10am-2pm.\nFri. 10am-4pm. Sat. 10am-5pm.\nClosed Sundays and Mondays\nStarting Jan. 2nd daily admission is $9 per person 1 years and older\, children under 1 and Museum Members are free.\nRecommended ages 7 years and under.\nChildren must be accompanied by an adult at all times. Click for tickets. \nAs a 501(c)3 Non-Profit\, our goal is to make memories and create learning opportunities for children in our community. Your donation will help children discover\, play\, imagine\, and grow in a safe and nurturing environment. Click here to donate now.  \n  \n 
URL:https://woodlandschildrensmuseum.org/event/museum-closed-100/2024-02-12/
LOCATION:The Woodlands Children’s Museum
END:VEVENT
BEGIN:VEVENT
DTSTART;TZID=America/Chicago:20240213T093000
DTEND;TZID=America/Chicago:20240213T100000
DTSTAMP:20260425T052628
CREATED:20231220T150253Z
LAST-MODIFIED:20240127T175117Z
UID:10018787-1707816600-1707818400@woodlandschildrensmuseum.org
SUMMARY:Rhyme Time for babies and toddlers ages 6-24 months.
DESCRIPTION:Rhyme Time is a group class focused on gently exposing your child to an environment of music through songs\, movement\, singing and first introductions to instruments. It’s an excellent way to interact with other families in our community\, while fostering socialization for babies. Meets TUESDAYS at 9:30am\, included in the price of admission\, which is $9 for adults and children 1 year and older.  bit.ly/TWCMtickets \nHours\nTues-Thurs 10am-2pm.\nFri. 10am-4pm.\nSat. 10am-5pm.\nClosed Sunday and Monday
URL:https://woodlandschildrensmuseum.org/event/rhyme-time-for-babies-and-toddlers-ages-6-24-months-3/2024-02-13/
LOCATION:The Woodlands Children’s Museum
END:VEVENT
BEGIN:VEVENT
DTSTART;TZID=America/Chicago:20240213T100000
DTEND;TZID=America/Chicago:20240213T100000
DTSTAMP:20260425T052628
CREATED:20231219T181722Z
LAST-MODIFIED:20231219T181739Z
UID:10018659-1707818400-1707818400@woodlandschildrensmuseum.org
SUMMARY:The Amazing Castle Traveling Exhibit
DESCRIPTION:The Amazing Castle Traveling Exhibit will be OPEN Tuesday\, January 16th-May 4th.\nTravel back in time to a fanciful\, medieval village\, filled with opportunities for problem-solving\, storytelling and imaginative play. Plant and harvest your own vegetables in the garden while building a chair or making your own design in the carpenters workshop. Use a metal patch to fix a hole in the blacksmith workshop\, and dress in costumes and role-play as lords\, ladies\, and castle villagers. This exhibit included in the price of admission which is $9 for adults and children 1 year and older. bit.ly/TWCMtickets \nAs a 501(c)3 Non-Profit\, our goal is to make memories and create learning opportunities for children in our community. Your donation will help children discover\, play\, imagine\, and grow in a safe and nurturing environment. Click here to donate now.  \n     
URL:https://woodlandschildrensmuseum.org/event/the-amazing-castle-traveling-exhibit/2024-02-13/
LOCATION:The Woodlands Children’s Museum
END:VEVENT
BEGIN:VEVENT
DTSTART;TZID=America/Chicago:20240213T100000
DTEND;TZID=America/Chicago:20240213T140000
DTSTAMP:20260425T052628
CREATED:20231229T233742Z
LAST-MODIFIED:20240115T184159Z
UID:10018807-1707818400-1707832800@woodlandschildrensmuseum.org
SUMMARY:Mardi Gras Celebration and indoor parades
DESCRIPTION:Mardi Gras 💜💚💛 Tuesday\, February 13th\, 10am-2pm\, Come celebrate “Fat Tuesday” with us in traditional Louisiana style! Enjoy Face Painting and creating masks and noise makers to use in parades at 10:30am and 11:30am. Mardi Gras Boogie Bash at 11:00am and enjoy a piece of King Cake donated by Montgomery Bakehouse upon exiting. The event is included in the price of admission\, which is $9 for adults and children 1 year and older. bit.ly/TWCMtickets\nThanks\, Montgomery Bakehouse for your King Cake donation.\n \n 
URL:https://woodlandschildrensmuseum.org/event/mardi-gras-celebration-2/
LOCATION:The Woodlands Children’s Museum
END:VEVENT
BEGIN:VEVENT
DTSTART;TZID=America/Chicago:20240213T110000
DTEND;TZID=America/Chicago:20240213T110000
DTSTAMP:20260425T052628
CREATED:20231229T172703Z
LAST-MODIFIED:20231229T172711Z
UID:10018791-1707822000-1707822000@woodlandschildrensmuseum.org
SUMMARY:Boogie Bash-Mardi Gras Boogie
DESCRIPTION:Boogie Bash on Tuesday\, February 13th at 11am\, presents Mardi Gras Boogie\, We’re celebrating Mardi Gras with an introduction to New Orleans jazz\, a “Second Line” scarf activity\, marching with rhythm instruments\, and parachute fun! #Dance #Movement #Music #ToddlerMom #Art #ChildrensMuseum   Included in the price of admission\, which is $9 for adults and children 1 year and older. bit.ly/TWCMtickets    \nHours\nTues-Thurs 10am-2pm\, Fri. 10am-4pm\, Sat. 10am-5pm. Closed Sundays and Mondays.
URL:https://woodlandschildrensmuseum.org/event/boogie-bash-mardi-gras-boogie-2/
LOCATION:The Woodlands Children’s Museum
END:VEVENT
BEGIN:VEVENT
DTSTART;TZID=America/Chicago:20240214T100000
DTEND;TZID=America/Chicago:20240214T100000
DTSTAMP:20260425T052628
CREATED:20231219T181722Z
LAST-MODIFIED:20231219T181739Z
UID:10018660-1707904800-1707904800@woodlandschildrensmuseum.org
SUMMARY:The Amazing Castle Traveling Exhibit
DESCRIPTION:The Amazing Castle Traveling Exhibit will be OPEN Tuesday\, January 16th-May 4th.\nTravel back in time to a fanciful\, medieval village\, filled with opportunities for problem-solving\, storytelling and imaginative play. Plant and harvest your own vegetables in the garden while building a chair or making your own design in the carpenters workshop. Use a metal patch to fix a hole in the blacksmith workshop\, and dress in costumes and role-play as lords\, ladies\, and castle villagers. This exhibit included in the price of admission which is $9 for adults and children 1 year and older. bit.ly/TWCMtickets \nAs a 501(c)3 Non-Profit\, our goal is to make memories and create learning opportunities for children in our community. Your donation will help children discover\, play\, imagine\, and grow in a safe and nurturing environment. Click here to donate now.  \n     
URL:https://woodlandschildrensmuseum.org/event/the-amazing-castle-traveling-exhibit/2024-02-14/
LOCATION:The Woodlands Children’s Museum
END:VEVENT
BEGIN:VEVENT
DTSTART;TZID=America/Chicago:20240214T110000
DTEND;TZID=America/Chicago:20240214T110000
DTSTAMP:20260425T052628
CREATED:20231229T185317Z
LAST-MODIFIED:20240206T162652Z
UID:10018803-1707908400-1707908400@woodlandschildrensmuseum.org
SUMMARY:Crazy About Critters hosts The Learning Zoo
DESCRIPTION:Crazy About Critters hosts The Learning Zoo on Wednesday\, February 14th at 11:00am. Laugh\, learn and get hands-on during an educational animal encounter on stage. This Floor Program is included in the price of admission\, which is $9 for adults and children 1 year and older. http://bit.ly/TWCMtickets \nHours\nTues-Thurs 10am-2pm.\nFri. 10am-4pm.\nSat. 10am-5pm.\nClosed Sunday and Monday
URL:https://woodlandschildrensmuseum.org/event/crazy-about-critters-hosts-the-learning-zoo-25/
LOCATION:The Woodlands Children’s Museum
END:VEVENT
BEGIN:VEVENT
DTSTART;TZID=America/Chicago:20240215T100000
DTEND;TZID=America/Chicago:20240215T100000
DTSTAMP:20260425T052628
CREATED:20231219T181722Z
LAST-MODIFIED:20231219T181739Z
UID:10018661-1707991200-1707991200@woodlandschildrensmuseum.org
SUMMARY:The Amazing Castle Traveling Exhibit
DESCRIPTION:The Amazing Castle Traveling Exhibit will be OPEN Tuesday\, January 16th-May 4th.\nTravel back in time to a fanciful\, medieval village\, filled with opportunities for problem-solving\, storytelling and imaginative play. Plant and harvest your own vegetables in the garden while building a chair or making your own design in the carpenters workshop. Use a metal patch to fix a hole in the blacksmith workshop\, and dress in costumes and role-play as lords\, ladies\, and castle villagers. This exhibit included in the price of admission which is $9 for adults and children 1 year and older. bit.ly/TWCMtickets \nAs a 501(c)3 Non-Profit\, our goal is to make memories and create learning opportunities for children in our community. Your donation will help children discover\, play\, imagine\, and grow in a safe and nurturing environment. Click here to donate now.  \n     
URL:https://woodlandschildrensmuseum.org/event/the-amazing-castle-traveling-exhibit/2024-02-15/
LOCATION:The Woodlands Children’s Museum
END:VEVENT
BEGIN:VEVENT
DTSTART;TZID=America/Chicago:20240215T110000
DTEND;TZID=America/Chicago:20240215T110000
DTSTAMP:20260425T052628
CREATED:20231229T183703Z
LAST-MODIFIED:20240115T171908Z
UID:10018796-1707994800-1707994800@woodlandschildrensmuseum.org
SUMMARY:Shadow Puppet Theatre-two special stories celebrating the winter season
DESCRIPTION:During Shadow Puppet Theatre Thursday\, February 15th at 11am we will be enjoying two special stories celebrating the winter season.  \n“Say Hello to the Snowy Animals!” by Ian Whybrow. This story takes us on a journey to the North Pole\, where a little husky introduces us to all his animal friends including a polar bear and snowy owl.  \nThen “Stopping by Woods on a Snowy Evening” by Robert Frost. This classic Frost poem transports us to the quiet\, frosty world of winter. Included in the price of admission\, which is $9 for adults and children 1 year and older. #BookReading #StoryTime #ChildrensBook #ToddlerMom #Art #ChildrensMuseum bit.ly/TWCMtickets  \nShadow Puppet Theatre is an introduction to storytelling elements that allow our readers and audience to interact directly with each other\, children of all ages are enchanted with the animated shadows. \nHours: Tues-Thurs 10am-2pm. Fri. 10am-4pm. Sat. 10am-5pm. Closed Sunday and Monday.
URL:https://woodlandschildrensmuseum.org/event/shadow-puppet-theatre-two-special-stories-celebrating-the-winter-season/
LOCATION:The Woodlands Children’s Museum
END:VEVENT
BEGIN:VEVENT
DTSTART;TZID=America/Chicago:20240216T100000
DTEND;TZID=America/Chicago:20240216T100000
DTSTAMP:20260425T052628
CREATED:20231219T181722Z
LAST-MODIFIED:20231219T181739Z
UID:10018662-1708077600-1708077600@woodlandschildrensmuseum.org
SUMMARY:The Amazing Castle Traveling Exhibit
DESCRIPTION:The Amazing Castle Traveling Exhibit will be OPEN Tuesday\, January 16th-May 4th.\nTravel back in time to a fanciful\, medieval village\, filled with opportunities for problem-solving\, storytelling and imaginative play. Plant and harvest your own vegetables in the garden while building a chair or making your own design in the carpenters workshop. Use a metal patch to fix a hole in the blacksmith workshop\, and dress in costumes and role-play as lords\, ladies\, and castle villagers. This exhibit included in the price of admission which is $9 for adults and children 1 year and older. bit.ly/TWCMtickets \nAs a 501(c)3 Non-Profit\, our goal is to make memories and create learning opportunities for children in our community. Your donation will help children discover\, play\, imagine\, and grow in a safe and nurturing environment. Click here to donate now.  \n     
URL:https://woodlandschildrensmuseum.org/event/the-amazing-castle-traveling-exhibit/2024-02-16/
LOCATION:The Woodlands Children’s Museum
END:VEVENT
BEGIN:VEVENT
DTSTART;TZID=America/Chicago:20240216T110000
DTEND;TZID=America/Chicago:20240216T121500
DTSTAMP:20260425T052628
CREATED:20231229T185058Z
LAST-MODIFIED:20231229T231803Z
UID:10018802-1708081200-1708085700@woodlandschildrensmuseum.org
SUMMARY:Author visit with Kim Raghunathan
DESCRIPTION:Friday\, February 16th at 11am enjoy an Author Visit with Kim Raghunathan who will read “Charleston to Accra”. This is the story of Leela and her family\, who move from Charleston\, South Carolina\, to Accra\, Ghana\, and explore their new home and surroundings together. Author Kim Raghunathan will read her book on stage at 11:00; and that will be followed by a meet-and-greet\, where she will sell and sign her book until 12:15.  Included in the price of admission\, which is $9 for adults and children 1 year and older. bit.ly/TWCMtickets  #BookReading #StoryTime #ChildrensBook #Educate #Empower #Excite \nIntroduce your child to the wonder of reading and instill a love of books at an early age. Storybook Theatre combines your favorite childhood books with songs\, rhymes and fingerplays which are meant to promote early literacy and enhance language development. \nHours: Tues-Thurs 10am-2pm. Fri. 10am-4pm. Sat. 10am-5pm. Closed Sunday and Monday.
URL:https://woodlandschildrensmuseum.org/event/author-visit-with-kim-raghunathan/
LOCATION:The Woodlands Children’s Museum
END:VEVENT
BEGIN:VEVENT
DTSTART;TZID=America/Chicago:20240217T100000
DTEND;TZID=America/Chicago:20240217T100000
DTSTAMP:20260425T052628
CREATED:20231219T181722Z
LAST-MODIFIED:20231219T181739Z
UID:10018663-1708164000-1708164000@woodlandschildrensmuseum.org
SUMMARY:The Amazing Castle Traveling Exhibit
DESCRIPTION:The Amazing Castle Traveling Exhibit will be OPEN Tuesday\, January 16th-May 4th.\nTravel back in time to a fanciful\, medieval village\, filled with opportunities for problem-solving\, storytelling and imaginative play. Plant and harvest your own vegetables in the garden while building a chair or making your own design in the carpenters workshop. Use a metal patch to fix a hole in the blacksmith workshop\, and dress in costumes and role-play as lords\, ladies\, and castle villagers. This exhibit included in the price of admission which is $9 for adults and children 1 year and older. bit.ly/TWCMtickets \nAs a 501(c)3 Non-Profit\, our goal is to make memories and create learning opportunities for children in our community. Your donation will help children discover\, play\, imagine\, and grow in a safe and nurturing environment. Click here to donate now.  \n     
URL:https://woodlandschildrensmuseum.org/event/the-amazing-castle-traveling-exhibit/2024-02-17/
LOCATION:The Woodlands Children’s Museum
END:VEVENT
BEGIN:VEVENT
DTSTART;TZID=America/Chicago:20240217T100000
DTEND;TZID=America/Chicago:20240217T130000
DTSTAMP:20260425T052628
CREATED:20240110T193435Z
LAST-MODIFIED:20240110T193915Z
UID:10018810-1708164000-1708174800@woodlandschildrensmuseum.org
SUMMARY:Studio Art Saturdays Playing Dress Up Workshop for 5-8 year-olds
DESCRIPTION:Studio Art Saturdays Workshop-Saturdays 10:00am-1:00pm. February 17th – Playing Dress Up. Playing dress up truly inspires creative imagination. Children delight in seeing pictures of themselves\, set up in collage format and ready to be dressed up\, providing another exploratory environment using different mediums and textured materials.\nMember $49 Non-Member $59. Click to register. \n \n  \n 
URL:https://woodlandschildrensmuseum.org/event/studio-art-saturdays-playing-dress-up-workshop-for-5-8-year-olds/
LOCATION:The Woodlands Children’s Museum
END:VEVENT
END:VCALENDAR