BEGIN:VCALENDAR
VERSION:2.0
PRODID:-//The Woodlands Children&#039;s Museum - ECPv6.15.20//NONSGML v1.0//EN
CALSCALE:GREGORIAN
METHOD:PUBLISH
X-ORIGINAL-URL:https://woodlandschildrensmuseum.org
X-WR-CALDESC:Events for The Woodlands Children&#039;s Museum
REFRESH-INTERVAL;VALUE=DURATION:PT1H
X-Robots-Tag:noindex
X-PUBLISHED-TTL:PT1H
BEGIN:VTIMEZONE
TZID:America/Chicago
BEGIN:DAYLIGHT
TZOFFSETFROM:-0600
TZOFFSETTO:-0500
TZNAME:CDT
DTSTART:20230312T080000
END:DAYLIGHT
BEGIN:STANDARD
TZOFFSETFROM:-0500
TZOFFSETTO:-0600
TZNAME:CST
DTSTART:20231105T070000
END:STANDARD
BEGIN:DAYLIGHT
TZOFFSETFROM:-0600
TZOFFSETTO:-0500
TZNAME:CDT
DTSTART:20240310T080000
END:DAYLIGHT
BEGIN:STANDARD
TZOFFSETFROM:-0500
TZOFFSETTO:-0600
TZNAME:CST
DTSTART:20241103T070000
END:STANDARD
BEGIN:DAYLIGHT
TZOFFSETFROM:-0600
TZOFFSETTO:-0500
TZNAME:CDT
DTSTART:20250309T080000
END:DAYLIGHT
BEGIN:STANDARD
TZOFFSETFROM:-0500
TZOFFSETTO:-0600
TZNAME:CST
DTSTART:20251102T070000
END:STANDARD
END:VTIMEZONE
BEGIN:VEVENT
DTSTART;TZID=America/Chicago:20240204T080000
DTEND;TZID=America/Chicago:20240204T170000
DTSTAMP:20260425T052627
CREATED:20231118T183813Z
LAST-MODIFIED:20250203T184526Z
UID:10018279-1707033600-1707066000@woodlandschildrensmuseum.org
SUMMARY:Museum Closed
DESCRIPTION:Hours: Tues-Thurs 10am-2pm.\nFri. 10am-4pm. Sat. 10am-5pm.\nClosed Sundays and Mondays\nStarting Jan. 2nd daily admission is $9 per person 1 years and older\, children under 1 and Museum Members are free.\nRecommended ages 7 years and under.\nChildren must be accompanied by an adult at all times. Click for tickets. \nAs a 501(c)3 Non-Profit\, our goal is to make memories and create learning opportunities for children in our community. Your donation will help children discover\, play\, imagine\, and grow in a safe and nurturing environment. Click here to donate now.  \n  \n 
URL:https://woodlandschildrensmuseum.org/event/museum-closed-100/2024-02-04/
LOCATION:The Woodlands Children’s Museum
END:VEVENT
BEGIN:VEVENT
DTSTART;TZID=America/Chicago:20240205T080000
DTEND;TZID=America/Chicago:20240205T170000
DTSTAMP:20260425T052627
CREATED:20231118T183813Z
LAST-MODIFIED:20250203T184526Z
UID:10018280-1707120000-1707152400@woodlandschildrensmuseum.org
SUMMARY:Museum Closed
DESCRIPTION:Hours: Tues-Thurs 10am-2pm.\nFri. 10am-4pm. Sat. 10am-5pm.\nClosed Sundays and Mondays\nStarting Jan. 2nd daily admission is $9 per person 1 years and older\, children under 1 and Museum Members are free.\nRecommended ages 7 years and under.\nChildren must be accompanied by an adult at all times. Click for tickets. \nAs a 501(c)3 Non-Profit\, our goal is to make memories and create learning opportunities for children in our community. Your donation will help children discover\, play\, imagine\, and grow in a safe and nurturing environment. Click here to donate now.  \n  \n 
URL:https://woodlandschildrensmuseum.org/event/museum-closed-100/2024-02-05/
LOCATION:The Woodlands Children’s Museum
END:VEVENT
BEGIN:VEVENT
DTSTART;TZID=America/Chicago:20240206T093000
DTEND;TZID=America/Chicago:20240206T100000
DTSTAMP:20260425T052627
CREATED:20231220T150253Z
LAST-MODIFIED:20240127T175117Z
UID:10018786-1707211800-1707213600@woodlandschildrensmuseum.org
SUMMARY:Rhyme Time for babies and toddlers ages 6-24 months.
DESCRIPTION:Rhyme Time is a group class focused on gently exposing your child to an environment of music through songs\, movement\, singing and first introductions to instruments. It’s an excellent way to interact with other families in our community\, while fostering socialization for babies. Meets TUESDAYS at 9:30am\, included in the price of admission\, which is $9 for adults and children 1 year and older.  bit.ly/TWCMtickets \nHours\nTues-Thurs 10am-2pm.\nFri. 10am-4pm.\nSat. 10am-5pm.\nClosed Sunday and Monday
URL:https://woodlandschildrensmuseum.org/event/rhyme-time-for-babies-and-toddlers-ages-6-24-months-3/2024-02-06/
LOCATION:The Woodlands Children’s Museum
END:VEVENT
BEGIN:VEVENT
DTSTART;TZID=America/Chicago:20240206T100000
DTEND;TZID=America/Chicago:20240206T100000
DTSTAMP:20260425T052627
CREATED:20231219T181722Z
LAST-MODIFIED:20231219T181739Z
UID:10018654-1707213600-1707213600@woodlandschildrensmuseum.org
SUMMARY:The Amazing Castle Traveling Exhibit
DESCRIPTION:The Amazing Castle Traveling Exhibit will be OPEN Tuesday\, January 16th-May 4th.\nTravel back in time to a fanciful\, medieval village\, filled with opportunities for problem-solving\, storytelling and imaginative play. Plant and harvest your own vegetables in the garden while building a chair or making your own design in the carpenters workshop. Use a metal patch to fix a hole in the blacksmith workshop\, and dress in costumes and role-play as lords\, ladies\, and castle villagers. This exhibit included in the price of admission which is $9 for adults and children 1 year and older. bit.ly/TWCMtickets \nAs a 501(c)3 Non-Profit\, our goal is to make memories and create learning opportunities for children in our community. Your donation will help children discover\, play\, imagine\, and grow in a safe and nurturing environment. Click here to donate now.  \n     
URL:https://woodlandschildrensmuseum.org/event/the-amazing-castle-traveling-exhibit/2024-02-06/
LOCATION:The Woodlands Children’s Museum
END:VEVENT
BEGIN:VEVENT
DTSTART;TZID=America/Chicago:20240206T110000
DTEND;TZID=America/Chicago:20240206T110000
DTSTAMP:20260425T052627
CREATED:20231229T172508Z
LAST-MODIFIED:20231229T172522Z
UID:10018790-1707217200-1707217200@woodlandschildrensmuseum.org
SUMMARY:Boogie Bash-Get Fit and Boogie
DESCRIPTION:Boogie Bash on Tuesday\, February 6th at 11am\, presents Get Fit and Boogie\, featuring musical activities that emphasize the importance of moving and exercising. #Dance #Movement #Music #ToddlerMom #Art #ChildrensMuseum   Included in the price of admission\, which is $9 for adults and children 1 year and older. bit.ly/TWCMtickets    \nHours\nTues-Thurs 10am-2pm\, Fri. 10am-4pm\, Sat. 10am-5pm. Closed Sundays and Mondays.
URL:https://woodlandschildrensmuseum.org/event/boogie-bash-get-fit-and-boogie-3/
LOCATION:The Woodlands Children’s Museum
END:VEVENT
BEGIN:VEVENT
DTSTART;TZID=America/Chicago:20240207T100000
DTEND;TZID=America/Chicago:20240207T100000
DTSTAMP:20260425T052627
CREATED:20231219T181722Z
LAST-MODIFIED:20231219T181739Z
UID:10018655-1707300000-1707300000@woodlandschildrensmuseum.org
SUMMARY:The Amazing Castle Traveling Exhibit
DESCRIPTION:The Amazing Castle Traveling Exhibit will be OPEN Tuesday\, January 16th-May 4th.\nTravel back in time to a fanciful\, medieval village\, filled with opportunities for problem-solving\, storytelling and imaginative play. Plant and harvest your own vegetables in the garden while building a chair or making your own design in the carpenters workshop. Use a metal patch to fix a hole in the blacksmith workshop\, and dress in costumes and role-play as lords\, ladies\, and castle villagers. This exhibit included in the price of admission which is $9 for adults and children 1 year and older. bit.ly/TWCMtickets \nAs a 501(c)3 Non-Profit\, our goal is to make memories and create learning opportunities for children in our community. Your donation will help children discover\, play\, imagine\, and grow in a safe and nurturing environment. Click here to donate now.  \n     
URL:https://woodlandschildrensmuseum.org/event/the-amazing-castle-traveling-exhibit/2024-02-07/
LOCATION:The Woodlands Children’s Museum
END:VEVENT
BEGIN:VEVENT
DTSTART;TZID=America/Chicago:20240208T100000
DTEND;TZID=America/Chicago:20240208T100000
DTSTAMP:20260425T052627
CREATED:20231219T181722Z
LAST-MODIFIED:20231219T181739Z
UID:10018656-1707386400-1707386400@woodlandschildrensmuseum.org
SUMMARY:The Amazing Castle Traveling Exhibit
DESCRIPTION:The Amazing Castle Traveling Exhibit will be OPEN Tuesday\, January 16th-May 4th.\nTravel back in time to a fanciful\, medieval village\, filled with opportunities for problem-solving\, storytelling and imaginative play. Plant and harvest your own vegetables in the garden while building a chair or making your own design in the carpenters workshop. Use a metal patch to fix a hole in the blacksmith workshop\, and dress in costumes and role-play as lords\, ladies\, and castle villagers. This exhibit included in the price of admission which is $9 for adults and children 1 year and older. bit.ly/TWCMtickets \nAs a 501(c)3 Non-Profit\, our goal is to make memories and create learning opportunities for children in our community. Your donation will help children discover\, play\, imagine\, and grow in a safe and nurturing environment. Click here to donate now.  \n     
URL:https://woodlandschildrensmuseum.org/event/the-amazing-castle-traveling-exhibit/2024-02-08/
LOCATION:The Woodlands Children’s Museum
END:VEVENT
BEGIN:VEVENT
DTSTART;TZID=America/Chicago:20240208T110000
DTEND;TZID=America/Chicago:20240208T110000
DTSTAMP:20260425T052627
CREATED:20231229T183419Z
LAST-MODIFIED:20231229T231341Z
UID:10018795-1707390000-1707390000@woodlandschildrensmuseum.org
SUMMARY:Shadow Puppet Theatre-Dinosaur Mardi Gras
DESCRIPTION:Shadow Puppet Theatre Thursday\, February 8th at 11am presents  “Dinosaur Mardi Gras” by Dianne de Las Casas. Some very hip dinosaurs join in the celebration during carnival time in New Orleans.  Included in the price of admission\, which is $9 for adults and children 1 year and older. #BookReading #StoryTime #ChildrensBook #ToddlerMom #Art #ChildrensMuseum bit.ly/TWCMtickets  \nShadow Puppet Theatre is an introduction to storytelling elements that allow our readers and audience to interact directly with each other\, children of all ages are enchanted with the animated shadows. \nHours: Tues-Thurs 10am-2pm. Fri. 10am-4pm. Sat. 10am-5pm. Closed Sunday and Monday.
URL:https://woodlandschildrensmuseum.org/event/shadow-puppet-theatre-dinosaur-mardi-gras-3/
LOCATION:The Woodlands Children’s Museum
END:VEVENT
BEGIN:VEVENT
DTSTART;TZID=America/Chicago:20240209T100000
DTEND;TZID=America/Chicago:20240209T100000
DTSTAMP:20260425T052627
CREATED:20231219T181722Z
LAST-MODIFIED:20231219T181739Z
UID:10018657-1707472800-1707472800@woodlandschildrensmuseum.org
SUMMARY:The Amazing Castle Traveling Exhibit
DESCRIPTION:The Amazing Castle Traveling Exhibit will be OPEN Tuesday\, January 16th-May 4th.\nTravel back in time to a fanciful\, medieval village\, filled with opportunities for problem-solving\, storytelling and imaginative play. Plant and harvest your own vegetables in the garden while building a chair or making your own design in the carpenters workshop. Use a metal patch to fix a hole in the blacksmith workshop\, and dress in costumes and role-play as lords\, ladies\, and castle villagers. This exhibit included in the price of admission which is $9 for adults and children 1 year and older. bit.ly/TWCMtickets \nAs a 501(c)3 Non-Profit\, our goal is to make memories and create learning opportunities for children in our community. Your donation will help children discover\, play\, imagine\, and grow in a safe and nurturing environment. Click here to donate now.  \n     
URL:https://woodlandschildrensmuseum.org/event/the-amazing-castle-traveling-exhibit/2024-02-09/
LOCATION:The Woodlands Children’s Museum
END:VEVENT
BEGIN:VEVENT
DTSTART;TZID=America/Chicago:20240209T110000
DTEND;TZID=America/Chicago:20240209T110000
DTSTAMP:20260425T052627
CREATED:20231229T184803Z
LAST-MODIFIED:20231229T231725Z
UID:10018801-1707476400-1707476400@woodlandschildrensmuseum.org
SUMMARY:Storybook Theatre-The Year of the Dragon: Tales from the Chinese Zodiac
DESCRIPTION:Storybook Theatre at 11am Friday\, February 9th presents Lunar New Year reading of “The Year of the Dragon: Tales from the Chinese Zodiac” by Oliver Chin. 2024 is the Year of the Dragon; and we are introduced to Dominic\, a young dragon who eventually learns to spread his wings and discover his own true character.  Included in the price of admission\, which is $9 for adults and children 1 year and older. bit.ly/TWCMtickets  #BookReading #StoryTime #ChildrensBook #Educate #Empower #Excite \nIntroduce your child to the wonder of reading and instill a love of books at an early age. Storybook Theatre combines your favorite childhood books with songs\, rhymes and fingerplays which are meant to promote early literacy and enhance language development. \nHours: Tues-Thurs 10am-2pm. Fri. 10am-4pm. Sat. 10am-5pm. Closed Sunday and Monday.
URL:https://woodlandschildrensmuseum.org/event/storybook-theatre-the-year-of-the-dragon-tales-from-the-chinese-zodiac/
LOCATION:The Woodlands Children’s Museum
END:VEVENT
BEGIN:VEVENT
DTSTART;TZID=America/Chicago:20240210T100000
DTEND;TZID=America/Chicago:20240210T100000
DTSTAMP:20260425T052627
CREATED:20231219T181722Z
LAST-MODIFIED:20231219T181739Z
UID:10018658-1707559200-1707559200@woodlandschildrensmuseum.org
SUMMARY:The Amazing Castle Traveling Exhibit
DESCRIPTION:The Amazing Castle Traveling Exhibit will be OPEN Tuesday\, January 16th-May 4th.\nTravel back in time to a fanciful\, medieval village\, filled with opportunities for problem-solving\, storytelling and imaginative play. Plant and harvest your own vegetables in the garden while building a chair or making your own design in the carpenters workshop. Use a metal patch to fix a hole in the blacksmith workshop\, and dress in costumes and role-play as lords\, ladies\, and castle villagers. This exhibit included in the price of admission which is $9 for adults and children 1 year and older. bit.ly/TWCMtickets \nAs a 501(c)3 Non-Profit\, our goal is to make memories and create learning opportunities for children in our community. Your donation will help children discover\, play\, imagine\, and grow in a safe and nurturing environment. Click here to donate now.  \n     
URL:https://woodlandschildrensmuseum.org/event/the-amazing-castle-traveling-exhibit/2024-02-10/
LOCATION:The Woodlands Children’s Museum
END:VEVENT
END:VCALENDAR