BEGIN:VCALENDAR
VERSION:2.0
PRODID:-//The Woodlands Children&#039;s Museum - ECPv6.15.20//NONSGML v1.0//EN
CALSCALE:GREGORIAN
METHOD:PUBLISH
X-WR-CALNAME:The Woodlands Children&#039;s Museum
X-ORIGINAL-URL:https://woodlandschildrensmuseum.org
X-WR-CALDESC:Events for The Woodlands Children&#039;s Museum
REFRESH-INTERVAL;VALUE=DURATION:PT1H
X-Robots-Tag:noindex
X-PUBLISHED-TTL:PT1H
BEGIN:VTIMEZONE
TZID:America/Chicago
BEGIN:DAYLIGHT
TZOFFSETFROM:-0600
TZOFFSETTO:-0500
TZNAME:CDT
DTSTART:20230312T080000
END:DAYLIGHT
BEGIN:STANDARD
TZOFFSETFROM:-0500
TZOFFSETTO:-0600
TZNAME:CST
DTSTART:20231105T070000
END:STANDARD
BEGIN:DAYLIGHT
TZOFFSETFROM:-0600
TZOFFSETTO:-0500
TZNAME:CDT
DTSTART:20240310T080000
END:DAYLIGHT
BEGIN:STANDARD
TZOFFSETFROM:-0500
TZOFFSETTO:-0600
TZNAME:CST
DTSTART:20241103T070000
END:STANDARD
BEGIN:DAYLIGHT
TZOFFSETFROM:-0600
TZOFFSETTO:-0500
TZNAME:CDT
DTSTART:20250309T080000
END:DAYLIGHT
BEGIN:STANDARD
TZOFFSETFROM:-0500
TZOFFSETTO:-0600
TZNAME:CST
DTSTART:20251102T070000
END:STANDARD
END:VTIMEZONE
BEGIN:VEVENT
DTSTART;VALUE=DATE:20240112
DTEND;VALUE=DATE:20240116
DTSTAMP:20260425T070157
CREATED:20231202T003059Z
LAST-MODIFIED:20231219T171523Z
UID:10018392-1705017600-1705363199@woodlandschildrensmuseum.org
SUMMARY:Museum closed for The Amazing Castle Traveling Exhibit installation
DESCRIPTION:The Amazing Castle Traveling Exhibit\nThe museum will be closed for exhibit installation Friday\, Jan. 12 – Monday\, Jan. 15 and will be OPEN Tuesday\, January 16th. \nTravel back in time to a fanciful\, medieval village\, filled with opportunities for problem-solving\, storytelling and imaginative play. Plant and harvest your own vegetables in the garden while building a chair or making your own design in the carpenters workshop. Use a metal patch to fix a hole in the blacksmith workshop\, and dress in costumes and role-play as lords\, ladies\, and castle villagers. This exhibit included in the price of admission which is $9 for adults and children 1 year and older. \nAs a 501(c)3 Non-Profit\, our goal is to make memories and create learning opportunities for children in our community. Your donation will help children discover\, play\, imagine\, and grow in a safe and nurturing environment. Click here to donate now.  \n  \n 
URL:https://woodlandschildrensmuseum.org/event/museum-closed-for-the-amazing-castle-traveling-exhibit-installation/
LOCATION:The Woodlands Children’s Museum
END:VEVENT
BEGIN:VEVENT
DTSTART;TZID=America/Chicago:20240114T080000
DTEND;TZID=America/Chicago:20240114T170000
DTSTAMP:20260425T070157
CREATED:20231118T183813Z
LAST-MODIFIED:20250203T184526Z
UID:10018273-1705219200-1705251600@woodlandschildrensmuseum.org
SUMMARY:Museum Closed
DESCRIPTION:Hours: Tues-Thurs 10am-2pm.\nFri. 10am-4pm. Sat. 10am-5pm.\nClosed Sundays and Mondays\nStarting Jan. 2nd daily admission is $9 per person 1 years and older\, children under 1 and Museum Members are free.\nRecommended ages 7 years and under.\nChildren must be accompanied by an adult at all times. Click for tickets. \nAs a 501(c)3 Non-Profit\, our goal is to make memories and create learning opportunities for children in our community. Your donation will help children discover\, play\, imagine\, and grow in a safe and nurturing environment. Click here to donate now.  \n  \n 
URL:https://woodlandschildrensmuseum.org/event/museum-closed-100/2024-01-14/
LOCATION:The Woodlands Children’s Museum
END:VEVENT
BEGIN:VEVENT
DTSTART;TZID=America/Chicago:20240115T080000
DTEND;TZID=America/Chicago:20240115T170000
DTSTAMP:20260425T070157
CREATED:20231118T183813Z
LAST-MODIFIED:20250203T184526Z
UID:10018274-1705305600-1705338000@woodlandschildrensmuseum.org
SUMMARY:Museum Closed
DESCRIPTION:Hours: Tues-Thurs 10am-2pm.\nFri. 10am-4pm. Sat. 10am-5pm.\nClosed Sundays and Mondays\nStarting Jan. 2nd daily admission is $9 per person 1 years and older\, children under 1 and Museum Members are free.\nRecommended ages 7 years and under.\nChildren must be accompanied by an adult at all times. Click for tickets. \nAs a 501(c)3 Non-Profit\, our goal is to make memories and create learning opportunities for children in our community. Your donation will help children discover\, play\, imagine\, and grow in a safe and nurturing environment. Click here to donate now.  \n  \n 
URL:https://woodlandschildrensmuseum.org/event/museum-closed-100/2024-01-15/
LOCATION:The Woodlands Children’s Museum
END:VEVENT
BEGIN:VEVENT
DTSTART;TZID=America/Chicago:20240116T100000
DTEND;TZID=America/Chicago:20240116T100000
DTSTAMP:20260425T070157
CREATED:20231219T181722Z
LAST-MODIFIED:20231219T181739Z
UID:10018639-1705399200-1705399200@woodlandschildrensmuseum.org
SUMMARY:The Amazing Castle Traveling Exhibit
DESCRIPTION:The Amazing Castle Traveling Exhibit will be OPEN Tuesday\, January 16th-May 4th.\nTravel back in time to a fanciful\, medieval village\, filled with opportunities for problem-solving\, storytelling and imaginative play. Plant and harvest your own vegetables in the garden while building a chair or making your own design in the carpenters workshop. Use a metal patch to fix a hole in the blacksmith workshop\, and dress in costumes and role-play as lords\, ladies\, and castle villagers. This exhibit included in the price of admission which is $9 for adults and children 1 year and older. bit.ly/TWCMtickets \nAs a 501(c)3 Non-Profit\, our goal is to make memories and create learning opportunities for children in our community. Your donation will help children discover\, play\, imagine\, and grow in a safe and nurturing environment. Click here to donate now.  \n     
URL:https://woodlandschildrensmuseum.org/event/the-amazing-castle-traveling-exhibit/2024-01-16/
LOCATION:The Woodlands Children’s Museum
END:VEVENT
BEGIN:VEVENT
DTSTART;TZID=America/Chicago:20240116T110000
DTEND;TZID=America/Chicago:20240116T110000
DTSTAMP:20260425T070157
CREATED:20231118T183218Z
LAST-MODIFIED:20240115T205742Z
UID:10018268-1705402800-1705402800@woodlandschildrensmuseum.org
SUMMARY:CANCELED-Boogie Bash
DESCRIPTION:Boogie Bash on Tuesday\, January 23rd at 11am\, presents Dragons and Knights and Castles\, Oh My!”: To celebrate the opening of our “Amazing Castle” exhibit\, we’re moving and grooving to songs about all things musically medieval (and fun)!   #Dance #Movement #Music #ToddlerMom #Art #ChildrensMuseum   Included in the price of admission\, which is $9 for adults and children 1 year and older. bit.ly/TWCMtickets   
URL:https://woodlandschildrensmuseum.org/event/boogie-bash-dragons-and-knights-and-castles-oh-my/
LOCATION:The Woodlands Children’s Museum
END:VEVENT
BEGIN:VEVENT
DTSTART;TZID=America/Chicago:20240117T100000
DTEND;TZID=America/Chicago:20240117T100000
DTSTAMP:20260425T070157
CREATED:20231219T181722Z
LAST-MODIFIED:20231219T181739Z
UID:10018640-1705485600-1705485600@woodlandschildrensmuseum.org
SUMMARY:The Amazing Castle Traveling Exhibit
DESCRIPTION:The Amazing Castle Traveling Exhibit will be OPEN Tuesday\, January 16th-May 4th.\nTravel back in time to a fanciful\, medieval village\, filled with opportunities for problem-solving\, storytelling and imaginative play. Plant and harvest your own vegetables in the garden while building a chair or making your own design in the carpenters workshop. Use a metal patch to fix a hole in the blacksmith workshop\, and dress in costumes and role-play as lords\, ladies\, and castle villagers. This exhibit included in the price of admission which is $9 for adults and children 1 year and older. bit.ly/TWCMtickets \nAs a 501(c)3 Non-Profit\, our goal is to make memories and create learning opportunities for children in our community. Your donation will help children discover\, play\, imagine\, and grow in a safe and nurturing environment. Click here to donate now.  \n     
URL:https://woodlandschildrensmuseum.org/event/the-amazing-castle-traveling-exhibit/2024-01-17/
LOCATION:The Woodlands Children’s Museum
END:VEVENT
BEGIN:VEVENT
DTSTART;TZID=America/Chicago:20240117T110000
DTEND;TZID=America/Chicago:20240117T110000
DTSTAMP:20260425T070157
CREATED:20231219T171242Z
LAST-MODIFIED:20231219T171251Z
UID:10018397-1705489200-1705489200@woodlandschildrensmuseum.org
SUMMARY:The Bee Lady
DESCRIPTION:Wednesday\, January 17th at 11:00am\, BEE amazed by a visit from The Bee Lady and discover facts about bees while safely meeting a few in person!\nIncluded in the price of admission\, which is $9 for adults and children 1 year and older. bit.ly/TWCMtickets
URL:https://woodlandschildrensmuseum.org/event/the-bee-lady-2/
LOCATION:The Woodlands Children’s Museum
END:VEVENT
BEGIN:VEVENT
DTSTART;TZID=America/Chicago:20240118T100000
DTEND;TZID=America/Chicago:20240118T100000
DTSTAMP:20260425T070157
CREATED:20231219T181722Z
LAST-MODIFIED:20231219T181739Z
UID:10018641-1705572000-1705572000@woodlandschildrensmuseum.org
SUMMARY:The Amazing Castle Traveling Exhibit
DESCRIPTION:The Amazing Castle Traveling Exhibit will be OPEN Tuesday\, January 16th-May 4th.\nTravel back in time to a fanciful\, medieval village\, filled with opportunities for problem-solving\, storytelling and imaginative play. Plant and harvest your own vegetables in the garden while building a chair or making your own design in the carpenters workshop. Use a metal patch to fix a hole in the blacksmith workshop\, and dress in costumes and role-play as lords\, ladies\, and castle villagers. This exhibit included in the price of admission which is $9 for adults and children 1 year and older. bit.ly/TWCMtickets \nAs a 501(c)3 Non-Profit\, our goal is to make memories and create learning opportunities for children in our community. Your donation will help children discover\, play\, imagine\, and grow in a safe and nurturing environment. Click here to donate now.  \n     
URL:https://woodlandschildrensmuseum.org/event/the-amazing-castle-traveling-exhibit/2024-01-18/
LOCATION:The Woodlands Children’s Museum
END:VEVENT
BEGIN:VEVENT
DTSTART;TZID=America/Chicago:20240118T110000
DTEND;TZID=America/Chicago:20240118T110000
DTSTAMP:20260425T070157
CREATED:20231118T184336Z
LAST-MODIFIED:20231228T001339Z
UID:10018386-1705575600-1705575600@woodlandschildrensmuseum.org
SUMMARY:Shadow Puppet Theatre-Bear Snores On
DESCRIPTION:Shadow Puppet Theatre Thursday\, January 18th at 11am presents  “Bear Snores On” by Karma Wilson. The beloved “Bear” character “snores on” even with all the critters coming into his den to get warm. However\, he wakes up feeling left out of the party!  Included in the price of admission\, which is $9 for adults and children 1 year and older. #BookReading #StoryTime #ChildrensBook #ToddlerMom #Art #ChildrensMuseum bit.ly/TWCMtickets  \nShadow Puppet Theatre is an introduction to storytelling elements that allow our readers and audience to interact directly with each other\, children of all ages are enchanted with the animated shadows. \nHours: Tues-Thurs 10am-2pm. Fri. 10am-4pm. Sat. 10am-5pm. Closed Sunday and Monday.
URL:https://woodlandschildrensmuseum.org/event/shadow-puppet-theatre-bear-snores-on-3/
LOCATION:The Woodlands Children’s Museum
END:VEVENT
BEGIN:VEVENT
DTSTART;TZID=America/Chicago:20240119T100000
DTEND;TZID=America/Chicago:20240119T100000
DTSTAMP:20260425T070157
CREATED:20231219T181722Z
LAST-MODIFIED:20231219T181739Z
UID:10018642-1705658400-1705658400@woodlandschildrensmuseum.org
SUMMARY:The Amazing Castle Traveling Exhibit
DESCRIPTION:The Amazing Castle Traveling Exhibit will be OPEN Tuesday\, January 16th-May 4th.\nTravel back in time to a fanciful\, medieval village\, filled with opportunities for problem-solving\, storytelling and imaginative play. Plant and harvest your own vegetables in the garden while building a chair or making your own design in the carpenters workshop. Use a metal patch to fix a hole in the blacksmith workshop\, and dress in costumes and role-play as lords\, ladies\, and castle villagers. This exhibit included in the price of admission which is $9 for adults and children 1 year and older. bit.ly/TWCMtickets \nAs a 501(c)3 Non-Profit\, our goal is to make memories and create learning opportunities for children in our community. Your donation will help children discover\, play\, imagine\, and grow in a safe and nurturing environment. Click here to donate now.  \n     
URL:https://woodlandschildrensmuseum.org/event/the-amazing-castle-traveling-exhibit/2024-01-19/
LOCATION:The Woodlands Children’s Museum
END:VEVENT
BEGIN:VEVENT
DTSTART;TZID=America/Chicago:20240119T110000
DTEND;TZID=America/Chicago:20240119T110000
DTSTAMP:20260425T070157
CREATED:20231118T192917Z
LAST-MODIFIED:20231228T001509Z
UID:10018390-1705662000-1705662000@woodlandschildrensmuseum.org
SUMMARY:Storybook Theatre-Me and My Dragon
DESCRIPTION:Storybook Theatre at 11am Friday\, January 19th presents “Me and My Dragon” by David Biedrzycki. This delightful story outlines all the details involved in picking out and taking care of the perfect pet dragon from choosing a name (in this case\, “Sparky”) to avoiding broccoli in his diet!   Included in the price of admission\, which is $9 for adults and children 1 year and older. bit.ly/TWCMtickets  #BookReading #StoryTime #ChildrensBook #Educate #Empower #Excite \nIntroduce your child to the wonder of reading and instill a love of books at an early age. Storybook Theatre combines your favorite childhood books with songs\, rhymes and fingerplays which are meant to promote early literacy and enhance language development. \nHours: Tues-Thurs 10am-2pm. Fri. 10am-4pm. Sat. 10am-5pm. Closed Sunday and Monday.
URL:https://woodlandschildrensmuseum.org/event/storybook-theatre-me-and-my-dragon/
LOCATION:The Woodlands Children’s Museum
END:VEVENT
BEGIN:VEVENT
DTSTART;TZID=America/Chicago:20240120T100000
DTEND;TZID=America/Chicago:20240120T100000
DTSTAMP:20260425T070157
CREATED:20231219T181722Z
LAST-MODIFIED:20231219T181739Z
UID:10018643-1705744800-1705744800@woodlandschildrensmuseum.org
SUMMARY:The Amazing Castle Traveling Exhibit
DESCRIPTION:The Amazing Castle Traveling Exhibit will be OPEN Tuesday\, January 16th-May 4th.\nTravel back in time to a fanciful\, medieval village\, filled with opportunities for problem-solving\, storytelling and imaginative play. Plant and harvest your own vegetables in the garden while building a chair or making your own design in the carpenters workshop. Use a metal patch to fix a hole in the blacksmith workshop\, and dress in costumes and role-play as lords\, ladies\, and castle villagers. This exhibit included in the price of admission which is $9 for adults and children 1 year and older. bit.ly/TWCMtickets \nAs a 501(c)3 Non-Profit\, our goal is to make memories and create learning opportunities for children in our community. Your donation will help children discover\, play\, imagine\, and grow in a safe and nurturing environment. Click here to donate now.  \n     
URL:https://woodlandschildrensmuseum.org/event/the-amazing-castle-traveling-exhibit/2024-01-20/
LOCATION:The Woodlands Children’s Museum
END:VEVENT
BEGIN:VEVENT
DTSTART;TZID=America/Chicago:20240120T100000
DTEND;TZID=America/Chicago:20240120T130000
DTSTAMP:20260425T070157
CREATED:20240110T182444Z
LAST-MODIFIED:20240110T193249Z
UID:10018809-1705744800-1705755600@woodlandschildrensmuseum.org
SUMMARY:Studio Art Saturdays All About Me Workshop for 5-8 year-olds
DESCRIPTION:Studio Art Saturdays Workshop-Saturdays 10:00am-1:00pm. January 20th – All About Me. Children begin with the interactive task of tracing each other onto large butcher block paper\, creating faces\, hair\, clothing and other embellishments that spark interest and assist in expressing themselves\, providing an exploration of different mediums such as paint\, yarn\, markers\, feathers\, recycled paper and more.\nMember $49 Non-Member $59 Click to register https://ow.ly/5we250Qpk6n \n \n  \n 
URL:https://woodlandschildrensmuseum.org/event/studio-art-saturdays-workshop-6/
LOCATION:The Woodlands Children’s Museum
END:VEVENT
END:VCALENDAR