BEGIN:VCALENDAR
VERSION:2.0
PRODID:-//The Woodlands Children&#039;s Museum - ECPv6.15.20//NONSGML v1.0//EN
CALSCALE:GREGORIAN
METHOD:PUBLISH
X-ORIGINAL-URL:https://woodlandschildrensmuseum.org
X-WR-CALDESC:Events for The Woodlands Children&#039;s Museum
REFRESH-INTERVAL;VALUE=DURATION:PT1H
X-Robots-Tag:noindex
X-PUBLISHED-TTL:PT1H
BEGIN:VTIMEZONE
TZID:America/Chicago
BEGIN:DAYLIGHT
TZOFFSETFROM:-0600
TZOFFSETTO:-0500
TZNAME:CDT
DTSTART:20220313T080000
END:DAYLIGHT
BEGIN:STANDARD
TZOFFSETFROM:-0500
TZOFFSETTO:-0600
TZNAME:CST
DTSTART:20221106T070000
END:STANDARD
BEGIN:DAYLIGHT
TZOFFSETFROM:-0600
TZOFFSETTO:-0500
TZNAME:CDT
DTSTART:20230312T080000
END:DAYLIGHT
BEGIN:STANDARD
TZOFFSETFROM:-0500
TZOFFSETTO:-0600
TZNAME:CST
DTSTART:20231105T070000
END:STANDARD
BEGIN:DAYLIGHT
TZOFFSETFROM:-0600
TZOFFSETTO:-0500
TZNAME:CDT
DTSTART:20240310T080000
END:DAYLIGHT
BEGIN:STANDARD
TZOFFSETFROM:-0500
TZOFFSETTO:-0600
TZNAME:CST
DTSTART:20241103T070000
END:STANDARD
END:VTIMEZONE
BEGIN:VEVENT
DTSTART;TZID=America/Chicago:20231217T100000
DTEND;TZID=America/Chicago:20231217T170000
DTSTAMP:20260425T084425
CREATED:20230309T032523Z
LAST-MODIFIED:20231023T184559Z
UID:10018224-1702807200-1702832400@woodlandschildrensmuseum.org
SUMMARY:Museum Closed
DESCRIPTION:Daily Admission is $8 per person 1 years and older\, children under 1 and Museum Members are free. Recommended ages 7 years and under.\nChildren must be accompanied by an adult at all times. Click for tickets. \nFall Hours\nTues-Thurs 10am-2pm.\nFri. 10am-4pm.\nSat. 10am-5pm.
URL:https://woodlandschildrensmuseum.org/event/museum-closed-99/2023-12-17/
LOCATION:The Woodlands Children’s Museum
END:VEVENT
BEGIN:VEVENT
DTSTART;TZID=America/Chicago:20231218T103000
DTEND;TZID=America/Chicago:20231218T133000
DTSTAMP:20260425T084425
CREATED:20231024T104939Z
LAST-MODIFIED:20231024T104939Z
UID:10018238-1702895400-1702906200@woodlandschildrensmuseum.org
SUMMARY:Anna and Elsa Meet & Greets
DESCRIPTION:On Monday\, December 18\, visit with Anna and Elsa during Meet & Greets and photo ops at 10:30am\,11:30am\, 12:30pm\, 1:30pm. Get into the holiday spirit with a special Winter Bingo at 11am. Included in the price of admission\, which is $8 for adults and children 1 year and older. bit.ly/TWCMtickets  #HolidayVibes #Frozen #ToddlerMom #ChildrensMuseum
URL:https://woodlandschildrensmuseum.org/event/anna-and-elsa-meet-greets/
LOCATION:The Woodlands Children’s Museum
END:VEVENT
BEGIN:VEVENT
DTSTART;TZID=America/Chicago:20231219T080000
DTEND;TZID=America/Chicago:20231219T170000
DTSTAMP:20260425T084425
CREATED:20231218T231102Z
LAST-MODIFIED:20231219T163949Z
UID:10018393-1702972800-1703005200@woodlandschildrensmuseum.org
SUMMARY:Darryl Cleveland at 10:30am\, 11:30am and 12:30pm
DESCRIPTION:Tuesday\, December 19\, join Darryl Clevelan the Juggler at 10:30am\, 11:30am and 12:30pm. Included in the price of admission\, which is $8 for adults and children 1 year and older. bit.ly/TWCMtickets  #HolidayVibes #ToddlerMom #ChildrensMuseum
URL:https://woodlandschildrensmuseum.org/event/noah-the-juggler-at-1030am-1130am-and-1230pm/
LOCATION:The Woodlands Children’s Museum
END:VEVENT
BEGIN:VEVENT
DTSTART;TZID=America/Chicago:20231219T110000
DTEND;TZID=America/Chicago:20231219T110000
DTSTAMP:20260425T084425
CREATED:20231023T184010Z
LAST-MODIFIED:20231023T185712Z
UID:10018232-1702983600-1702983600@woodlandschildrensmuseum.org
SUMMARY:Boogie Bash-Holiday Hop
DESCRIPTION:Boogie Bash on Tuesday\, December 19th at 11am\, presents Holiday Hop. We’re celebrating the season with fun musical activities including fingerplays\, the Reindeer Pokey\, and\, of course\, Jingle Bells!  #Dance #Movement #Music #ToddlerMom #Art #ChildrensMuseum\nIncluded in the price of admission\, which is $8 for adults and children 1 year and older. bit.ly/TWCMtickets
URL:https://woodlandschildrensmuseum.org/event/boogie-bash-holiday-hop-3/
LOCATION:The Woodlands Children’s Museum
END:VEVENT
BEGIN:VEVENT
DTSTART;TZID=America/Chicago:20231220T103000
DTEND;TZID=America/Chicago:20231220T133000
DTSTAMP:20260425T084425
CREATED:20231024T105910Z
LAST-MODIFIED:20231202T002016Z
UID:10018239-1703068200-1703079000@woodlandschildrensmuseum.org
SUMMARY:Children's Musician Joe McDermott
DESCRIPTION:On Wednesday\, December 20th\, get ready to giggle and sing along with children’s musician Joe McDermott who will perform on stage at 10:30am\,11:30am\, 12:30pm\, 1:30pm. Referred to as “a Texas treasure” by the State Library Association\, Joe McDermott released his first album of children’s music in 1988. A former Montessori teacher\, Joe has dedicated the last 30 years to honing the art and craft of entertaining children. His song writing has garnered numerous Parent’s Choice Awards and nominations\, in addition to NAPPA and International Song Writing Contest awards. In 1998\, he won first place in the Children’s Music category from the John Lennon Song Writing Contest.  Included in the price of admission\, which is $8 for adults and children 1 year and older. bit.ly/TWCMtickets  #HolidayVibes #Frozen #ToddlerMom #ChildrensMuseum \n 
URL:https://woodlandschildrensmuseum.org/event/childrens-musician-joe-mcdermott/
LOCATION:The Woodlands Children’s Museum
END:VEVENT
BEGIN:VEVENT
DTSTART;TZID=America/Chicago:20231221T103000
DTEND;TZID=America/Chicago:20231221T123000
DTSTAMP:20260425T084425
CREATED:20231024T110816Z
LAST-MODIFIED:20231024T110816Z
UID:10018240-1703154600-1703161800@woodlandschildrensmuseum.org
SUMMARY:Twas the Night Before Christmas Marionette Puppet Show
DESCRIPTION:On Thursday\, December 21st\, enjoy a holiday presentation of Twas the Night Before Christmas Marionette Puppet Shows at 10:30am\, 11:30am\, 12:15pm.  Included in the price of admission\, which is $8 for adults and children 1 year and older. bit.ly/TWCMtickets  #HolidayVibes #Frozen #ToddlerMom #ChildrensMuseum
URL:https://woodlandschildrensmuseum.org/event/twas-the-night-before-christmas-marionette-puppet-show-2/
LOCATION:The Woodlands Children’s Museum
END:VEVENT
BEGIN:VEVENT
DTSTART;TZID=America/Chicago:20231222T103000
DTEND;TZID=America/Chicago:20231222T133000
DTSTAMP:20260425T084425
CREATED:20231024T114810Z
LAST-MODIFIED:20231024T114810Z
UID:10018241-1703241000-1703251800@woodlandschildrensmuseum.org
SUMMARY:Children Musician Will Parker
DESCRIPTION:On Friday\, December 22nd\, enjoy Children Musician Will Parker at 10:30am\, 11:30am\, 12:30pm and 1:30pm. Will is a children’s songwriter and teaching artist who writes and performs music for “kids ages 1-100.” During Will’s whimsical and interactive shows\, he plays guitar and harmonica and sings original songs that engage the audience in singing along\, dancing\, high-fiving\, and imaginative play.  Included in the price of admission\, which is $8 for adults and children 1 year and older. bit.ly/TWCMtickets  #HolidayVibes  #ToddlerMom #ChildrensMuseum
URL:https://woodlandschildrensmuseum.org/event/children-musician-will-parker/
LOCATION:The Woodlands Children’s Museum
END:VEVENT
BEGIN:VEVENT
DTSTART;TZID=America/Chicago:20231222T110000
DTEND;TZID=America/Chicago:20231222T110000
DTSTAMP:20260425T084425
CREATED:20231023T190434Z
LAST-MODIFIED:20231025T155448Z
UID:10018236-1703242800-1703242800@woodlandschildrensmuseum.org
SUMMARY:Storybook Theatre-Is It Christmas Yet?
DESCRIPTION:Storybook Theatre at 11am Friday\, December 22nd presents “Is It Christmas Yet?” by Jane Chapman. Teddy keeps asking\, “Is it Christmas yet?”. With so much to do\, will he and Big Bear ever be ready for this special day?  Included in the price of admission\, which is $8 for adults and children 1 year and older. bit.ly/TWCMtickets  #BookReading #StoryTime #ChildrensBook #ToddlerMom #Art #ChildrensMuseum \nIntroduce your child to the wonder of reading and instill a love of books at an early age. Storybook Theatre combines your favorite childhood books with songs\, rhymes and fingerplays which are meant to promote early literacy and enhance language development. \nFall Hours\nTues-Thurs 10am-2pm.\nFri. 10am-4pm.\nSat. 10am-5pm.\nClosed Sunday and Monday\nDaily Admission is $8 per person 1 years and older\, children under 1.
URL:https://woodlandschildrensmuseum.org/event/storybook-theatre-is-it-christmas-yet/
LOCATION:The Woodlands Children’s Museum
END:VEVENT
BEGIN:VEVENT
DTSTART;TZID=America/Chicago:20231223T103000
DTEND;TZID=America/Chicago:20231223T143000
DTSTAMP:20260425T084425
CREATED:20231024T115531Z
LAST-MODIFIED:20231024T115619Z
UID:10018242-1703327400-1703341800@woodlandschildrensmuseum.org
SUMMARY:Olaf Photo Ops
DESCRIPTION:On Saturday\, December 23\, get ready to pose with Olaf during photo opportunities at 10:30am\, 11:30am\, 12:30pm\, 1:30pm\, 2:30pm. Included in the price of admission\, which is $8 for adults and children 1 year and older. bit.ly/TWCMtickets  #HolidayVibes #ToddlerMom #ChildrensMuseum
URL:https://woodlandschildrensmuseum.org/event/olaf-photo-ops/
LOCATION:The Woodlands Children’s Museum
END:VEVENT
END:VCALENDAR