BEGIN:VCALENDAR
VERSION:2.0
PRODID:-//The Woodlands Children&#039;s Museum - ECPv6.15.20//NONSGML v1.0//EN
CALSCALE:GREGORIAN
METHOD:PUBLISH
X-WR-CALNAME:The Woodlands Children&#039;s Museum
X-ORIGINAL-URL:https://woodlandschildrensmuseum.org
X-WR-CALDESC:Events for The Woodlands Children&#039;s Museum
REFRESH-INTERVAL;VALUE=DURATION:PT1H
X-Robots-Tag:noindex
X-PUBLISHED-TTL:PT1H
BEGIN:VTIMEZONE
TZID:America/Chicago
BEGIN:DAYLIGHT
TZOFFSETFROM:-0600
TZOFFSETTO:-0500
TZNAME:CDT
DTSTART:20220313T080000
END:DAYLIGHT
BEGIN:STANDARD
TZOFFSETFROM:-0500
TZOFFSETTO:-0600
TZNAME:CST
DTSTART:20221106T070000
END:STANDARD
BEGIN:DAYLIGHT
TZOFFSETFROM:-0600
TZOFFSETTO:-0500
TZNAME:CDT
DTSTART:20230312T080000
END:DAYLIGHT
BEGIN:STANDARD
TZOFFSETFROM:-0500
TZOFFSETTO:-0600
TZNAME:CST
DTSTART:20231105T070000
END:STANDARD
BEGIN:DAYLIGHT
TZOFFSETFROM:-0600
TZOFFSETTO:-0500
TZNAME:CDT
DTSTART:20240310T080000
END:DAYLIGHT
BEGIN:STANDARD
TZOFFSETFROM:-0500
TZOFFSETTO:-0600
TZNAME:CST
DTSTART:20241103T070000
END:STANDARD
END:VTIMEZONE
BEGIN:VEVENT
DTSTART;TZID=America/Chicago:20231210T100000
DTEND;TZID=America/Chicago:20231210T170000
DTSTAMP:20260425T084419
CREATED:20230309T032523Z
LAST-MODIFIED:20231023T184559Z
UID:10018222-1702202400-1702227600@woodlandschildrensmuseum.org
SUMMARY:Museum Closed
DESCRIPTION:Daily Admission is $8 per person 1 years and older\, children under 1 and Museum Members are free. Recommended ages 7 years and under.\nChildren must be accompanied by an adult at all times. Click for tickets. \nFall Hours\nTues-Thurs 10am-2pm.\nFri. 10am-4pm.\nSat. 10am-5pm.
URL:https://woodlandschildrensmuseum.org/event/museum-closed-99/2023-12-10/
LOCATION:The Woodlands Children’s Museum
END:VEVENT
BEGIN:VEVENT
DTSTART;TZID=America/Chicago:20231211T100000
DTEND;TZID=America/Chicago:20231211T170000
DTSTAMP:20260425T084419
CREATED:20230309T032523Z
LAST-MODIFIED:20231023T184559Z
UID:10018223-1702288800-1702314000@woodlandschildrensmuseum.org
SUMMARY:Museum Closed
DESCRIPTION:Daily Admission is $8 per person 1 years and older\, children under 1 and Museum Members are free. Recommended ages 7 years and under.\nChildren must be accompanied by an adult at all times. Click for tickets. \nFall Hours\nTues-Thurs 10am-2pm.\nFri. 10am-4pm.\nSat. 10am-5pm.
URL:https://woodlandschildrensmuseum.org/event/museum-closed-99/2023-12-11/
LOCATION:The Woodlands Children’s Museum
END:VEVENT
BEGIN:VEVENT
DTSTART;TZID=America/Chicago:20231212T093000
DTEND;TZID=America/Chicago:20231212T100000
DTSTAMP:20260425T084419
CREATED:20231024T124521Z
LAST-MODIFIED:20231024T124521Z
UID:10018257-1702373400-1702375200@woodlandschildrensmuseum.org
SUMMARY:Rhyme Time for babies and toddlers
DESCRIPTION:Rhyme Time for babies and toddlers ages 6-24 months. Meets EVERY TUESDAY at 9:30am. Included with admission! Babies\, toddlers and their parents or caregivers are invited to our interactive Rhyme Time dedicated just for little ones. Meeting in our enclosed toddler area\, so children can feel free to move around and explore\, we will be singing songs and discovering hand rhymes. Built-in socialization time for moms and babies to get to know one another presents a great opportunity to meet other moms and babies in our community. This Floor Program is included in the price of admission\, which is $8 for adults and children 1 year and older.  bit.ly/TWCMtickets
URL:https://woodlandschildrensmuseum.org/event/rhyme-time-for-babies-and-toddlers-4/2023-12-12/
LOCATION:The Woodlands Children’s Museum
END:VEVENT
BEGIN:VEVENT
DTSTART;TZID=America/Chicago:20231212T110000
DTEND;TZID=America/Chicago:20231212T110000
DTSTAMP:20260425T084419
CREATED:20231023T183728Z
LAST-MODIFIED:20231023T183811Z
UID:10018218-1702378800-1702378800@woodlandschildrensmuseum.org
SUMMARY:Boogie Bash-Holiday Parachute Fun
DESCRIPTION:Boogie Bash on Tuesday\, December 12th at 11am\, presents Holiday Parachute Fun. Team work\, cooperation\, and rhythm are learned through parachute activities that focus on holiday songs and themes of jingly bells\, marching wooden soldiers\, and a cotton ball blizzard!  #Dance #Movement #Music #ToddlerMom #Art #ChildrensMuseum\nIncluded in the price of admission\, which is $8 for adults and children 1 year and older. bit.ly/TWCMtickets
URL:https://woodlandschildrensmuseum.org/event/boogie-bash-136/
LOCATION:The Woodlands Children’s Museum
END:VEVENT
BEGIN:VEVENT
DTSTART;TZID=America/Chicago:20231213T100000
DTEND;TZID=America/Chicago:20231213T120000
DTSTAMP:20260425T084419
CREATED:20231023T181652Z
LAST-MODIFIED:20231114T212009Z
UID:10018210-1702461600-1702468800@woodlandschildrensmuseum.org
SUMMARY:Mrs. Claus' Gingerbread House Workshop 10am-12pm
DESCRIPTION:Mrs. Claus’ Gingerbread House Workshop\nWed. Dec. 13th\, 10am-12pm and Sat. Dec. 16th\, 10am-2pm\nVisit with Mrs. Claus while decorating your very own gingerbread house. Enjoy a Christmas storytime and creating lacing gingerbread men art project. $6 in addition to admission. \nClick for Wednesday\, December 13th\, 10am-12pm \n \n Special readings Wednesday\, December 13 (11:00am) & Saturday\, December 16 (11:00am and 1:00pm) \n• Session 1: Gingerbread Christmas\, Jan Brett\nGingerbread Baby and his friend\, Matti\, have a great time with their gingerbread band at the Christmas Festival until the children smell the scent of gingerbread…time to run and hide! This tasty story\, read by Mrs. Claus\, fits in perfectly with the Gingerbread House Workshop. \n• Session 2: Gingerbread Mouse\, Katy Bratun (Saturday only)\nMouse needs to find a new home after a tree branch falls and destroys her house. With some help from a visitor in a red suit\, she finds the perfect place to live! \nThanks to our sponsor Step Pediatrics.\n \n 
URL:https://woodlandschildrensmuseum.org/event/mrs-claus-gingerbread-house-workshop-10am-12pm/
LOCATION:The Woodlands Children’s Museum
END:VEVENT
BEGIN:VEVENT
DTSTART;TZID=America/Chicago:20231214T110000
DTEND;TZID=America/Chicago:20231214T110000
DTSTAMP:20260425T084419
CREATED:20231023T185335Z
LAST-MODIFIED:20231025T155840Z
UID:10018230-1702551600-1702551600@woodlandschildrensmuseum.org
SUMMARY:Shadow Puppet Theatre-Llama Llama Holiday Drama
DESCRIPTION:Shadow Puppet Theatre Thursday\, December 14th at 11am presents  “Llama Llama Holiday Drama”  by Anna Dewdney. Llama Llama wonders if Christmas will ever arrive while he and Mama Llama rush around getting ready for the holidays. Overwhelmed by all the hustle and bustle\, his meltdown is met with his understanding mama’s hugs and love.  Included in the price of admission\, which is $8 for adults and children 1 year and older. #BookReading #StoryTime #ChildrensBook #ToddlerMom #Art #ChildrensMuseum  bit.ly/TWCMtickets  \nShadow Puppet Theatre is an introduction to storytelling elements that allow our readers and audience to interact directly with each other\, children of all ages are enchanted with the animated shadows. \nFall Hours\nTues-Thurs 10am-2pm.\nFri. 10am-4pm.\nSat. 10am-5pm.\nClosed Sunday and Monday\nDaily Admission is $8 per person 1 years and older\, children under 1.
URL:https://woodlandschildrensmuseum.org/event/shadow-puppet-theatre-llama-llama-holiday-drama-4/
LOCATION:The Woodlands Children’s Museum
END:VEVENT
BEGIN:VEVENT
DTSTART;TZID=America/Chicago:20231215T110000
DTEND;TZID=America/Chicago:20231215T110000
DTSTAMP:20260425T084419
CREATED:20231023T190259Z
LAST-MODIFIED:20231025T155414Z
UID:10018235-1702638000-1702638000@woodlandschildrensmuseum.org
SUMMARY:Storybook Theatre-The Little Reindeer
DESCRIPTION:Storybook Theatre at 11am Friday\, December 15th presents “The Little Reindeer” by Nicola Killen. This is the magical tale of a little girl and a lost reindeer who set out on a Christmas Eve adventure together.  Included in the price of admission\, which is $8 for adults and children 1 year and older. bit.ly/TWCMtickets  #BookReading #StoryTime #ChildrensBook #ToddlerMom #Art #ChildrensMuseum \nIntroduce your child to the wonder of reading and instill a love of books at an early age. Storybook Theatre combines your favorite childhood books with songs\, rhymes and fingerplays which are meant to promote early literacy and enhance language development. \nFall Hours\nTues-Thurs 10am-2pm.\nFri. 10am-4pm.\nSat. 10am-5pm.\nClosed Sunday and Monday\nDaily Admission is $8 per person 1 years and older\, children under 1.
URL:https://woodlandschildrensmuseum.org/event/storybook-theatre-the-little-reindeer/
LOCATION:The Woodlands Children’s Museum
END:VEVENT
BEGIN:VEVENT
DTSTART;TZID=America/Chicago:20231216T100000
DTEND;TZID=America/Chicago:20231216T140000
DTSTAMP:20260425T084419
CREATED:20231023T181748Z
LAST-MODIFIED:20231114T212011Z
UID:10018211-1702720800-1702735200@woodlandschildrensmuseum.org
SUMMARY:Mrs. Claus' Gingerbread House Workshop 10am-2pm
DESCRIPTION:Mrs. Claus’ Gingerbread House Workshop\nSat. Dec. 16th\, 10am-2pm\nVisit with Mrs. Claus while decorating your very own gingerbread house. Enjoy a Christmas storytime and creating lacing gingerbread men art project.\n$6 per child in addition to admission\, which is $8 for adults and children 1 year and older.\n\nClick for Tuesday\, December 16th\, 10am-12pm and 12pm-2pm. \nMrs. Claus’s Gingerbread House Workshops Special readings\nWednesday\, December 13 (11:00) & Saturday\, December 16 (11:00 and 1:00) \n  \n \n• Session 1: Gingerbread Christmas\, Jan Brett\nGingerbread Baby and his friend\, Matti\, have a great time with their gingerbread band at the Christmas Festival until the children smell the scent of gingerbread…time to run and hide! This tasty story\, read by Mrs. Claus\, fits in perfectly with the Gingerbread House Workshop. \n• Session 2: Gingerbread Mouse\, Katy Bratun (Saturday only)\nMouse needs to find a new home after a tree branch falls and destroys her house. With some help from a visitor in a red suit\, she finds the perfect place to live! \nThanks to our sponsor Step Pediatrics.\n \n 
URL:https://woodlandschildrensmuseum.org/event/mrs-claus-gingerbread-house-workshop-10am-2pm/
LOCATION:The Woodlands Children’s Museum
END:VEVENT
END:VCALENDAR