BEGIN:VCALENDAR
VERSION:2.0
PRODID:-//The Woodlands Children&#039;s Museum - ECPv6.15.20//NONSGML v1.0//EN
CALSCALE:GREGORIAN
METHOD:PUBLISH
X-WR-CALNAME:The Woodlands Children&#039;s Museum
X-ORIGINAL-URL:https://woodlandschildrensmuseum.org
X-WR-CALDESC:Events for The Woodlands Children&#039;s Museum
REFRESH-INTERVAL;VALUE=DURATION:PT1H
X-Robots-Tag:noindex
X-PUBLISHED-TTL:PT1H
BEGIN:VTIMEZONE
TZID:America/Chicago
BEGIN:DAYLIGHT
TZOFFSETFROM:-0600
TZOFFSETTO:-0500
TZNAME:CDT
DTSTART:20220313T080000
END:DAYLIGHT
BEGIN:STANDARD
TZOFFSETFROM:-0500
TZOFFSETTO:-0600
TZNAME:CST
DTSTART:20221106T070000
END:STANDARD
BEGIN:DAYLIGHT
TZOFFSETFROM:-0600
TZOFFSETTO:-0500
TZNAME:CDT
DTSTART:20230312T080000
END:DAYLIGHT
BEGIN:STANDARD
TZOFFSETFROM:-0500
TZOFFSETTO:-0600
TZNAME:CST
DTSTART:20231105T070000
END:STANDARD
BEGIN:DAYLIGHT
TZOFFSETFROM:-0600
TZOFFSETTO:-0500
TZNAME:CDT
DTSTART:20240310T080000
END:DAYLIGHT
BEGIN:STANDARD
TZOFFSETFROM:-0500
TZOFFSETTO:-0600
TZNAME:CST
DTSTART:20241103T070000
END:STANDARD
END:VTIMEZONE
BEGIN:VEVENT
DTSTART;TZID=America/Chicago:20231203T100000
DTEND;TZID=America/Chicago:20231203T170000
DTSTAMP:20260425T084420
CREATED:20230309T032523Z
LAST-MODIFIED:20231023T184559Z
UID:10018220-1701597600-1701622800@woodlandschildrensmuseum.org
SUMMARY:Museum Closed
DESCRIPTION:Daily Admission is $8 per person 1 years and older\, children under 1 and Museum Members are free. Recommended ages 7 years and under.\nChildren must be accompanied by an adult at all times. Click for tickets. \nFall Hours\nTues-Thurs 10am-2pm.\nFri. 10am-4pm.\nSat. 10am-5pm.
URL:https://woodlandschildrensmuseum.org/event/museum-closed-99/2023-12-03/
LOCATION:The Woodlands Children’s Museum
END:VEVENT
BEGIN:VEVENT
DTSTART;TZID=America/Chicago:20231204T100000
DTEND;TZID=America/Chicago:20231204T170000
DTSTAMP:20260425T084420
CREATED:20230309T032523Z
LAST-MODIFIED:20231023T184559Z
UID:10018221-1701684000-1701709200@woodlandschildrensmuseum.org
SUMMARY:Museum Closed
DESCRIPTION:Daily Admission is $8 per person 1 years and older\, children under 1 and Museum Members are free. Recommended ages 7 years and under.\nChildren must be accompanied by an adult at all times. Click for tickets. \nFall Hours\nTues-Thurs 10am-2pm.\nFri. 10am-4pm.\nSat. 10am-5pm.
URL:https://woodlandschildrensmuseum.org/event/museum-closed-99/2023-12-04/
LOCATION:The Woodlands Children’s Museum
END:VEVENT
BEGIN:VEVENT
DTSTART;TZID=America/Chicago:20231205T093000
DTEND;TZID=America/Chicago:20231205T100000
DTSTAMP:20260425T084420
CREATED:20231024T124521Z
LAST-MODIFIED:20231024T124521Z
UID:10018256-1701768600-1701770400@woodlandschildrensmuseum.org
SUMMARY:Rhyme Time for babies and toddlers
DESCRIPTION:Rhyme Time for babies and toddlers ages 6-24 months. Meets EVERY TUESDAY at 9:30am. Included with admission! Babies\, toddlers and their parents or caregivers are invited to our interactive Rhyme Time dedicated just for little ones. Meeting in our enclosed toddler area\, so children can feel free to move around and explore\, we will be singing songs and discovering hand rhymes. Built-in socialization time for moms and babies to get to know one another presents a great opportunity to meet other moms and babies in our community. This Floor Program is included in the price of admission\, which is $8 for adults and children 1 year and older.  bit.ly/TWCMtickets
URL:https://woodlandschildrensmuseum.org/event/rhyme-time-for-babies-and-toddlers-4/2023-12-05/
LOCATION:The Woodlands Children’s Museum
END:VEVENT
BEGIN:VEVENT
DTSTART;TZID=America/Chicago:20231205T110000
DTEND;TZID=America/Chicago:20231205T110000
DTSTAMP:20260425T084420
CREATED:20231023T183527Z
LAST-MODIFIED:20231023T183800Z
UID:10018217-1701774000-1701774000@woodlandschildrensmuseum.org
SUMMARY:Boogie Bash-Nutcracker Boogie
DESCRIPTION:Boogie Bash on Tuesday\, December 5th at 11am\, presents Nutcracker Boogie. Tchaikovsky’s holiday classic is the backdrop for fun movement activities including a freeze dance\, moving expressively with scarves\, and marching with rhythm instruments. #Dance #Movement #Music #ToddlerMom #Art #ChildrensMuseum\nIncluded in the price of admission\, which is $8 for adults and children 1 year and older. bit.ly/TWCMtickets
URL:https://woodlandschildrensmuseum.org/event/boogie-bash-135/
LOCATION:The Woodlands Children’s Museum
END:VEVENT
BEGIN:VEVENT
DTSTART;TZID=America/Chicago:20231206T110000
DTEND;TZID=America/Chicago:20231206T110000
DTSTAMP:20260425T084420
CREATED:20230919T140538Z
LAST-MODIFIED:20230919T140621Z
UID:10018192-1701860400-1701860400@woodlandschildrensmuseum.org
SUMMARY:Crazy About Critters hosts The Learning Zoo
DESCRIPTION:Crazy About Critters hosts The Learning Zoo Wednesday\, December 6th at 11:00am. Laugh\, learn and get hands-on during an educational animal encounter on stage. This Floor Program is included in the price of admission\, which is $8 for adults and children 1 year and older. http://bit.ly/TWCMtickets \nFall Hours\nTues-Thurs 10am-2pm.\nFri. 10am-4pm.\nSat. 10am-5pm.\nClosed Sunday and Monday\nDaily Admission is $8 per person 1 years and older\, children under 1.
URL:https://woodlandschildrensmuseum.org/event/crazy-about-critters-hosts-the-learning-zoo-23/
LOCATION:The Woodlands Children’s Museum
END:VEVENT
BEGIN:VEVENT
DTSTART;TZID=America/Chicago:20231207T110000
DTEND;TZID=America/Chicago:20231207T110000
DTSTAMP:20260425T084420
CREATED:20231023T185157Z
LAST-MODIFIED:20231025T155810Z
UID:10018229-1701946800-1701946800@woodlandschildrensmuseum.org
SUMMARY:Shadow Puppet Theatre-Hanukkah Bear
DESCRIPTION:Shadow Puppet Theatre Thursday\, December 7th at 11am presents  “Hanukkah Bear” by Eric A. Kimmel. We are celebrating the first day of Hanukkah with this delightful tale about Bubba Brayna\, her famous latkes\, and an unexpected visitor to her home on the first night of Hanukkah! A hungry bear\, awakened from hibernation by the aroma of the latkes\, is mistaken for the rabbi by Bubba Brayna; and the fun evening begins!  Included in the price of admission\, which is $8 for adults and children 1 year and older. #BookReading #StoryTime #ChildrensBook #ToddlerMom #Art #ChildrensMuseum  bit.ly/TWCMtickets  \nShadow Puppet Theatre is an introduction to storytelling elements that allow our readers and audience to interact directly with each other\, children of all ages are enchanted with the animated shadows. \nFall Hours\nTues-Thurs 10am-2pm.\nFri. 10am-4pm.\nSat. 10am-5pm.\nClosed Sunday and Monday\nDaily Admission is $8 per person 1 years and older\, children under 1.
URL:https://woodlandschildrensmuseum.org/event/shadow-puppet-theatre-hanukkah-bear/
LOCATION:The Woodlands Children’s Museum
END:VEVENT
BEGIN:VEVENT
DTSTART;TZID=America/Chicago:20231208T110000
DTEND;TZID=America/Chicago:20231208T110000
DTSTAMP:20260425T084420
CREATED:20231023T190131Z
LAST-MODIFIED:20231025T155342Z
UID:10018234-1702033200-1702033200@woodlandschildrensmuseum.org
SUMMARY:Storybook Theatre-How Do Dinosaurs Say Happy Chanukah
DESCRIPTION:Storybook Theatre at 11am Friday\, December 8th presents “How Do Dinosaurs Say Happy Chanukah” by Jane Yolen. Part of the beloved series featuring our favorite prehistoric friends\, this warm and cheerful story shares the excitement\, traditions (including candles\, dreidels\, and latkes)\, and temptations for misbehaving surrounding the Chanukah celebration. Included in the price of admission\, which is $8 for adults and children 1 year and older. bit.ly/TWCMtickets  #BookReading #StoryTime #ChildrensBook #ToddlerMom #Art #ChildrensMuseum \nIntroduce your child to the wonder of reading and instill a love of books at an early age. Storybook Theatre combines your favorite childhood books with songs\, rhymes and fingerplays which are meant to promote early literacy and enhance language development. \nFall Hours\nTues-Thurs 10am-2pm.\nFri. 10am-4pm.\nSat. 10am-5pm.\nClosed Sunday and Monday\nDaily Admission is $8 per person 1 years and older\, children under 1.
URL:https://woodlandschildrensmuseum.org/event/storybook-theatre-how-do-dinosaurs-say-happy-chanukah/
LOCATION:The Woodlands Children’s Museum
END:VEVENT
BEGIN:VEVENT
DTSTART;TZID=America/Chicago:20231208T113000
DTEND;TZID=America/Chicago:20231208T113000
DTSTAMP:20260425T084420
CREATED:20231107T045223Z
LAST-MODIFIED:20231107T045239Z
UID:10018259-1702035000-1702035000@woodlandschildrensmuseum.org
SUMMARY:Prelude Music Concert
DESCRIPTION:Prelude Concert Friday\, December 8th at 11:30. Come join in a Prelude Family interactive musical experience with a sing-a-long concert. Prelude believes that music helps build community\, heals souls and helps children and parents bond. Event is included in the price of admission\, which is $8 for adults and children 1 year and older. bit.ly/TWCMtickets
URL:https://woodlandschildrensmuseum.org/event/prelude-music-concert-2/
LOCATION:The Woodlands Children’s Museum
END:VEVENT
BEGIN:VEVENT
DTSTART;TZID=America/Chicago:20231209T090000
DTEND;TZID=America/Chicago:20231209T140000
DTSTAMP:20260425T084420
CREATED:20231023T161318Z
LAST-MODIFIED:20231109T235542Z
UID:10018209-1702112400-1702130400@woodlandschildrensmuseum.org
SUMMARY:Santa's Merry Mingle-A Holiday Experience
DESCRIPTION:Santa’s Merry Mingle-A Holiday Experience\nGather the family for performances by the Lone Star Strummers\, framed professional photos with Santa\, snow play\, art projects\, special reading with Mrs. Claus\, and visiting with Olaf. \nCLICK for tickets.\nChildren 0-13 $20\, Adults $10.  \n  \n         \n5 special holiday readings by Mrs. Claus plus songs\, fingerplays\, and jingle bells. \n \n\n9:30 Session 1: The Night Before Christmas\, Clement Clarke Moore. Mrs. Claus will read Santa’s favorite story\, the classic Christmas poem with vibrant illustrations by Steph Lew.\n\n\n10:30 Session 2: Fancy Nancy:  Splendiferous Christmas\, Jane O’Connor. Nancy shows us that nothing is fancier than Christmas\, including elegant wrapping paper\, Christmas cookies with sprinkles\, and lots of tinsel on the tree!  In this merry story\, Nancy proves once more that a little fancying up goes a long way!\n\n\n11:30 Session 3: Llama’s Christmas Gift\, Rosie Greening. After a chance meeting with Santa in Fairytale Forest\, Llama is able to learn the best way to use his special gift of balancing anything on his back!\n\n\n12:30 Session 4: Snowmen at Christmas\, Caralyn Buehner. Here’s your chance to find out how snowmen celebrate Christmas—the snowman way!\n\n\n1:30 Session 5: Jingle Paws\, Margaret Wise Brown. Beloved author\, Margaret Wise Brown\, helps us imagine what it would be like if our pets had their own special visitor on Christmas Eve.  That’s where Jingle Paws and his guinea pig helpers come in!\n\nThank you Sonic for sponsoring our event.\n \n 
URL:https://woodlandschildrensmuseum.org/event/santas-merry-mingle/
LOCATION:The Woodlands Children’s Museum
END:VEVENT
END:VCALENDAR