BEGIN:VCALENDAR
VERSION:2.0
PRODID:-//The Woodlands Children&#039;s Museum - ECPv6.15.20//NONSGML v1.0//EN
CALSCALE:GREGORIAN
METHOD:PUBLISH
X-ORIGINAL-URL:https://woodlandschildrensmuseum.org
X-WR-CALDESC:Events for The Woodlands Children&#039;s Museum
REFRESH-INTERVAL;VALUE=DURATION:PT1H
X-Robots-Tag:noindex
X-PUBLISHED-TTL:PT1H
BEGIN:VTIMEZONE
TZID:America/Chicago
BEGIN:DAYLIGHT
TZOFFSETFROM:-0600
TZOFFSETTO:-0500
TZNAME:CDT
DTSTART:20220313T080000
END:DAYLIGHT
BEGIN:STANDARD
TZOFFSETFROM:-0500
TZOFFSETTO:-0600
TZNAME:CST
DTSTART:20221106T070000
END:STANDARD
BEGIN:DAYLIGHT
TZOFFSETFROM:-0600
TZOFFSETTO:-0500
TZNAME:CDT
DTSTART:20230312T080000
END:DAYLIGHT
BEGIN:STANDARD
TZOFFSETFROM:-0500
TZOFFSETTO:-0600
TZNAME:CST
DTSTART:20231105T070000
END:STANDARD
BEGIN:DAYLIGHT
TZOFFSETFROM:-0600
TZOFFSETTO:-0500
TZNAME:CDT
DTSTART:20240310T080000
END:DAYLIGHT
BEGIN:STANDARD
TZOFFSETFROM:-0500
TZOFFSETTO:-0600
TZNAME:CST
DTSTART:20241103T070000
END:STANDARD
END:VTIMEZONE
BEGIN:VEVENT
DTSTART;TZID=America/Chicago:20231015T100000
DTEND;TZID=America/Chicago:20231015T170000
DTSTAMP:20260425T121711
CREATED:20230309T032523Z
LAST-MODIFIED:20231023T184559Z
UID:10018085-1697364000-1697389200@woodlandschildrensmuseum.org
SUMMARY:Museum Closed
DESCRIPTION:Daily Admission is $8 per person 1 years and older\, children under 1 and Museum Members are free. Recommended ages 7 years and under.\nChildren must be accompanied by an adult at all times. Click for tickets. \nFall Hours\nTues-Thurs 10am-2pm.\nFri. 10am-4pm.\nSat. 10am-5pm.
URL:https://woodlandschildrensmuseum.org/event/museum-closed-99/2023-10-15/
LOCATION:The Woodlands Children’s Museum
END:VEVENT
BEGIN:VEVENT
DTSTART;TZID=America/Chicago:20231016T100000
DTEND;TZID=America/Chicago:20231016T170000
DTSTAMP:20260425T121711
CREATED:20230309T032523Z
LAST-MODIFIED:20231023T184559Z
UID:10018086-1697450400-1697475600@woodlandschildrensmuseum.org
SUMMARY:Museum Closed
DESCRIPTION:Daily Admission is $8 per person 1 years and older\, children under 1 and Museum Members are free. Recommended ages 7 years and under.\nChildren must be accompanied by an adult at all times. Click for tickets. \nFall Hours\nTues-Thurs 10am-2pm.\nFri. 10am-4pm.\nSat. 10am-5pm.
URL:https://woodlandschildrensmuseum.org/event/museum-closed-99/2023-10-16/
LOCATION:The Woodlands Children’s Museum
END:VEVENT
BEGIN:VEVENT
DTSTART;TZID=America/Chicago:20231017T110000
DTEND;TZID=America/Chicago:20231017T110000
DTSTAMP:20260425T121711
CREATED:20230726T211801Z
LAST-MODIFIED:20230726T211801Z
UID:10018080-1697540400-1697540400@woodlandschildrensmuseum.org
SUMMARY:Boogie Bash-Animal Action
DESCRIPTION:Boogie Bash on Tuesday\, October 17th at 11am\, presents Animal Action. Children will engage in fun fingerplays and creative movement activities celebrating the animal kingdom and how different creatures move!  #Dance #Movement #Music #Educate #Empower #Excite Included in the price of admission\, which is $8 for adults and children 1 year and older. bit.ly/TWCMtickets \nFall Hours\nTues-Thurs 10am-2pm.\nFri. 10am-4pm.\nSat. 10am-5pm.\nClosed Sunday and Monday\nDaily Admission is $8 per person 1 years and older\, children under 1.
URL:https://woodlandschildrensmuseum.org/event/boogie-bash-animal-action-3/
LOCATION:The Woodlands Children’s Museum
END:VEVENT
BEGIN:VEVENT
DTSTART;TZID=America/Chicago:20231018T110000
DTEND;TZID=America/Chicago:20231018T110000
DTSTAMP:20260425T121711
CREATED:20231004T145244Z
LAST-MODIFIED:20231004T145714Z
UID:10018198-1697626800-1697626800@woodlandschildrensmuseum.org
SUMMARY:Looking at Art Lady Presentation
DESCRIPTION:Looking at Art Lady Presentation\, on Wednesday\, October 18th at 11:00am. Come learn and laugh with art history! Children and adults will enjoy this light-hearted journey through art history. Famous paintings throughout time will plant a seed of interest in the fine arts for you and your child. We will briefly talk about each painting but quickly shift to giggles as each piece will have a parody version. Children will be introduced to various pop culture faces and characters in the parody while subtly remembering the original piece. #Educate #Empower #Excite #Art #ArtHistory \nThis event is included in the price of admission\, which is $8 for adults and children 1 year and older. bit.ly/TWCMtickets     \nThis project is supported in part by The David Gottlieb Education Micrgrant from The Woodlands Arts Council.\n  
URL:https://woodlandschildrensmuseum.org/event/looking-at-art-lady-presentation-5/
LOCATION:The Woodlands Children’s Museum
END:VEVENT
BEGIN:VEVENT
DTSTART;TZID=America/Chicago:20231019T110000
DTEND;TZID=America/Chicago:20231019T110000
DTSTAMP:20260425T121711
CREATED:20230726T212825Z
LAST-MODIFIED:20230729T161735Z
UID:10018093-1697713200-1697713200@woodlandschildrensmuseum.org
SUMMARY:Shadow Puppet Theatre-When the Leaf Blew In
DESCRIPTION:Shadow Puppet Theatre Thursday\, October 19th at 11am presents “When the Leaf Blew In” by Steve Metzger. This humorous story explains the chain reaction that occurs when one single leaf blows into the barn\, starting with the cow sneezing “Ah Choo”! Included in the price of admission\, which is $8 for adults and children 1 year and older. bit.ly/TWCMtickets #BookReading #StoryTime #ChildrensBook #Educate #Empower #Excite \nShadow Puppet Theatre is an introduction to storytelling elements that allows our readers and audience to interact directly with each other\, children of all ages are enchanted with the animated shadows. \nFall Hours\nTues-Thurs 10am-2pm.\nFri. 10am-4pm.\nSat. 10am-5pm.\nClosed Sunday and Monday\nDaily Admission is $8 per person 1 years and older\, children under 1.
URL:https://woodlandschildrensmuseum.org/event/shadow-puppet-theatre-when-the-leaf-blew-in-2/
LOCATION:The Woodlands Children’s Museum
END:VEVENT
BEGIN:VEVENT
DTSTART;TZID=America/Chicago:20231020T110000
DTEND;TZID=America/Chicago:20231020T110000
DTSTAMP:20260425T121711
CREATED:20230726T213523Z
LAST-MODIFIED:20230729T162050Z
UID:10018097-1697799600-1697799600@woodlandschildrensmuseum.org
SUMMARY:Storybook Theatre-Let’s Celebrate!: Special Days Around the World
DESCRIPTION:Storybook Theatre at 11am Friday\, October 20th presents “Let’s Celebrate!: Special Days Around the World” by Kate DePalma. In honor of Global Diversity Awareness Month\, we’re traveling the world with this story highlighting special celebrations in thirteen countries.  Included in the price of admission\, which is $8 for adults and children 1 year and older. bit.ly/TWCMtickets #BookReading #StoryTime #ChildrensBook #Educate #Empower #Excite \nIntroduce your child to the wonder of reading and instill a love of books at an early age. Storybook Theatre combines your favorite childhood books with songs\, rhymes and fingerplays which are meant to promote early literacy and enhance language development. \nFall Hours\nTues-Thurs 10am-2pm.\nFri. 10am-4pm.\nSat. 10am-5pm.\nClosed Sunday and Monday\nDaily Admission is $8 per person 1 years and older\, children under 1.
URL:https://woodlandschildrensmuseum.org/event/storybook-theatre-lets-celebrate-special-days-around-the-world/
LOCATION:The Woodlands Children’s Museum
END:VEVENT
END:VCALENDAR