BEGIN:VCALENDAR
VERSION:2.0
PRODID:-//The Woodlands Children&#039;s Museum - ECPv6.15.20//NONSGML v1.0//EN
CALSCALE:GREGORIAN
METHOD:PUBLISH
X-ORIGINAL-URL:https://woodlandschildrensmuseum.org
X-WR-CALDESC:Events for The Woodlands Children&#039;s Museum
REFRESH-INTERVAL;VALUE=DURATION:PT1H
X-Robots-Tag:noindex
X-PUBLISHED-TTL:PT1H
BEGIN:VTIMEZONE
TZID:America/Chicago
BEGIN:DAYLIGHT
TZOFFSETFROM:-0600
TZOFFSETTO:-0500
TZNAME:CDT
DTSTART:20220313T080000
END:DAYLIGHT
BEGIN:STANDARD
TZOFFSETFROM:-0500
TZOFFSETTO:-0600
TZNAME:CST
DTSTART:20221106T070000
END:STANDARD
BEGIN:DAYLIGHT
TZOFFSETFROM:-0600
TZOFFSETTO:-0500
TZNAME:CDT
DTSTART:20230312T080000
END:DAYLIGHT
BEGIN:STANDARD
TZOFFSETFROM:-0500
TZOFFSETTO:-0600
TZNAME:CST
DTSTART:20231105T070000
END:STANDARD
BEGIN:DAYLIGHT
TZOFFSETFROM:-0600
TZOFFSETTO:-0500
TZNAME:CDT
DTSTART:20240310T080000
END:DAYLIGHT
BEGIN:STANDARD
TZOFFSETFROM:-0500
TZOFFSETTO:-0600
TZNAME:CST
DTSTART:20241103T070000
END:STANDARD
END:VTIMEZONE
BEGIN:VEVENT
DTSTART;TZID=America/Chicago:20231008T100000
DTEND;TZID=America/Chicago:20231008T170000
DTSTAMP:20260425T121825
CREATED:20230309T032523Z
LAST-MODIFIED:20231023T184559Z
UID:10018083-1696759200-1696784400@woodlandschildrensmuseum.org
SUMMARY:Museum Closed
DESCRIPTION:Daily Admission is $8 per person 1 years and older\, children under 1 and Museum Members are free. Recommended ages 7 years and under.\nChildren must be accompanied by an adult at all times. Click for tickets. \nFall Hours\nTues-Thurs 10am-2pm.\nFri. 10am-4pm.\nSat. 10am-5pm.
URL:https://woodlandschildrensmuseum.org/event/museum-closed-99/2023-10-08/
LOCATION:The Woodlands Children’s Museum
END:VEVENT
BEGIN:VEVENT
DTSTART;TZID=America/Chicago:20231009T100000
DTEND;TZID=America/Chicago:20231009T170000
DTSTAMP:20260425T121825
CREATED:20230309T032523Z
LAST-MODIFIED:20231023T184559Z
UID:10018084-1696845600-1696870800@woodlandschildrensmuseum.org
SUMMARY:Museum Closed
DESCRIPTION:Daily Admission is $8 per person 1 years and older\, children under 1 and Museum Members are free. Recommended ages 7 years and under.\nChildren must be accompanied by an adult at all times. Click for tickets. \nFall Hours\nTues-Thurs 10am-2pm.\nFri. 10am-4pm.\nSat. 10am-5pm.
URL:https://woodlandschildrensmuseum.org/event/museum-closed-99/2023-10-09/
LOCATION:The Woodlands Children’s Museum
END:VEVENT
BEGIN:VEVENT
DTSTART;TZID=America/Chicago:20231010T103000
DTEND;TZID=America/Chicago:20231010T103000
DTSTAMP:20260425T121825
CREATED:20230919T132741Z
LAST-MODIFIED:20230919T133610Z
UID:10018125-1696933800-1696933800@woodlandschildrensmuseum.org
SUMMARY:Visit with Fire Truck
DESCRIPTION:Visit with The Woodlands Firemen and Fire Truck on Tuesday. Oct. 10th at 10:30am. Join us all week for fire safety-themed art in the Muse during Fire Prevention Week.  **The fire truck is on call and may have to leave suddenly. Included in the price of admission\, which is $8 for adults and children 1 year and older.  bit.ly/TWCMtickets
URL:https://woodlandschildrensmuseum.org/event/visit-with-fire-truck-1030am/
LOCATION:The Woodlands Children’s Museum
END:VEVENT
BEGIN:VEVENT
DTSTART;TZID=America/Chicago:20231010T110000
DTEND;TZID=America/Chicago:20231010T110000
DTSTAMP:20260425T121825
CREATED:20230726T211653Z
LAST-MODIFIED:20230726T211653Z
UID:10018079-1696935600-1696935600@woodlandschildrensmuseum.org
SUMMARY:Boogie Bash-Fire Prevention Boogie
DESCRIPTION:Boogie Bash on Tuesday\, October 10th at 11am\, presents Fire Prevention Boogie. Children will enjoy fun gross motor activities and songs promoting awareness of fire safety in honor of Fire Prevention Week. Activities will focus on safety tips\, fitness\, following directions\, and interacting with others. .  #Dance #Movement #Music #Educate #Empower #Excite Included in the price of admission\, which is $8 for adults and children 1 year and older. bit.ly/TWCMtickets \nFall Hours\nTues-Thurs 10am-2pm.\nFri. 10am-4pm.\nSat. 10am-5pm.\nClosed Sunday and Monday\nDaily Admission is $8 per person 1 years and older\, children under 1.
URL:https://woodlandschildrensmuseum.org/event/boogie-bash-fire-prevention-boogie-2/
LOCATION:The Woodlands Children’s Museum
END:VEVENT
BEGIN:VEVENT
DTSTART;TZID=America/Chicago:20231011T100000
DTEND;TZID=America/Chicago:20231011T110000
DTSTAMP:20260425T121825
CREATED:20230919T134029Z
LAST-MODIFIED:20230919T134152Z
UID:10018126-1697018400-1697022000@woodlandschildrensmuseum.org
SUMMARY:Woodlands Eye Associates eyesight health info table
DESCRIPTION:Join us on Wednesday\, October 11th\, from 10am-11am for information on eyesight health provided by our neighbors\, Woodlands Eye Associates.
URL:https://woodlandschildrensmuseum.org/event/woodlands-eye-associates-eyesight-health-info-table/
LOCATION:The Woodlands Children’s Museum
END:VEVENT
BEGIN:VEVENT
DTSTART;TZID=America/Chicago:20231011T110000
DTEND;TZID=America/Chicago:20231011T110000
DTSTAMP:20260425T121825
CREATED:20230726T214028Z
LAST-MODIFIED:20230726T214118Z
UID:10018099-1697022000-1697022000@woodlandschildrensmuseum.org
SUMMARY:Crazy About Critters hosts The Learning Zoo
DESCRIPTION:Crazy About Critters hosts The Learning Zoo Wednesday\, October 11th at 11:00am. Laugh\, learn and get hands-on during an educational animal encounter on stage. This Floor Program is included in the price of admission\, which is $8 for adults and children 1 year and older. http://bit.ly/TWCMtickets \nFall Hours\nTues-Thurs 10am-2pm.\nFri. 10am-4pm.\nSat. 10am-5pm.\nClosed Sunday and Monday\nDaily Admission is $8 per person 1 years and older\, children under 1.
URL:https://woodlandschildrensmuseum.org/event/crazy-about-critters-hosts-the-learning-zoo-21/
LOCATION:The Woodlands Children’s Museum
END:VEVENT
BEGIN:VEVENT
DTSTART;TZID=America/Chicago:20231012T103000
DTEND;TZID=America/Chicago:20231012T123000
DTSTAMP:20260425T121825
CREATED:20230919T133413Z
LAST-MODIFIED:20231003T133558Z
UID:10018124-1697106600-1697113800@woodlandschildrensmuseum.org
SUMMARY:World Sight Day-The Woodlands Lions Club free vision screenings
DESCRIPTION:Celebrate World Sight Day with free vision screenings from The Woodlands Lions Club\, Thursday\, Oct. 12th 10:30am-Noon.  Included in the price of admission\, which is $8 for adults and children 1 year and older. bit.ly/TWCMtickets \n 
URL:https://woodlandschildrensmuseum.org/event/world-sight-day-the-woodlands-lions-club-free-vision-screenings/
LOCATION:The Woodlands Children’s Museum
END:VEVENT
BEGIN:VEVENT
DTSTART;TZID=America/Chicago:20231012T110000
DTEND;TZID=America/Chicago:20231012T110000
DTSTAMP:20260425T121826
CREATED:20230726T212642Z
LAST-MODIFIED:20230729T161657Z
UID:10018092-1697108400-1697108400@woodlandschildrensmuseum.org
SUMMARY:Shadow Puppet Theatre-Douglas\, You Need Glasses!
DESCRIPTION:Shadow Puppet Theatre Thursday\, October 12th at 11am presents “Douglas\, You Need Glasses!” by Ged Adamson. We are celebrating World Sight Day with an endearing story about Douglas\, a dog who doesn’t realize he needs glasses. His poor eyesight puts him in some sticky situations\, such as chasing a leaf that he thinks is a squirrel! After an eye exam and finding the perfect pair of glasses\, Douglas discovers all the wonderful things he’s been missing around him. Included in the price of admission\, which is $8 for adults and children 1 year and older. bit.ly/TWCMtickets #BookReading #StoryTime #ChildrensBook #Educate #Empower #Excite \nShadow Puppet Theatre is an introduction to storytelling elements that allows our readers and audience to interact directly with each other\, children of all ages are enchanted with the animated shadows. \nFall Hours\nTues-Thurs 10am-2pm.\nFri. 10am-4pm.\nSat. 10am-5pm.\nClosed Sunday and Monday\nDaily Admission is $8 per person 1 years and older\, children under 1.
URL:https://woodlandschildrensmuseum.org/event/shadow-puppet-theatre-douglas-you-need-glasses-3/
LOCATION:The Woodlands Children’s Museum
END:VEVENT
BEGIN:VEVENT
DTSTART;TZID=America/Chicago:20231013T110000
DTEND;TZID=America/Chicago:20231013T110000
DTSTAMP:20260425T121826
CREATED:20230726T213312Z
LAST-MODIFIED:20230729T162010Z
UID:10018096-1697194800-1697194800@woodlandschildrensmuseum.org
SUMMARY:Storybook Theatre-Llama Llama Loves to Read
DESCRIPTION:Storybook Theatre at 11am Friday\, October 13th presents “Llama Llama Loves to Read” by Anna Dewdney and Reed Duncan. October is National Book Month\, and this is the perfect story to celebrate books as Llama Llama is learning to read and is discovering a whole new world!  Included in the price of admission\, which is $8 for adults and children 1 year and older. bit.ly/TWCMtickets #BookReading #StoryTime #ChildrensBook #Educate #Empower #Excite \nIntroduce your child to the wonder of reading and instill a love of books at an early age. Storybook Theatre combines your favorite childhood books with songs\, rhymes and fingerplays which are meant to promote early literacy and enhance language development. \nFall Hours\nTues-Thurs 10am-2pm.\nFri. 10am-4pm.\nSat. 10am-5pm.\nClosed Sunday and Monday\nDaily Admission is $8 per person 1 years and older\, children under 1.
URL:https://woodlandschildrensmuseum.org/event/storybook-theatre-llama-llama-loves-to-read-2/
LOCATION:The Woodlands Children’s Museum
END:VEVENT
BEGIN:VEVENT
DTSTART;TZID=America/Chicago:20231014T100000
DTEND;TZID=America/Chicago:20231014T120000
DTSTAMP:20260425T121826
CREATED:20230919T135249Z
LAST-MODIFIED:20231010T204606Z
UID:10018130-1697277600-1697284800@woodlandschildrensmuseum.org
SUMMARY:Studio Art Saturdays Workshop
DESCRIPTION:Studio Art Saturdays Workshop for ages 5-10 years old\, 10am-Noon.\nWhere wonderful art happens\nUsing various plain and textured paper\, tissue paper\, fabric scraps\, newspaper\, torn images from magazines\, cardboard\, scissors\, hole punches\, paper punches\, handmade stencils\, rubbing plates\, all kinds of colored tape\, glue\, paint of many varieties and colors\, yarn\, wool\, string of all kinds\, recycled materials and fingers for tearing\, ripping\, snipping and cutting\, this workshop presents a springboard to create a multitude of inspiring art sculptures\, masks\, self portraits\, and more. Using themes such as transparent and opaque\, playing with texture\, big and little\, black and white\, exploring with architecture and more\, children journey through a sensory process\, discovering\, collecting and arranging. Come join us for artful experiences\, implemented by talented artists and art instructors\, that are sure to start the day out right. Dwell in the possibilities… \nOCTOBER Theme: Creepy Creatures \n10/14\nWhile being committed to a primarily black and white color scheme and using their imagination to consider all the “friendly” monsters they may have seen in books and movies to prompt how their monster will “look”\, children create monsters using rubbings to create the textured paper and then cutting out shapes to “create” their texture monsters. \n10/28\nPrompting children to investigate “insects and bugs in the garden” using stock images\, images from magazines\, insect and bug themed books and exploring various collage materials\, children draw\, cut\, arrange\, embellish and create their own insects and bugs around a garden theme. \nClick to register. 
URL:https://woodlandschildrensmuseum.org/event/studio-art-saturdays-workshop-2/
LOCATION:The Woodlands Children’s Museum
END:VEVENT
END:VCALENDAR