BEGIN:VCALENDAR
VERSION:2.0
PRODID:-//The Woodlands Children&#039;s Museum - ECPv6.15.20//NONSGML v1.0//EN
CALSCALE:GREGORIAN
METHOD:PUBLISH
X-ORIGINAL-URL:https://woodlandschildrensmuseum.org
X-WR-CALDESC:Events for The Woodlands Children&#039;s Museum
REFRESH-INTERVAL;VALUE=DURATION:PT1H
X-Robots-Tag:noindex
X-PUBLISHED-TTL:PT1H
BEGIN:VTIMEZONE
TZID:America/Chicago
BEGIN:DAYLIGHT
TZOFFSETFROM:-0600
TZOFFSETTO:-0500
TZNAME:CDT
DTSTART:20220313T080000
END:DAYLIGHT
BEGIN:STANDARD
TZOFFSETFROM:-0500
TZOFFSETTO:-0600
TZNAME:CST
DTSTART:20221106T070000
END:STANDARD
BEGIN:DAYLIGHT
TZOFFSETFROM:-0600
TZOFFSETTO:-0500
TZNAME:CDT
DTSTART:20230312T080000
END:DAYLIGHT
BEGIN:STANDARD
TZOFFSETFROM:-0500
TZOFFSETTO:-0600
TZNAME:CST
DTSTART:20231105T070000
END:STANDARD
BEGIN:DAYLIGHT
TZOFFSETFROM:-0600
TZOFFSETTO:-0500
TZNAME:CDT
DTSTART:20240310T080000
END:DAYLIGHT
BEGIN:STANDARD
TZOFFSETFROM:-0500
TZOFFSETTO:-0600
TZNAME:CST
DTSTART:20241103T070000
END:STANDARD
END:VTIMEZONE
BEGIN:VEVENT
DTSTART;TZID=America/Chicago:20231001T100000
DTEND;TZID=America/Chicago:20231001T170000
DTSTAMP:20260425T121825
CREATED:20230309T032523Z
LAST-MODIFIED:20231023T184559Z
UID:10017893-1696154400-1696179600@woodlandschildrensmuseum.org
SUMMARY:Museum Closed
DESCRIPTION:Daily Admission is $8 per person 1 years and older\, children under 1 and Museum Members are free. Recommended ages 7 years and under.\nChildren must be accompanied by an adult at all times. Click for tickets. \nFall Hours\nTues-Thurs 10am-2pm.\nFri. 10am-4pm.\nSat. 10am-5pm.
URL:https://woodlandschildrensmuseum.org/event/museum-closed-99/2023-10-01/
LOCATION:The Woodlands Children’s Museum
END:VEVENT
BEGIN:VEVENT
DTSTART;TZID=America/Chicago:20231002T100000
DTEND;TZID=America/Chicago:20231002T170000
DTSTAMP:20260425T121825
CREATED:20230309T032523Z
LAST-MODIFIED:20231023T184559Z
UID:10017894-1696240800-1696266000@woodlandschildrensmuseum.org
SUMMARY:Museum Closed
DESCRIPTION:Daily Admission is $8 per person 1 years and older\, children under 1 and Museum Members are free. Recommended ages 7 years and under.\nChildren must be accompanied by an adult at all times. Click for tickets. \nFall Hours\nTues-Thurs 10am-2pm.\nFri. 10am-4pm.\nSat. 10am-5pm.
URL:https://woodlandschildrensmuseum.org/event/museum-closed-99/2023-10-02/
LOCATION:The Woodlands Children’s Museum
END:VEVENT
BEGIN:VEVENT
DTSTART;TZID=America/Chicago:20231003T110000
DTEND;TZID=America/Chicago:20231003T110000
DTSTAMP:20260425T121825
CREATED:20230726T211446Z
LAST-MODIFIED:20230726T211545Z
UID:10018078-1696330800-1696330800@woodlandschildrensmuseum.org
SUMMARY:Boogie Bash-Scarf and Ribbon Dancing
DESCRIPTION:Boogie Bash on Tuesday\, October 3rd at 11am\, presents Scarf and Ribbon Dancing. We will be exploring rhythm and movement by dancing and moving creatively with colorful scarves and ribbons to a variety of musical styles.#Dance #Movement #Music #Educate #Empower #Excite Included in the price of admission\, which is $8 for adults and children 1 year and older. bit.ly/TWCMtickets \nFall Hours\nTues-Thurs 10am-2pm.\nFri. 10am-4pm.\nSat. 10am-5pm.\nClosed Sunday and Monday\nDaily Admission is $8 per person 1 years and older\, children under 1.
URL:https://woodlandschildrensmuseum.org/event/boogie-bash-scarf-and-ribbon-dancing/
LOCATION:The Woodlands Children’s Museum
END:VEVENT
BEGIN:VEVENT
DTSTART;TZID=America/Chicago:20231005T110000
DTEND;TZID=America/Chicago:20231005T110000
DTSTAMP:20260425T121825
CREATED:20230726T212523Z
LAST-MODIFIED:20230729T161622Z
UID:10018091-1696503600-1696503600@woodlandschildrensmuseum.org
SUMMARY:Shadow Puppet Theatre-Alice in Wonderland
DESCRIPTION:Shadow Puppet Theatre Thursday\, October 5th at 11am presents “Alice in Wonderland” by Lewis Carroll (Disney version). Based on the classic tale\, children will delight in Alice’s adventures in Wonderland. Included in the price of admission\, which is $8 for adults and children 1 year and older. bit.ly/TWCMtickets #BookReading #StoryTime #ChildrensBook #Educate #Empower #Excite \nShadow Puppet Theatre is an introduction to storytelling elements that allows our readers and audience to interact directly with each other\, children of all ages are enchanted with the animated shadows. \nFall Hours\nTues-Thurs 10am-2pm.\nFri. 10am-4pm.\nSat. 10am-5pm.\nClosed Sunday and Monday\nDaily Admission is $8 per person 1 years and older\, children under 1.
URL:https://woodlandschildrensmuseum.org/event/shadow-puppet-theatre-alice-in-wonderland-3/
LOCATION:The Woodlands Children’s Museum
END:VEVENT
BEGIN:VEVENT
DTSTART;TZID=America/Chicago:20231006T100000
DTEND;TZID=America/Chicago:20231006T130000
DTSTAMP:20260425T121825
CREATED:20230823T231956Z
LAST-MODIFIED:20230906T202753Z
UID:10018101-1696586400-1696597200@woodlandschildrensmuseum.org
SUMMARY:Mad Hatter Tea Party 10am-1pm
DESCRIPTION:Mad Hatter Tea Party\nFri. Oct. 6th 10am-1pm.\nSave the DATE… Don’t be LATE. Join the Queen of Hearts\, Alice and the Mad Hatter for child-friendly tea\, decorating cookies\, and creating hands-on unique art projects. \nThe cost is $6 per child in addition to admission to the museum. Adults are FREE to attend Tea Party but MUST pay for admission to the museum.\nMuseum Members are free admission to the museum and $6 per child for Tea Party.\nClick for tickets. \n \n   \nThank you Sonic for once again providing lemonade for our Mad Hatter Tea Party. Thanks to UNITS storage for your support.\n  
URL:https://woodlandschildrensmuseum.org/event/mad-hatter-tea-party-10am-1pm/
LOCATION:The Woodlands Children’s Museum
END:VEVENT
BEGIN:VEVENT
DTSTART;TZID=America/Chicago:20231006T110000
DTEND;TZID=America/Chicago:20231006T110000
DTSTAMP:20260425T121825
CREATED:20230726T213156Z
LAST-MODIFIED:20230729T161930Z
UID:10018095-1696590000-1696590000@woodlandschildrensmuseum.org
SUMMARY:Storybook Theatre-Alice in Wonderland
DESCRIPTION:Storybook Theatre at 11am Friday\, October 6th presents “Alice in Wonderland” by Lewis Carroll. Join us for this whimsical classic tale of Alice’s adventures in honor of today’s Mad Hatter Tea Party at the museum!  Included in the price of admission\, which is $8 for adults and children 1 year and older. bit.ly/TWCMtickets #BookReading #StoryTime #ChildrensBook #Educate #Empower #Excite \nIntroduce your child to the wonder of reading and instill a love of books at an early age. Storybook Theatre combines your favorite childhood books with songs\, rhymes and fingerplays which are meant to promote early literacy and enhance language development. \nFall Hours\nTues-Thurs 10am-2pm.\nFri. 10am-4pm.\nSat. 10am-5pm.\nClosed Sunday and Monday\nDaily Admission is $8 per person 1 years and older\, children under 1.
URL:https://woodlandschildrensmuseum.org/event/storybook-theatre-alice-in-wonderland-3/
LOCATION:The Woodlands Children’s Museum
END:VEVENT
END:VCALENDAR