BEGIN:VCALENDAR
VERSION:2.0
PRODID:-//The Woodlands Children&#039;s Museum - ECPv6.15.20//NONSGML v1.0//EN
CALSCALE:GREGORIAN
METHOD:PUBLISH
X-WR-CALNAME:The Woodlands Children&#039;s Museum
X-ORIGINAL-URL:https://woodlandschildrensmuseum.org
X-WR-CALDESC:Events for The Woodlands Children&#039;s Museum
REFRESH-INTERVAL;VALUE=DURATION:PT1H
X-Robots-Tag:noindex
X-PUBLISHED-TTL:PT1H
BEGIN:VTIMEZONE
TZID:America/Chicago
BEGIN:DAYLIGHT
TZOFFSETFROM:-0600
TZOFFSETTO:-0500
TZNAME:CDT
DTSTART:20220313T080000
END:DAYLIGHT
BEGIN:STANDARD
TZOFFSETFROM:-0500
TZOFFSETTO:-0600
TZNAME:CST
DTSTART:20221106T070000
END:STANDARD
BEGIN:DAYLIGHT
TZOFFSETFROM:-0600
TZOFFSETTO:-0500
TZNAME:CDT
DTSTART:20230312T080000
END:DAYLIGHT
BEGIN:STANDARD
TZOFFSETFROM:-0500
TZOFFSETTO:-0600
TZNAME:CST
DTSTART:20231105T070000
END:STANDARD
BEGIN:DAYLIGHT
TZOFFSETFROM:-0600
TZOFFSETTO:-0500
TZNAME:CDT
DTSTART:20240310T080000
END:DAYLIGHT
BEGIN:STANDARD
TZOFFSETFROM:-0500
TZOFFSETTO:-0600
TZNAME:CST
DTSTART:20241103T070000
END:STANDARD
END:VTIMEZONE
BEGIN:VEVENT
DTSTART;TZID=America/Chicago:20230910T100000
DTEND;TZID=America/Chicago:20230910T170000
DTSTAMP:20260425T140418
CREATED:20230309T032523Z
LAST-MODIFIED:20231023T184559Z
UID:10017887-1694340000-1694365200@woodlandschildrensmuseum.org
SUMMARY:Museum Closed
DESCRIPTION:Daily Admission is $8 per person 1 years and older\, children under 1 and Museum Members are free. Recommended ages 7 years and under.\nChildren must be accompanied by an adult at all times. Click for tickets. \nFall Hours\nTues-Thurs 10am-2pm.\nFri. 10am-4pm.\nSat. 10am-5pm.
URL:https://woodlandschildrensmuseum.org/event/museum-closed-99/2023-09-10/
LOCATION:The Woodlands Children’s Museum
END:VEVENT
BEGIN:VEVENT
DTSTART;TZID=America/Chicago:20230911T100000
DTEND;TZID=America/Chicago:20230911T170000
DTSTAMP:20260425T140418
CREATED:20230309T032523Z
LAST-MODIFIED:20231023T184559Z
UID:10017888-1694426400-1694451600@woodlandschildrensmuseum.org
SUMMARY:Museum Closed
DESCRIPTION:Daily Admission is $8 per person 1 years and older\, children under 1 and Museum Members are free. Recommended ages 7 years and under.\nChildren must be accompanied by an adult at all times. Click for tickets. \nFall Hours\nTues-Thurs 10am-2pm.\nFri. 10am-4pm.\nSat. 10am-5pm.
URL:https://woodlandschildrensmuseum.org/event/museum-closed-99/2023-09-11/
LOCATION:The Woodlands Children’s Museum
END:VEVENT
BEGIN:VEVENT
DTSTART;TZID=America/Chicago:20230912T093000
DTEND;TZID=America/Chicago:20230912T093000
DTSTAMP:20260425T140418
CREATED:20230720T212518Z
LAST-MODIFIED:20230720T212644Z
UID:10018054-1694511000-1694511000@woodlandschildrensmuseum.org
SUMMARY:Rhyme Time for babies and toddlers
DESCRIPTION:Rhyme Time for babies and toddlers ages 6-24 months. Meets EVERY TUESDAY at 9:30am. Included with admission! Babies\, toddlers and their parents or caregivers are invited to our interactive Rhyme Time dedicated just for little ones. Meeting in our enclosed toddler area\, so children can feel free to move around and explore\, we will be singing songs and discovering hand rhymes. Built-in socialization time for moms and babies to get to know one another presents a great opportunity to meet other moms and babies in our community. This Floor Program is included in the price of admission\, which is $8 for adults and children 1 year and older.  bit.ly/TWCMtickets
URL:https://woodlandschildrensmuseum.org/event/rhyme-time-for-babies-and-toddlers/2023-09-12/
LOCATION:The Woodlands Children’s Museum
END:VEVENT
BEGIN:VEVENT
DTSTART;TZID=America/Chicago:20230912T110000
DTEND;TZID=America/Chicago:20230912T110000
DTSTAMP:20260425T140418
CREATED:20230623T200726Z
LAST-MODIFIED:20230623T200726Z
UID:10018041-1694516400-1694516400@woodlandschildrensmuseum.org
SUMMARY:Boogie Bash-Hispanic Heritage Hop
DESCRIPTION:Boogie Bash on Tuesday\, September 12th at 11am\, presents Hispanic Heritage Hop. In honor of Hispanic Heritage Month (September 15-October 15)\, we will be celebrating a little early by exploring songs and dances from Hispanic countries around the world. #Dance #Movement #Music #Educate #Empower #Excite Included in the price of admission\, which is $8 for adults and children 1 year and older. bit.ly/TWCMtickets \nFall Hours\nTues-Thurs 10am-2pm.\nFri. 10am-4pm.\nSat. 10am-5pm.\nClosed Sunday and Monday\nDaily Admission is $8 per person 1 years and older\, children under 1.
URL:https://woodlandschildrensmuseum.org/event/boogie-bash-hispanic-heritage-hop-2/
LOCATION:The Woodlands Children’s Museum
END:VEVENT
BEGIN:VEVENT
DTSTART;TZID=America/Chicago:20230913T110000
DTEND;TZID=America/Chicago:20230913T110000
DTSTAMP:20260425T140418
CREATED:20230711T201134Z
LAST-MODIFIED:20230720T191703Z
UID:10018058-1694602800-1694602800@woodlandschildrensmuseum.org
SUMMARY:Crazy About Critters hosts The Learning Zoo
DESCRIPTION:Crazy About Critters hosts The Learning Zoo Wednesday\, September 13th at 11:00am. Laugh\, learn and get hands-on during an educational animal encounter on stage. This Floor Program is included in the price of admission\, which is $8 for adults and children 1 year and older. http://bit.ly/TWCMtickets
URL:https://woodlandschildrensmuseum.org/event/crazy-about-critters-hosts-the-learning-zoo-20/
LOCATION:The Woodlands Children’s Museum
END:VEVENT
BEGIN:VEVENT
DTSTART;TZID=America/Chicago:20230914T110000
DTEND;TZID=America/Chicago:20230914T110000
DTSTAMP:20260425T140418
CREATED:20230623T201716Z
LAST-MODIFIED:20230623T201716Z
UID:10018037-1694689200-1694689200@woodlandschildrensmuseum.org
SUMMARY:Shadow Puppet Theatre-Pirate Princess
DESCRIPTION:Shadow Puppet Theatre Thursday\, September 14th at 11am presents “Pirate Princess” by Sudipta Bardhan-Quallen. Princess Bea prefers pirate ships over tea parties and other princess-like activities.  When Captain Jack welcomes Bea aboard his ship\, she struggles to prove herself seaworthy and comes close to walking the plank until her princess skills rise to the occasion and save the day! Included in the price of admission\, which is $8 for adults and children 1 year and older. bit.ly/TWCMtickets #BookReading #StoryTime #ChildrensBook #Educate #Empower #Excite \nShadow Puppet Theatre is an introduction to storytelling elements that allows our readers and audience to interact directly with each other\, children of all ages are enchanted with the animated shadows. \nFall Hours\nTues-Thurs 10am-2pm.\nFri. 10am-4pm.\nSat. 10am-5pm.\nClosed Sunday and Monday\nDaily Admission is $8 per person 1 years and older\, children under 1.
URL:https://woodlandschildrensmuseum.org/event/shadow-puppet-theatre-pirate-princess-3/
LOCATION:The Woodlands Children’s Museum
END:VEVENT
BEGIN:VEVENT
DTSTART;TZID=America/Chicago:20230915T110000
DTEND;TZID=America/Chicago:20230915T110000
DTSTAMP:20260425T140418
CREATED:20230623T203047Z
LAST-MODIFIED:20230623T203047Z
UID:10018046-1694775600-1694775600@woodlandschildrensmuseum.org
SUMMARY:Storybook Theatre-The Dot
DESCRIPTION:Storybook Theatre at 11am Friday\, September 15th presents “The Dot” by Peter H. Reynolds.  “Just make a mark and see where it takes you.”  Her teacher’s words give Vashti the gentle nudge she needs to have the confidence to channel her creativity and create something wonderful beginning with one little dot.  Today is International Dot Day!  Included in the price of admission\, which is $8 for adults and children 1 year and older. bit.ly/TWCMtickets #BookReading #StoryTime #ChildrensBook #Educate #Empower #Excite \nIntroduce your child to the wonder of reading and instill a love of books at an early age. Storybook Theatre combines your favorite childhood books with songs\, rhymes and fingerplays which are meant to promote early literacy and enhance language development. \nFall Hours\nTues-Thurs 10am-2pm.\nFri. 10am-4pm.\nSat. 10am-5pm.\nClosed Sunday and Monday\nDaily Admission is $8 per person 1 years and older\, children under 1.
URL:https://woodlandschildrensmuseum.org/event/storybook-theatre-the-dot-3/
LOCATION:The Woodlands Children’s Museum
END:VEVENT
END:VCALENDAR