BEGIN:VCALENDAR
VERSION:2.0
PRODID:-//The Woodlands Children&#039;s Museum - ECPv6.15.20//NONSGML v1.0//EN
CALSCALE:GREGORIAN
METHOD:PUBLISH
X-WR-CALNAME:The Woodlands Children&#039;s Museum
X-ORIGINAL-URL:https://woodlandschildrensmuseum.org
X-WR-CALDESC:Events for The Woodlands Children&#039;s Museum
REFRESH-INTERVAL;VALUE=DURATION:PT1H
X-Robots-Tag:noindex
X-PUBLISHED-TTL:PT1H
BEGIN:VTIMEZONE
TZID:America/Chicago
BEGIN:DAYLIGHT
TZOFFSETFROM:-0600
TZOFFSETTO:-0500
TZNAME:CDT
DTSTART:20220313T080000
END:DAYLIGHT
BEGIN:STANDARD
TZOFFSETFROM:-0500
TZOFFSETTO:-0600
TZNAME:CST
DTSTART:20221106T070000
END:STANDARD
BEGIN:DAYLIGHT
TZOFFSETFROM:-0600
TZOFFSETTO:-0500
TZNAME:CDT
DTSTART:20230312T080000
END:DAYLIGHT
BEGIN:STANDARD
TZOFFSETFROM:-0500
TZOFFSETTO:-0600
TZNAME:CST
DTSTART:20231105T070000
END:STANDARD
BEGIN:DAYLIGHT
TZOFFSETFROM:-0600
TZOFFSETTO:-0500
TZNAME:CDT
DTSTART:20240310T080000
END:DAYLIGHT
BEGIN:STANDARD
TZOFFSETFROM:-0500
TZOFFSETTO:-0600
TZNAME:CST
DTSTART:20241103T070000
END:STANDARD
END:VTIMEZONE
BEGIN:VEVENT
DTSTART;TZID=America/Chicago:20230813T100000
DTEND;TZID=America/Chicago:20230813T170000
DTSTAMP:20260425T160341
CREATED:20230309T032523Z
LAST-MODIFIED:20231023T184559Z
UID:10017879-1691920800-1691946000@woodlandschildrensmuseum.org
SUMMARY:Museum Closed
DESCRIPTION:Daily Admission is $8 per person 1 years and older\, children under 1 and Museum Members are free. Recommended ages 7 years and under.\nChildren must be accompanied by an adult at all times. Click for tickets. \nFall Hours\nTues-Thurs 10am-2pm.\nFri. 10am-4pm.\nSat. 10am-5pm.
URL:https://woodlandschildrensmuseum.org/event/museum-closed-99/2023-08-13/
LOCATION:The Woodlands Children’s Museum
END:VEVENT
BEGIN:VEVENT
DTSTART;TZID=America/Chicago:20230814T100000
DTEND;TZID=America/Chicago:20230814T170000
DTSTAMP:20260425T160341
CREATED:20230309T032523Z
LAST-MODIFIED:20231023T184559Z
UID:10017880-1692007200-1692032400@woodlandschildrensmuseum.org
SUMMARY:Museum Closed
DESCRIPTION:Daily Admission is $8 per person 1 years and older\, children under 1 and Museum Members are free. Recommended ages 7 years and under.\nChildren must be accompanied by an adult at all times. Click for tickets. \nFall Hours\nTues-Thurs 10am-2pm.\nFri. 10am-4pm.\nSat. 10am-5pm.
URL:https://woodlandschildrensmuseum.org/event/museum-closed-99/2023-08-14/
LOCATION:The Woodlands Children’s Museum
END:VEVENT
BEGIN:VEVENT
DTSTART;TZID=America/Chicago:20230815T093000
DTEND;TZID=America/Chicago:20230815T093000
DTSTAMP:20260425T160341
CREATED:20230609T125756Z
LAST-MODIFIED:20230726T210216Z
UID:10018029-1692091800-1692091800@woodlandschildrensmuseum.org
SUMMARY:NEW TIME! Rhyme Time
DESCRIPTION:Rhyme Time for babies and toddlers ages 6-24 months. Meets FIRST and THIRD TUESDAYS each month at 9:30am. Included with admission! Babies\, toddlers and their parents or caregivers are invited to our interactive Rhyme Time dedicated just for little ones. Meeting in our enclosed toddler area\, so children can feel free to move around and explore\, we will be singing songs and discovering hand rhymes. Built-in socialization time for moms and babies to get to know one another presents a great opportunity to meet other moms and babies in our community. This Floor Program is included in the price of admission\, which is $8 for adults and children 1 year and older.  bit.ly/TWCMtickets \nFall Hours\nTues-Thurs 10am-2pm.\nFri. 10am-4pm.\nSat. 10am-5pm.\nClosed Sunday and Monday\nDaily Admission is $8 per person 1 years and older\, children under 1.
URL:https://woodlandschildrensmuseum.org/event/new-time-rhyme-time-3/
LOCATION:The Woodlands Children’s Museum
END:VEVENT
BEGIN:VEVENT
DTSTART;TZID=America/Chicago:20230815T110000
DTEND;TZID=America/Chicago:20230815T110000
DTSTAMP:20260425T160341
CREATED:20230608T213200Z
LAST-MODIFIED:20230726T210039Z
UID:10018017-1692097200-1692097200@woodlandschildrensmuseum.org
SUMMARY:Boogie Bash-Dinosaur Dig
DESCRIPTION:Boogie Bash on Tuesday\, August 15th at 11am\, presents Dinosaur “Dig”. Join us as we celebrate these magnificent creatures through fingerplays\, dance\, and songs! #Dance #Movement #Music #Educate #Empower #Excite Included in the price of admission\, which is $8 for adults and children 1 year and older. bit.ly/TWCMtickets \nFall Hours\nTues-Thurs 10am-2pm.\nFri. 10am-4pm.\nSat. 10am-5pm.\nClosed Sunday and Monday\nDaily Admission is $8 per person 1 years and older\, children under 1.\nClick for tickets.
URL:https://woodlandschildrensmuseum.org/event/boogie-bash-dinosaur-dig/
LOCATION:The Woodlands Children’s Museum
END:VEVENT
BEGIN:VEVENT
DTSTART;TZID=America/Chicago:20230816T110000
DTEND;TZID=America/Chicago:20230816T110000
DTSTAMP:20260425T160341
CREATED:20230608T234553Z
LAST-MODIFIED:20230726T210748Z
UID:10018032-1692183600-1692183600@woodlandschildrensmuseum.org
SUMMARY:Looking at Art Lady Presentation
DESCRIPTION:Looking at Art Lady Presentation\, Wednesday\, August 16th at 11:00am. Come learn and laugh with art history! Children and adults will enjoy this light-hearted journey through art history. Famous paintings throughout time will plant a seed of interest in the fine arts for you and your child. We will briefly talk about each painting but quickly shift to giggles as each piece will have a parody version. Children will be introduced to various pop culture faces and characters in the parody while subtly remembering the original piece. #Educate #Empower #Excite #Art #ArtHistory \nThis event is included in the price of admission\, which is $8 for adults and children 1 year and older. bit.ly/TWCMtickets     \nThis project is supported in part by The David Gottlieb Education Micrgrant from The Woodlands Arts Council.\n   \nFall Hours\nTues-Thurs 10am-2pm.\nFri. 10am-4pm.\nSat. 10am-5pm.\nClosed Sunday and Monday\nDaily Admission is $8 per person 1 years and older\, children under 1.
URL:https://woodlandschildrensmuseum.org/event/looking-at-art-lady-presentation-3/
LOCATION:The Woodlands Children’s Museum
END:VEVENT
BEGIN:VEVENT
DTSTART;TZID=America/Chicago:20230817T110000
DTEND;TZID=America/Chicago:20230817T110000
DTSTAMP:20260425T160341
CREATED:20230608T231751Z
LAST-MODIFIED:20230726T210407Z
UID:10018065-1692270000-1692270000@woodlandschildrensmuseum.org
SUMMARY:Shadow Puppet Theatre-If I Were a Jungle Animal
DESCRIPTION:Shadow Puppet Theatre Thursday\, August 17th at 11am presents “If I Were a Jungle Animal” by Amanda Ellery. Daydreaming Morton is bored in the outfield during his baseball game and starts imagining how\nexciting things would be if he were a jungle animal\, but watch out…Is that a baseball coming straight at him?! Included in the price of admission\, which is $8 for adults and children 1 year and older. bit.ly/TWCMtickets #BookReading #StoryTime #ChildrensBook #Educate #Empower #Excite \nShadow Puppet Theatre is an introduction to storytelling elements that allows our readers and audience to interact directly with each other\, children of all ages are enchanted with the animated shadows. \nFall Hours\nTues-Thurs 10am-2pm.\nFri. 10am-4pm.\nSat. 10am-5pm.\nClosed Sunday and Monday\nDaily Admission is $8 per person 1 years and older\, children under 1. Click for tickets.
URL:https://woodlandschildrensmuseum.org/event/shadow-puppet-theatre-if-i-were-a-jungle-animal-2/
LOCATION:The Woodlands Children’s Museum
END:VEVENT
BEGIN:VEVENT
DTSTART;TZID=America/Chicago:20230818T110000
DTEND;TZID=America/Chicago:20230818T110000
DTSTAMP:20260425T160341
CREATED:20230608T232819Z
LAST-MODIFIED:20230726T210626Z
UID:10018064-1692356400-1692356400@woodlandschildrensmuseum.org
SUMMARY:Storybook Theatre-Elephant in the Dark
DESCRIPTION:Storybook Theatre at 11am Friday\, August 18th presents “Elephant in the Dark” retold by Mina Javaherbin (based on a poem by Rumi). This retelling of a classic tale follows some villagers who hear about a huge and mysterious creature that has arrived from India and illustrates their attempts to find out just what it is. Everyone has a different opinion and arguments ensue\, preventing them from seeing the true identity of the creature. Included in the price of admission\, which is $8 for adults and children 1 year and older. bit.ly/TWCMtickets #BookReading #StoryTime #ChildrensBook #Educate #Empower #Excite \nIntroduce your child to the wonder of reading and instill a love of books at an early age. Storybook Theatre combines your favorite childhood books with songs\, rhymes and fingerplays which are meant to promote early literacy and enhance language development. \nFall Hours\nTues-Thurs 10am-2pm.\nFri. 10am-4pm.\nSat. 10am-5pm.\nClosed Sunday and Monday\nDaily Admission is $8 per person 1 years and older\, children under 1. Click for tickets.
URL:https://woodlandschildrensmuseum.org/event/storybook-theatre-elephant-in-the-dark/
LOCATION:The Woodlands Children’s Museum
END:VEVENT
BEGIN:VEVENT
DTSTART;TZID=America/Chicago:20230819T140000
DTEND;TZID=America/Chicago:20230819T150000
DTSTAMP:20260425T160341
CREATED:20230710T185256Z
LAST-MODIFIED:20230726T210721Z
UID:10018059-1692453600-1692457200@woodlandschildrensmuseum.org
SUMMARY:The Bee Lady
DESCRIPTION:On Saturday\, August 19th from 2:00pm-3:00pm\, in celebration of National Bee Day\, BEE amazed by a visit from The Bee Lady and discover facts about bees while safely meeting a few in person!\nIncluded in the price of admission\, which is $8 for adults and children 1 year and older. bit.ly/TWCMtickets \nFall Hours\nTues-Thurs 10am-2pm.\nFri. 10am-4pm.\nSat. 10am-5pm.\nClosed Sunday and Monday\nDaily Admission is $8 per person 1 years and older\, children under 1.
URL:https://woodlandschildrensmuseum.org/event/the-bee-lady/
LOCATION:The Woodlands Children’s Museum
END:VEVENT
END:VCALENDAR