BEGIN:VCALENDAR
VERSION:2.0
PRODID:-//The Woodlands Children&#039;s Museum - ECPv6.15.20//NONSGML v1.0//EN
CALSCALE:GREGORIAN
METHOD:PUBLISH
X-ORIGINAL-URL:https://woodlandschildrensmuseum.org
X-WR-CALDESC:Events for The Woodlands Children&#039;s Museum
REFRESH-INTERVAL;VALUE=DURATION:PT1H
X-Robots-Tag:noindex
X-PUBLISHED-TTL:PT1H
BEGIN:VTIMEZONE
TZID:America/Chicago
BEGIN:DAYLIGHT
TZOFFSETFROM:-0600
TZOFFSETTO:-0500
TZNAME:CDT
DTSTART:20220313T080000
END:DAYLIGHT
BEGIN:STANDARD
TZOFFSETFROM:-0500
TZOFFSETTO:-0600
TZNAME:CST
DTSTART:20221106T070000
END:STANDARD
BEGIN:DAYLIGHT
TZOFFSETFROM:-0600
TZOFFSETTO:-0500
TZNAME:CDT
DTSTART:20230312T080000
END:DAYLIGHT
BEGIN:STANDARD
TZOFFSETFROM:-0500
TZOFFSETTO:-0600
TZNAME:CST
DTSTART:20231105T070000
END:STANDARD
BEGIN:DAYLIGHT
TZOFFSETFROM:-0600
TZOFFSETTO:-0500
TZNAME:CDT
DTSTART:20240310T080000
END:DAYLIGHT
BEGIN:STANDARD
TZOFFSETFROM:-0500
TZOFFSETTO:-0600
TZNAME:CST
DTSTART:20241103T070000
END:STANDARD
END:VTIMEZONE
BEGIN:VEVENT
DTSTART;TZID=America/Chicago:20230806T100000
DTEND;TZID=America/Chicago:20230806T170000
DTSTAMP:20260425T191723
CREATED:20230309T032523Z
LAST-MODIFIED:20231023T184559Z
UID:10017877-1691316000-1691341200@woodlandschildrensmuseum.org
SUMMARY:Museum Closed
DESCRIPTION:Daily Admission is $8 per person 1 years and older\, children under 1 and Museum Members are free. Recommended ages 7 years and under.\nChildren must be accompanied by an adult at all times. Click for tickets. \nFall Hours\nTues-Thurs 10am-2pm.\nFri. 10am-4pm.\nSat. 10am-5pm.
URL:https://woodlandschildrensmuseum.org/event/museum-closed-99/2023-08-06/
LOCATION:The Woodlands Children’s Museum
END:VEVENT
BEGIN:VEVENT
DTSTART;TZID=America/Chicago:20230807T100000
DTEND;TZID=America/Chicago:20230807T170000
DTSTAMP:20260425T191723
CREATED:20230309T032523Z
LAST-MODIFIED:20231023T184559Z
UID:10017878-1691402400-1691427600@woodlandschildrensmuseum.org
SUMMARY:Museum Closed
DESCRIPTION:Daily Admission is $8 per person 1 years and older\, children under 1 and Museum Members are free. Recommended ages 7 years and under.\nChildren must be accompanied by an adult at all times. Click for tickets. \nFall Hours\nTues-Thurs 10am-2pm.\nFri. 10am-4pm.\nSat. 10am-5pm.
URL:https://woodlandschildrensmuseum.org/event/museum-closed-99/2023-08-07/
LOCATION:The Woodlands Children’s Museum
END:VEVENT
BEGIN:VEVENT
DTSTART;TZID=America/Chicago:20230808T110000
DTEND;TZID=America/Chicago:20230808T110000
DTSTAMP:20260425T191723
CREATED:20230608T213039Z
LAST-MODIFIED:20230726T210002Z
UID:10018018-1691492400-1691492400@woodlandschildrensmuseum.org
SUMMARY:Boogie Bash-Summer Dance Party
DESCRIPTION:Boogie Bash on Tuesday\, August 8th at 11am\, presents Summer Dance Party. Children will enjoy dancing and grooving to a variety of music! They will be introduced to some of Miss Jan’s favorite and “ancient” dance styles including The Monkey\, The Funky Chicken\, and The Twist and will also learn how to do The Limbo Rock. #Dance #Movement #Music #Educate #Empower #Excite Included in the price of admission\, which is $8 for adults and children 1 year and older. bit.ly/TWCMtickets \nFall Hours\nTues-Thurs 10am-2pm.\nFri. 10am-4pm.\nSat. 10am-5pm.\nClosed Sunday and Monday\nDaily Admission is $8 per person 1 years and older\, children under 1.\nClick for tickets.
URL:https://woodlandschildrensmuseum.org/event/boogie-bash-summer-dance-party-2/
LOCATION:The Woodlands Children’s Museum
END:VEVENT
BEGIN:VEVENT
DTSTART;TZID=America/Chicago:20230809T110000
DTEND;TZID=America/Chicago:20230809T110000
DTSTAMP:20260425T191723
CREATED:20230608T234304Z
LAST-MODIFIED:20230726T210247Z
UID:10018033-1691578800-1691578800@woodlandschildrensmuseum.org
SUMMARY:Crazy About Critters hosts The Learning Zoo
DESCRIPTION:Crazy About Critters hosts The Learning Zoo Wednesday\, August 9th at 11:00am. Laugh\, learn and get hands-on during an educational animal encounter on stage. This Floor Program is included in the price of admission\, which is $8 for adults and children 1 year and older. http://bit.ly/TWCMtickets \nFall Hours\nTues-Thurs 10am-2pm.\nFri. 10am-4pm.\nSat. 10am-5pm.\nClosed Sunday and Monday\nDaily Admission is $8 per person 1 years and older\, children under 1.
URL:https://woodlandschildrensmuseum.org/event/crazy-about-critters-hosts-the-learning-zoo-19/
LOCATION:The Woodlands Children’s Museum
END:VEVENT
BEGIN:VEVENT
DTSTART;TZID=America/Chicago:20230810T110000
DTEND;TZID=America/Chicago:20230810T110000
DTSTAMP:20260425T191723
CREATED:20230608T231607Z
LAST-MODIFIED:20230726T210342Z
UID:10018026-1691665200-1691665200@woodlandschildrensmuseum.org
SUMMARY:Shadow Puppet Theatre-We’re Roaming in the Rainforest: An Amazon Adventure
DESCRIPTION:Shadow Puppet Theatre Thursday\, August 10th at 11am presents “We’re Roaming in the Rainforest: An Amazon Adventure” by Laurie Krebs. Three children stroll through the rainforest and discover all its fascinating creatures in their natural habitats. Included in the price of admission\, which is $8 for adults and children 1 year and older. bit.ly/TWCMtickets #BookReading #StoryTime #ChildrensBook #Educate #Empower #Excite \nShadow Puppet Theatre is an introduction to storytelling elements that allows our readers and audience to interact directly with each other\, children of all ages are enchanted with the animated shadows. \nFall Hours\nTues-Thurs 10am-2pm.\nFri. 10am-4pm.\nSat. 10am-5pm.\nClosed Sunday and Monday\nDaily Admission is $8 per person 1 years and older\, children under 1. Click for tickets.
URL:https://woodlandschildrensmuseum.org/event/shadow-puppet-theatre-were-roaming-in-the-rainforest-an-amazon-adventure-3/
LOCATION:The Woodlands Children’s Museum
END:VEVENT
BEGIN:VEVENT
DTSTART;TZID=America/Chicago:20230811T110000
DTEND;TZID=America/Chicago:20230811T110000
DTSTAMP:20260425T191723
CREATED:20230608T232616Z
LAST-MODIFIED:20230726T210553Z
UID:10018022-1691751600-1691751600@woodlandschildrensmuseum.org
SUMMARY:Storybook Theatre-The Three Little Pigs
DESCRIPTION:Storybook Theatre at 11am Friday\, August 11th presents “The Three Little Pigs” adapted by Mara Alperin. This classic fairy tale follows the three little pigs as they set out to build themselves new homes and figure out how to outsmart the infamous wolf! Included in the price of admission\, which is $8 for adults and children 1 year and older. bit.ly/TWCMtickets #BookReading #StoryTime #ChildrensBook #Educate #Empower #Excite \nIntroduce your child to the wonder of reading and instill a love of books at an early age. Storybook Theatre combines your favorite childhood books with songs\, rhymes and fingerplays which are meant to promote early literacy and enhance language development. \nFall Hours\nTues-Thurs 10am-2pm.\nFri. 10am-4pm.\nSat. 10am-5pm.\nClosed Sunday and Monday\nDaily Admission is $8 per person 1 years and older\, children under 1. Click for tickets.
URL:https://woodlandschildrensmuseum.org/event/storybook-theatre-the-three-little-pigs/
LOCATION:The Woodlands Children’s Museum
END:VEVENT
END:VCALENDAR