BEGIN:VCALENDAR
VERSION:2.0
PRODID:-//The Woodlands Children&#039;s Museum - ECPv6.15.20//NONSGML v1.0//EN
CALSCALE:GREGORIAN
METHOD:PUBLISH
X-ORIGINAL-URL:https://woodlandschildrensmuseum.org
X-WR-CALDESC:Events for The Woodlands Children&#039;s Museum
REFRESH-INTERVAL;VALUE=DURATION:PT1H
X-Robots-Tag:noindex
X-PUBLISHED-TTL:PT1H
BEGIN:VTIMEZONE
TZID:America/Chicago
BEGIN:DAYLIGHT
TZOFFSETFROM:-0600
TZOFFSETTO:-0500
TZNAME:CDT
DTSTART:20220313T080000
END:DAYLIGHT
BEGIN:STANDARD
TZOFFSETFROM:-0500
TZOFFSETTO:-0600
TZNAME:CST
DTSTART:20221106T070000
END:STANDARD
BEGIN:DAYLIGHT
TZOFFSETFROM:-0600
TZOFFSETTO:-0500
TZNAME:CDT
DTSTART:20230312T080000
END:DAYLIGHT
BEGIN:STANDARD
TZOFFSETFROM:-0500
TZOFFSETTO:-0600
TZNAME:CST
DTSTART:20231105T070000
END:STANDARD
BEGIN:DAYLIGHT
TZOFFSETFROM:-0600
TZOFFSETTO:-0500
TZNAME:CDT
DTSTART:20240310T080000
END:DAYLIGHT
BEGIN:STANDARD
TZOFFSETFROM:-0500
TZOFFSETTO:-0600
TZNAME:CST
DTSTART:20241103T070000
END:STANDARD
END:VTIMEZONE
BEGIN:VEVENT
DTSTART;TZID=America/Chicago:20230723T100000
DTEND;TZID=America/Chicago:20230723T170000
DTSTAMP:20260425T173915
CREATED:20230309T032523Z
LAST-MODIFIED:20231023T184559Z
UID:10017873-1690106400-1690131600@woodlandschildrensmuseum.org
SUMMARY:Museum Closed
DESCRIPTION:Daily Admission is $8 per person 1 years and older\, children under 1 and Museum Members are free. Recommended ages 7 years and under.\nChildren must be accompanied by an adult at all times. Click for tickets. \nFall Hours\nTues-Thurs 10am-2pm.\nFri. 10am-4pm.\nSat. 10am-5pm.
URL:https://woodlandschildrensmuseum.org/event/museum-closed-99/2023-07-23/
LOCATION:The Woodlands Children’s Museum
END:VEVENT
BEGIN:VEVENT
DTSTART;TZID=America/Chicago:20230724T100000
DTEND;TZID=America/Chicago:20230724T170000
DTSTAMP:20260425T173915
CREATED:20230309T032523Z
LAST-MODIFIED:20231023T184559Z
UID:10017874-1690192800-1690218000@woodlandschildrensmuseum.org
SUMMARY:Museum Closed
DESCRIPTION:Daily Admission is $8 per person 1 years and older\, children under 1 and Museum Members are free. Recommended ages 7 years and under.\nChildren must be accompanied by an adult at all times. Click for tickets. \nFall Hours\nTues-Thurs 10am-2pm.\nFri. 10am-4pm.\nSat. 10am-5pm.
URL:https://woodlandschildrensmuseum.org/event/museum-closed-99/2023-07-24/
LOCATION:The Woodlands Children’s Museum
END:VEVENT
BEGIN:VEVENT
DTSTART;TZID=America/Chicago:20230725T110000
DTEND;TZID=America/Chicago:20230725T110000
DTSTAMP:20260425T173915
CREATED:20230515T213822Z
LAST-MODIFIED:20230515T213822Z
UID:10018035-1690282800-1690282800@woodlandschildrensmuseum.org
SUMMARY:Boogie Bash-Summertime Boogie
DESCRIPTION: \nBoogie Bash on Tuesday\, July 25 at 11am\, presents Summertime Boogie. Come celebrate the season with summer musical fun as we move and play with beach balls\, the giant parachute\, and scarves. We’ll also be marching with rhythm instruments and singing summer food songs. #Dance #Movement #Music #Educate #Empower #Excite Included in the price of admission\, which is $8 for adults and children 1 year and older. bit.ly/TWCMtickets \nSummer Hours: June 1 – August 5\nTuesday – Friday – 10am-4pm. Saturday – 10am-5pm. Closed Sunday and Monday\nDaily Admission is $8 per person 1 years and older\, children under 1. Museum Members are free.\nRecommended ages 7 years and under. Children must be accompanied by an adult at all times.  Click for tickets.
URL:https://woodlandschildrensmuseum.org/event/boogie-bash-summertime-boogie/
LOCATION:The Woodlands Children’s Museum
END:VEVENT
BEGIN:VEVENT
DTSTART;TZID=America/Chicago:20230726T110000
DTEND;TZID=America/Chicago:20230726T140000
DTSTAMP:20260425T173915
CREATED:20230519T185402Z
LAST-MODIFIED:20230519T185402Z
UID:10018010-1690369200-1690380000@woodlandschildrensmuseum.org
SUMMARY:Nifty Nature-Sticks and Stones
DESCRIPTION:Nifty Nature presents\, Sticks and Stones\, Wednesday\, July 26th 11am-2pm. Included in the price of admission\, which is $8 for adults and children 1 year and older.  bit.ly/TWCMtickets  #Educate #Empower #Excite \nSummer Hours: June 1 – August 5\nTuesday – Friday – 10am-4pm. Saturday – 10am-5pm. Closed Sunday and Monday\nDaily Admission is $8 per person 1 years and older\, children under 1. Museum Members are free.\nRecommended ages 7 years and under. Children must be accompanied by an adult at all times.  Click for tickets.
URL:https://woodlandschildrensmuseum.org/event/nifty-nature-sticks-and-stones/
LOCATION:The Woodlands Children’s Museum
END:VEVENT
BEGIN:VEVENT
DTSTART;TZID=America/Chicago:20230727T110000
DTEND;TZID=America/Chicago:20230727T110000
DTSTAMP:20260425T173915
CREATED:20230515T221339Z
LAST-MODIFIED:20230515T221339Z
UID:10017996-1690455600-1690455600@woodlandschildrensmuseum.org
SUMMARY:Shadow Puppet Theatre-Happy Birthday\, Moon
DESCRIPTION:Shadow Puppet Theatre Thursday\, July 27th at 11am presents “Happy Birthday\, Moon” by Frank Asch. This is the sweet story of a young bear who’s trying to find the perfect birthday present for the moon.  Included in the price of admission\, which is $8 for adults and children 1 year and older.  bit.ly/TWCMtickets #BookReading #StoryTime #ChildrensBook #Educate #Empower #Excite \nShadow Puppet Theatre is an introduction to storytelling elements that allows our readers and audience to interact directly with each other\, children of all ages are enchanted with the animated shadows. \nSummer Hours: June 1 – August 5\nTuesday – Friday – 10am-4pm. Saturday – 10am-5pm. Closed Sunday and Monday\nDaily Admission is $8 per person 1 years and older\, children under 1. Museum Members are free.\nRecommended ages 7 years and under. Children must be accompanied by an adult at all times.  Click for tickets.
URL:https://woodlandschildrensmuseum.org/event/shadow-puppet-theatre-happy-birthday-moon-2/
LOCATION:The Woodlands Children’s Museum
END:VEVENT
BEGIN:VEVENT
DTSTART;TZID=America/Chicago:20230728T110000
DTEND;TZID=America/Chicago:20230728T110000
DTSTAMP:20260425T173915
CREATED:20230515T223914Z
LAST-MODIFIED:20230515T223914Z
UID:10018006-1690542000-1690542000@woodlandschildrensmuseum.org
SUMMARY:Storybook Theatre-Superhero Instruction Manual
DESCRIPTION:Storybook Theatre at 11am Friday\, July 28th presents “Superhero Instruction Manual” by Kristy Dempsey. This super guidebook shows that anyone can be a superhero by just following six easy steps such as choosing a secret identity\, a power\, and much more. Our aspiring hero also learns that sometimes a superhero needs a helping hand to save the day! Included in the price of admission\, which is $8 for adults and children 1 year and older. bit.ly/TWCMtickets #BookReading #StoryTime #ChildrensBook #Educate #Empower #Excite \nIntroduce your child to the wonder of reading and instill a love of books at an early age. Storybook Theatre combines your favorite childhood books with songs\, rhymes and fingerplays which are meant to promote early literacy and enhance language development. \nSummer Hours: June 1 – August 5\nTuesday – Friday – 10am-4pm. Saturday – 10am-5pm. Closed Sunday and Monday\nDaily Admission is $8 per person 1 years and older\, children under 1. Museum Members are free.\nRecommended ages 7 years and under. Children must be accompanied by an adult at all times.  Click for tickets.
URL:https://woodlandschildrensmuseum.org/event/storybook-theatre-superhero-instruction-manual/
LOCATION:The Woodlands Children’s Museum
END:VEVENT
BEGIN:VEVENT
DTSTART;TZID=America/Chicago:20230729T100000
DTEND;TZID=America/Chicago:20230729T100000
DTSTAMP:20260425T173915
CREATED:20230519T195453Z
LAST-MODIFIED:20230705T184653Z
UID:10018008-1690624800-1690624800@woodlandschildrensmuseum.org
SUMMARY:Summer Sillies Super Hero Day​
DESCRIPTION:​\nOn Saturday\, July 29th\, join us for Summer Sillies Super Hero Day​. ​Pose for photos with ​Super Heros​ (Spider-Man\, Wonder Woman\, and Ninja) and get ready for the start of school.\nIncluded in the price of admission\, which is $8 for adults and children 1 year and older. bit.ly/TWCMtickets ​\n\n\n\nThanks to our sponsors Texas First Bank Premier Martial Arts – The Woodlands/Gosling and America’s ER Medical Centers\n       
URL:https://woodlandschildrensmuseum.org/event/summer-sillies-super-hero-day/
LOCATION:The Woodlands Children’s Museum
END:VEVENT
END:VCALENDAR