BEGIN:VCALENDAR
VERSION:2.0
PRODID:-//The Woodlands Children&#039;s Museum - ECPv6.15.20//NONSGML v1.0//EN
CALSCALE:GREGORIAN
METHOD:PUBLISH
X-ORIGINAL-URL:https://woodlandschildrensmuseum.org
X-WR-CALDESC:Events for The Woodlands Children&#039;s Museum
REFRESH-INTERVAL;VALUE=DURATION:PT1H
X-Robots-Tag:noindex
X-PUBLISHED-TTL:PT1H
BEGIN:VTIMEZONE
TZID:America/Chicago
BEGIN:DAYLIGHT
TZOFFSETFROM:-0600
TZOFFSETTO:-0500
TZNAME:CDT
DTSTART:20260308T080000
END:DAYLIGHT
BEGIN:STANDARD
TZOFFSETFROM:-0500
TZOFFSETTO:-0600
TZNAME:CST
DTSTART:20261101T070000
END:STANDARD
BEGIN:DAYLIGHT
TZOFFSETFROM:-0600
TZOFFSETTO:-0500
TZNAME:CDT
DTSTART:20270314T080000
END:DAYLIGHT
BEGIN:STANDARD
TZOFFSETFROM:-0500
TZOFFSETTO:-0600
TZNAME:CST
DTSTART:20271107T070000
END:STANDARD
BEGIN:DAYLIGHT
TZOFFSETFROM:-0600
TZOFFSETTO:-0500
TZNAME:CDT
DTSTART:20280312T080000
END:DAYLIGHT
BEGIN:STANDARD
TZOFFSETFROM:-0500
TZOFFSETTO:-0600
TZNAME:CST
DTSTART:20281105T070000
END:STANDARD
END:VTIMEZONE
BEGIN:VEVENT
DTSTART;TZID=America/Chicago:20270625T093000
DTEND;TZID=America/Chicago:20270625T093000
DTSTAMP:20260423T192139
CREATED:20260403T174642Z
LAST-MODIFIED:20260403T174742Z
UID:10021111-1813915800-1813915800@woodlandschildrensmuseum.org
SUMMARY:Museum OPEN 9:30am-4:00pm
DESCRIPTION:Summer Hours\n\n\nJune 2 – August 8\nTuesday -Friday 9:30am-4pm\nSaturday 10am-5pm\nClosed Sunday and Monday. \nAdmission is $10 for adults and children 1 year and older.\nPlease visit here to reserve your timed session tickets.\nMembers FREE. Become a member today\, click here.  \n\nAs a 501(c)3 Non-Profit\, our goal is to make memories and create learning opportunities for children in our community.\nYour donation will help children discover\, play\, imagine\, and grow in a safe and nurturing environment. Donate here 
URL:https://woodlandschildrensmuseum.org/event/museum-open-930am-400pm-2/2027-06-25/
LOCATION:The Woodlands Children’s Museum
END:VEVENT
BEGIN:VEVENT
DTSTART;TZID=America/Chicago:20270626T100000
DTEND;TZID=America/Chicago:20270626T100000
DTSTAMP:20260423T192139
CREATED:20260403T175413Z
LAST-MODIFIED:20260403T175538Z
UID:10021191-1814004000-1814004000@woodlandschildrensmuseum.org
SUMMARY:Museum OPEN 10am-5pm
DESCRIPTION:Summer Hours\n\n\nJune 2 – August 8\nTuesday -Friday 9:30am-4pm\nSaturday 10am-5pm\nClosed Sunday and Monday. \nAdmission is $10 for adults and children 1 year and older.\nPlease visit here to reserve your timed session tickets.\nMembers FREE. Become a member today\, click here.  \n\nAs a 501(c)3 Non-Profit\, our goal is to make memories and create learning opportunities for children in our community.\nYour donation will help children discover\, play\, imagine\, and grow in a safe and nurturing environment. Donate here 
URL:https://woodlandschildrensmuseum.org/event/museum-open-930am-500pm/2027-06-26/
LOCATION:The Woodlands Children’s Museum
END:VEVENT
BEGIN:VEVENT
DTSTART;TZID=America/Chicago:20270629T093000
DTEND;TZID=America/Chicago:20270629T093000
DTSTAMP:20260423T192139
CREATED:20260403T174642Z
LAST-MODIFIED:20260403T174742Z
UID:10021112-1814261400-1814261400@woodlandschildrensmuseum.org
SUMMARY:Museum OPEN 9:30am-4:00pm
DESCRIPTION:Summer Hours\n\n\nJune 2 – August 8\nTuesday -Friday 9:30am-4pm\nSaturday 10am-5pm\nClosed Sunday and Monday. \nAdmission is $10 for adults and children 1 year and older.\nPlease visit here to reserve your timed session tickets.\nMembers FREE. Become a member today\, click here.  \n\nAs a 501(c)3 Non-Profit\, our goal is to make memories and create learning opportunities for children in our community.\nYour donation will help children discover\, play\, imagine\, and grow in a safe and nurturing environment. Donate here 
URL:https://woodlandschildrensmuseum.org/event/museum-open-930am-400pm-2/2027-06-29/
LOCATION:The Woodlands Children’s Museum
END:VEVENT
BEGIN:VEVENT
DTSTART;TZID=America/Chicago:20270630T093000
DTEND;TZID=America/Chicago:20270630T093000
DTSTAMP:20260423T192139
CREATED:20260403T174642Z
LAST-MODIFIED:20260403T174742Z
UID:10021113-1814347800-1814347800@woodlandschildrensmuseum.org
SUMMARY:Museum OPEN 9:30am-4:00pm
DESCRIPTION:Summer Hours\n\n\nJune 2 – August 8\nTuesday -Friday 9:30am-4pm\nSaturday 10am-5pm\nClosed Sunday and Monday. \nAdmission is $10 for adults and children 1 year and older.\nPlease visit here to reserve your timed session tickets.\nMembers FREE. Become a member today\, click here.  \n\nAs a 501(c)3 Non-Profit\, our goal is to make memories and create learning opportunities for children in our community.\nYour donation will help children discover\, play\, imagine\, and grow in a safe and nurturing environment. Donate here 
URL:https://woodlandschildrensmuseum.org/event/museum-open-930am-400pm-2/2027-06-30/
LOCATION:The Woodlands Children’s Museum
END:VEVENT
BEGIN:VEVENT
DTSTART;TZID=America/Chicago:20270701T093000
DTEND;TZID=America/Chicago:20270701T093000
DTSTAMP:20260423T192139
CREATED:20260403T174642Z
LAST-MODIFIED:20260403T174742Z
UID:10021114-1814434200-1814434200@woodlandschildrensmuseum.org
SUMMARY:Museum OPEN 9:30am-4:00pm
DESCRIPTION:Summer Hours\n\n\nJune 2 – August 8\nTuesday -Friday 9:30am-4pm\nSaturday 10am-5pm\nClosed Sunday and Monday. \nAdmission is $10 for adults and children 1 year and older.\nPlease visit here to reserve your timed session tickets.\nMembers FREE. Become a member today\, click here.  \n\nAs a 501(c)3 Non-Profit\, our goal is to make memories and create learning opportunities for children in our community.\nYour donation will help children discover\, play\, imagine\, and grow in a safe and nurturing environment. Donate here 
URL:https://woodlandschildrensmuseum.org/event/museum-open-930am-400pm-2/2027-07-01/
LOCATION:The Woodlands Children’s Museum
END:VEVENT
BEGIN:VEVENT
DTSTART;TZID=America/Chicago:20270702T093000
DTEND;TZID=America/Chicago:20270702T093000
DTSTAMP:20260423T192139
CREATED:20260403T174642Z
LAST-MODIFIED:20260403T174742Z
UID:10021115-1814520600-1814520600@woodlandschildrensmuseum.org
SUMMARY:Museum OPEN 9:30am-4:00pm
DESCRIPTION:Summer Hours\n\n\nJune 2 – August 8\nTuesday -Friday 9:30am-4pm\nSaturday 10am-5pm\nClosed Sunday and Monday. \nAdmission is $10 for adults and children 1 year and older.\nPlease visit here to reserve your timed session tickets.\nMembers FREE. Become a member today\, click here.  \n\nAs a 501(c)3 Non-Profit\, our goal is to make memories and create learning opportunities for children in our community.\nYour donation will help children discover\, play\, imagine\, and grow in a safe and nurturing environment. Donate here 
URL:https://woodlandschildrensmuseum.org/event/museum-open-930am-400pm-2/2027-07-02/
LOCATION:The Woodlands Children’s Museum
END:VEVENT
BEGIN:VEVENT
DTSTART;TZID=America/Chicago:20270703T100000
DTEND;TZID=America/Chicago:20270703T100000
DTSTAMP:20260423T192139
CREATED:20260403T175413Z
LAST-MODIFIED:20260403T175538Z
UID:10021192-1814608800-1814608800@woodlandschildrensmuseum.org
SUMMARY:Museum OPEN 10am-5pm
DESCRIPTION:Summer Hours\n\n\nJune 2 – August 8\nTuesday -Friday 9:30am-4pm\nSaturday 10am-5pm\nClosed Sunday and Monday. \nAdmission is $10 for adults and children 1 year and older.\nPlease visit here to reserve your timed session tickets.\nMembers FREE. Become a member today\, click here.  \n\nAs a 501(c)3 Non-Profit\, our goal is to make memories and create learning opportunities for children in our community.\nYour donation will help children discover\, play\, imagine\, and grow in a safe and nurturing environment. Donate here 
URL:https://woodlandschildrensmuseum.org/event/museum-open-930am-500pm/2027-07-03/
LOCATION:The Woodlands Children’s Museum
END:VEVENT
BEGIN:VEVENT
DTSTART;TZID=America/Chicago:20270706T093000
DTEND;TZID=America/Chicago:20270706T093000
DTSTAMP:20260423T192139
CREATED:20260403T174642Z
LAST-MODIFIED:20260403T174742Z
UID:10021116-1814866200-1814866200@woodlandschildrensmuseum.org
SUMMARY:Museum OPEN 9:30am-4:00pm
DESCRIPTION:Summer Hours\n\n\nJune 2 – August 8\nTuesday -Friday 9:30am-4pm\nSaturday 10am-5pm\nClosed Sunday and Monday. \nAdmission is $10 for adults and children 1 year and older.\nPlease visit here to reserve your timed session tickets.\nMembers FREE. Become a member today\, click here.  \n\nAs a 501(c)3 Non-Profit\, our goal is to make memories and create learning opportunities for children in our community.\nYour donation will help children discover\, play\, imagine\, and grow in a safe and nurturing environment. Donate here 
URL:https://woodlandschildrensmuseum.org/event/museum-open-930am-400pm-2/2027-07-06/
LOCATION:The Woodlands Children’s Museum
END:VEVENT
BEGIN:VEVENT
DTSTART;TZID=America/Chicago:20270707T093000
DTEND;TZID=America/Chicago:20270707T093000
DTSTAMP:20260423T192139
CREATED:20260403T174642Z
LAST-MODIFIED:20260403T174742Z
UID:10021117-1814952600-1814952600@woodlandschildrensmuseum.org
SUMMARY:Museum OPEN 9:30am-4:00pm
DESCRIPTION:Summer Hours\n\n\nJune 2 – August 8\nTuesday -Friday 9:30am-4pm\nSaturday 10am-5pm\nClosed Sunday and Monday. \nAdmission is $10 for adults and children 1 year and older.\nPlease visit here to reserve your timed session tickets.\nMembers FREE. Become a member today\, click here.  \n\nAs a 501(c)3 Non-Profit\, our goal is to make memories and create learning opportunities for children in our community.\nYour donation will help children discover\, play\, imagine\, and grow in a safe and nurturing environment. Donate here 
URL:https://woodlandschildrensmuseum.org/event/museum-open-930am-400pm-2/2027-07-07/
LOCATION:The Woodlands Children’s Museum
END:VEVENT
BEGIN:VEVENT
DTSTART;TZID=America/Chicago:20270708T093000
DTEND;TZID=America/Chicago:20270708T093000
DTSTAMP:20260423T192139
CREATED:20260403T174642Z
LAST-MODIFIED:20260403T174742Z
UID:10021118-1815039000-1815039000@woodlandschildrensmuseum.org
SUMMARY:Museum OPEN 9:30am-4:00pm
DESCRIPTION:Summer Hours\n\n\nJune 2 – August 8\nTuesday -Friday 9:30am-4pm\nSaturday 10am-5pm\nClosed Sunday and Monday. \nAdmission is $10 for adults and children 1 year and older.\nPlease visit here to reserve your timed session tickets.\nMembers FREE. Become a member today\, click here.  \n\nAs a 501(c)3 Non-Profit\, our goal is to make memories and create learning opportunities for children in our community.\nYour donation will help children discover\, play\, imagine\, and grow in a safe and nurturing environment. Donate here 
URL:https://woodlandschildrensmuseum.org/event/museum-open-930am-400pm-2/2027-07-08/
LOCATION:The Woodlands Children’s Museum
END:VEVENT
BEGIN:VEVENT
DTSTART;TZID=America/Chicago:20270709T093000
DTEND;TZID=America/Chicago:20270709T093000
DTSTAMP:20260423T192139
CREATED:20260403T174642Z
LAST-MODIFIED:20260403T174742Z
UID:10021119-1815125400-1815125400@woodlandschildrensmuseum.org
SUMMARY:Museum OPEN 9:30am-4:00pm
DESCRIPTION:Summer Hours\n\n\nJune 2 – August 8\nTuesday -Friday 9:30am-4pm\nSaturday 10am-5pm\nClosed Sunday and Monday. \nAdmission is $10 for adults and children 1 year and older.\nPlease visit here to reserve your timed session tickets.\nMembers FREE. Become a member today\, click here.  \n\nAs a 501(c)3 Non-Profit\, our goal is to make memories and create learning opportunities for children in our community.\nYour donation will help children discover\, play\, imagine\, and grow in a safe and nurturing environment. Donate here 
URL:https://woodlandschildrensmuseum.org/event/museum-open-930am-400pm-2/2027-07-09/
LOCATION:The Woodlands Children’s Museum
END:VEVENT
BEGIN:VEVENT
DTSTART;TZID=America/Chicago:20270710T100000
DTEND;TZID=America/Chicago:20270710T100000
DTSTAMP:20260423T192139
CREATED:20260403T175413Z
LAST-MODIFIED:20260403T175538Z
UID:10021193-1815213600-1815213600@woodlandschildrensmuseum.org
SUMMARY:Museum OPEN 10am-5pm
DESCRIPTION:Summer Hours\n\n\nJune 2 – August 8\nTuesday -Friday 9:30am-4pm\nSaturday 10am-5pm\nClosed Sunday and Monday. \nAdmission is $10 for adults and children 1 year and older.\nPlease visit here to reserve your timed session tickets.\nMembers FREE. Become a member today\, click here.  \n\nAs a 501(c)3 Non-Profit\, our goal is to make memories and create learning opportunities for children in our community.\nYour donation will help children discover\, play\, imagine\, and grow in a safe and nurturing environment. Donate here 
URL:https://woodlandschildrensmuseum.org/event/museum-open-930am-500pm/2027-07-10/
LOCATION:The Woodlands Children’s Museum
END:VEVENT
BEGIN:VEVENT
DTSTART;TZID=America/Chicago:20270713T093000
DTEND;TZID=America/Chicago:20270713T093000
DTSTAMP:20260423T192139
CREATED:20260403T174642Z
LAST-MODIFIED:20260403T174742Z
UID:10021120-1815471000-1815471000@woodlandschildrensmuseum.org
SUMMARY:Museum OPEN 9:30am-4:00pm
DESCRIPTION:Summer Hours\n\n\nJune 2 – August 8\nTuesday -Friday 9:30am-4pm\nSaturday 10am-5pm\nClosed Sunday and Monday. \nAdmission is $10 for adults and children 1 year and older.\nPlease visit here to reserve your timed session tickets.\nMembers FREE. Become a member today\, click here.  \n\nAs a 501(c)3 Non-Profit\, our goal is to make memories and create learning opportunities for children in our community.\nYour donation will help children discover\, play\, imagine\, and grow in a safe and nurturing environment. Donate here 
URL:https://woodlandschildrensmuseum.org/event/museum-open-930am-400pm-2/2027-07-13/
LOCATION:The Woodlands Children’s Museum
END:VEVENT
BEGIN:VEVENT
DTSTART;TZID=America/Chicago:20270714T093000
DTEND;TZID=America/Chicago:20270714T093000
DTSTAMP:20260423T192139
CREATED:20260403T174642Z
LAST-MODIFIED:20260403T174742Z
UID:10021121-1815557400-1815557400@woodlandschildrensmuseum.org
SUMMARY:Museum OPEN 9:30am-4:00pm
DESCRIPTION:Summer Hours\n\n\nJune 2 – August 8\nTuesday -Friday 9:30am-4pm\nSaturday 10am-5pm\nClosed Sunday and Monday. \nAdmission is $10 for adults and children 1 year and older.\nPlease visit here to reserve your timed session tickets.\nMembers FREE. Become a member today\, click here.  \n\nAs a 501(c)3 Non-Profit\, our goal is to make memories and create learning opportunities for children in our community.\nYour donation will help children discover\, play\, imagine\, and grow in a safe and nurturing environment. Donate here 
URL:https://woodlandschildrensmuseum.org/event/museum-open-930am-400pm-2/2027-07-14/
LOCATION:The Woodlands Children’s Museum
END:VEVENT
BEGIN:VEVENT
DTSTART;TZID=America/Chicago:20270715T093000
DTEND;TZID=America/Chicago:20270715T093000
DTSTAMP:20260423T192139
CREATED:20260403T174642Z
LAST-MODIFIED:20260403T174742Z
UID:10021122-1815643800-1815643800@woodlandschildrensmuseum.org
SUMMARY:Museum OPEN 9:30am-4:00pm
DESCRIPTION:Summer Hours\n\n\nJune 2 – August 8\nTuesday -Friday 9:30am-4pm\nSaturday 10am-5pm\nClosed Sunday and Monday. \nAdmission is $10 for adults and children 1 year and older.\nPlease visit here to reserve your timed session tickets.\nMembers FREE. Become a member today\, click here.  \n\nAs a 501(c)3 Non-Profit\, our goal is to make memories and create learning opportunities for children in our community.\nYour donation will help children discover\, play\, imagine\, and grow in a safe and nurturing environment. Donate here 
URL:https://woodlandschildrensmuseum.org/event/museum-open-930am-400pm-2/2027-07-15/
LOCATION:The Woodlands Children’s Museum
END:VEVENT
BEGIN:VEVENT
DTSTART;TZID=America/Chicago:20270716T093000
DTEND;TZID=America/Chicago:20270716T093000
DTSTAMP:20260423T192139
CREATED:20260403T174642Z
LAST-MODIFIED:20260403T174742Z
UID:10021123-1815730200-1815730200@woodlandschildrensmuseum.org
SUMMARY:Museum OPEN 9:30am-4:00pm
DESCRIPTION:Summer Hours\n\n\nJune 2 – August 8\nTuesday -Friday 9:30am-4pm\nSaturday 10am-5pm\nClosed Sunday and Monday. \nAdmission is $10 for adults and children 1 year and older.\nPlease visit here to reserve your timed session tickets.\nMembers FREE. Become a member today\, click here.  \n\nAs a 501(c)3 Non-Profit\, our goal is to make memories and create learning opportunities for children in our community.\nYour donation will help children discover\, play\, imagine\, and grow in a safe and nurturing environment. Donate here 
URL:https://woodlandschildrensmuseum.org/event/museum-open-930am-400pm-2/2027-07-16/
LOCATION:The Woodlands Children’s Museum
END:VEVENT
BEGIN:VEVENT
DTSTART;TZID=America/Chicago:20270717T100000
DTEND;TZID=America/Chicago:20270717T100000
DTSTAMP:20260423T192139
CREATED:20260403T175413Z
LAST-MODIFIED:20260403T175538Z
UID:10021194-1815818400-1815818400@woodlandschildrensmuseum.org
SUMMARY:Museum OPEN 10am-5pm
DESCRIPTION:Summer Hours\n\n\nJune 2 – August 8\nTuesday -Friday 9:30am-4pm\nSaturday 10am-5pm\nClosed Sunday and Monday. \nAdmission is $10 for adults and children 1 year and older.\nPlease visit here to reserve your timed session tickets.\nMembers FREE. Become a member today\, click here.  \n\nAs a 501(c)3 Non-Profit\, our goal is to make memories and create learning opportunities for children in our community.\nYour donation will help children discover\, play\, imagine\, and grow in a safe and nurturing environment. Donate here 
URL:https://woodlandschildrensmuseum.org/event/museum-open-930am-500pm/2027-07-17/
LOCATION:The Woodlands Children’s Museum
END:VEVENT
BEGIN:VEVENT
DTSTART;TZID=America/Chicago:20270720T093000
DTEND;TZID=America/Chicago:20270720T093000
DTSTAMP:20260423T192139
CREATED:20260403T174642Z
LAST-MODIFIED:20260403T174742Z
UID:10021124-1816075800-1816075800@woodlandschildrensmuseum.org
SUMMARY:Museum OPEN 9:30am-4:00pm
DESCRIPTION:Summer Hours\n\n\nJune 2 – August 8\nTuesday -Friday 9:30am-4pm\nSaturday 10am-5pm\nClosed Sunday and Monday. \nAdmission is $10 for adults and children 1 year and older.\nPlease visit here to reserve your timed session tickets.\nMembers FREE. Become a member today\, click here.  \n\nAs a 501(c)3 Non-Profit\, our goal is to make memories and create learning opportunities for children in our community.\nYour donation will help children discover\, play\, imagine\, and grow in a safe and nurturing environment. Donate here 
URL:https://woodlandschildrensmuseum.org/event/museum-open-930am-400pm-2/2027-07-20/
LOCATION:The Woodlands Children’s Museum
END:VEVENT
BEGIN:VEVENT
DTSTART;TZID=America/Chicago:20270721T093000
DTEND;TZID=America/Chicago:20270721T093000
DTSTAMP:20260423T192139
CREATED:20260403T174642Z
LAST-MODIFIED:20260403T174742Z
UID:10021125-1816162200-1816162200@woodlandschildrensmuseum.org
SUMMARY:Museum OPEN 9:30am-4:00pm
DESCRIPTION:Summer Hours\n\n\nJune 2 – August 8\nTuesday -Friday 9:30am-4pm\nSaturday 10am-5pm\nClosed Sunday and Monday. \nAdmission is $10 for adults and children 1 year and older.\nPlease visit here to reserve your timed session tickets.\nMembers FREE. Become a member today\, click here.  \n\nAs a 501(c)3 Non-Profit\, our goal is to make memories and create learning opportunities for children in our community.\nYour donation will help children discover\, play\, imagine\, and grow in a safe and nurturing environment. Donate here 
URL:https://woodlandschildrensmuseum.org/event/museum-open-930am-400pm-2/2027-07-21/
LOCATION:The Woodlands Children’s Museum
END:VEVENT
BEGIN:VEVENT
DTSTART;TZID=America/Chicago:20270722T093000
DTEND;TZID=America/Chicago:20270722T093000
DTSTAMP:20260423T192139
CREATED:20260403T174642Z
LAST-MODIFIED:20260403T174742Z
UID:10021126-1816248600-1816248600@woodlandschildrensmuseum.org
SUMMARY:Museum OPEN 9:30am-4:00pm
DESCRIPTION:Summer Hours\n\n\nJune 2 – August 8\nTuesday -Friday 9:30am-4pm\nSaturday 10am-5pm\nClosed Sunday and Monday. \nAdmission is $10 for adults and children 1 year and older.\nPlease visit here to reserve your timed session tickets.\nMembers FREE. Become a member today\, click here.  \n\nAs a 501(c)3 Non-Profit\, our goal is to make memories and create learning opportunities for children in our community.\nYour donation will help children discover\, play\, imagine\, and grow in a safe and nurturing environment. Donate here 
URL:https://woodlandschildrensmuseum.org/event/museum-open-930am-400pm-2/2027-07-22/
LOCATION:The Woodlands Children’s Museum
END:VEVENT
BEGIN:VEVENT
DTSTART;TZID=America/Chicago:20270723T093000
DTEND;TZID=America/Chicago:20270723T093000
DTSTAMP:20260423T192139
CREATED:20260403T174642Z
LAST-MODIFIED:20260403T174742Z
UID:10021127-1816335000-1816335000@woodlandschildrensmuseum.org
SUMMARY:Museum OPEN 9:30am-4:00pm
DESCRIPTION:Summer Hours\n\n\nJune 2 – August 8\nTuesday -Friday 9:30am-4pm\nSaturday 10am-5pm\nClosed Sunday and Monday. \nAdmission is $10 for adults and children 1 year and older.\nPlease visit here to reserve your timed session tickets.\nMembers FREE. Become a member today\, click here.  \n\nAs a 501(c)3 Non-Profit\, our goal is to make memories and create learning opportunities for children in our community.\nYour donation will help children discover\, play\, imagine\, and grow in a safe and nurturing environment. Donate here 
URL:https://woodlandschildrensmuseum.org/event/museum-open-930am-400pm-2/2027-07-23/
LOCATION:The Woodlands Children’s Museum
END:VEVENT
BEGIN:VEVENT
DTSTART;TZID=America/Chicago:20270724T100000
DTEND;TZID=America/Chicago:20270724T100000
DTSTAMP:20260423T192139
CREATED:20260403T175413Z
LAST-MODIFIED:20260403T175538Z
UID:10021195-1816423200-1816423200@woodlandschildrensmuseum.org
SUMMARY:Museum OPEN 10am-5pm
DESCRIPTION:Summer Hours\n\n\nJune 2 – August 8\nTuesday -Friday 9:30am-4pm\nSaturday 10am-5pm\nClosed Sunday and Monday. \nAdmission is $10 for adults and children 1 year and older.\nPlease visit here to reserve your timed session tickets.\nMembers FREE. Become a member today\, click here.  \n\nAs a 501(c)3 Non-Profit\, our goal is to make memories and create learning opportunities for children in our community.\nYour donation will help children discover\, play\, imagine\, and grow in a safe and nurturing environment. Donate here 
URL:https://woodlandschildrensmuseum.org/event/museum-open-930am-500pm/2027-07-24/
LOCATION:The Woodlands Children’s Museum
END:VEVENT
BEGIN:VEVENT
DTSTART;TZID=America/Chicago:20270727T093000
DTEND;TZID=America/Chicago:20270727T093000
DTSTAMP:20260423T192139
CREATED:20260403T174642Z
LAST-MODIFIED:20260403T174742Z
UID:10021128-1816680600-1816680600@woodlandschildrensmuseum.org
SUMMARY:Museum OPEN 9:30am-4:00pm
DESCRIPTION:Summer Hours\n\n\nJune 2 – August 8\nTuesday -Friday 9:30am-4pm\nSaturday 10am-5pm\nClosed Sunday and Monday. \nAdmission is $10 for adults and children 1 year and older.\nPlease visit here to reserve your timed session tickets.\nMembers FREE. Become a member today\, click here.  \n\nAs a 501(c)3 Non-Profit\, our goal is to make memories and create learning opportunities for children in our community.\nYour donation will help children discover\, play\, imagine\, and grow in a safe and nurturing environment. Donate here 
URL:https://woodlandschildrensmuseum.org/event/museum-open-930am-400pm-2/2027-07-27/
LOCATION:The Woodlands Children’s Museum
END:VEVENT
BEGIN:VEVENT
DTSTART;TZID=America/Chicago:20270728T093000
DTEND;TZID=America/Chicago:20270728T093000
DTSTAMP:20260423T192139
CREATED:20260403T174642Z
LAST-MODIFIED:20260403T174742Z
UID:10021129-1816767000-1816767000@woodlandschildrensmuseum.org
SUMMARY:Museum OPEN 9:30am-4:00pm
DESCRIPTION:Summer Hours\n\n\nJune 2 – August 8\nTuesday -Friday 9:30am-4pm\nSaturday 10am-5pm\nClosed Sunday and Monday. \nAdmission is $10 for adults and children 1 year and older.\nPlease visit here to reserve your timed session tickets.\nMembers FREE. Become a member today\, click here.  \n\nAs a 501(c)3 Non-Profit\, our goal is to make memories and create learning opportunities for children in our community.\nYour donation will help children discover\, play\, imagine\, and grow in a safe and nurturing environment. Donate here 
URL:https://woodlandschildrensmuseum.org/event/museum-open-930am-400pm-2/2027-07-28/
LOCATION:The Woodlands Children’s Museum
END:VEVENT
BEGIN:VEVENT
DTSTART;TZID=America/Chicago:20270729T093000
DTEND;TZID=America/Chicago:20270729T093000
DTSTAMP:20260423T192139
CREATED:20260403T174642Z
LAST-MODIFIED:20260403T174742Z
UID:10021130-1816853400-1816853400@woodlandschildrensmuseum.org
SUMMARY:Museum OPEN 9:30am-4:00pm
DESCRIPTION:Summer Hours\n\n\nJune 2 – August 8\nTuesday -Friday 9:30am-4pm\nSaturday 10am-5pm\nClosed Sunday and Monday. \nAdmission is $10 for adults and children 1 year and older.\nPlease visit here to reserve your timed session tickets.\nMembers FREE. Become a member today\, click here.  \n\nAs a 501(c)3 Non-Profit\, our goal is to make memories and create learning opportunities for children in our community.\nYour donation will help children discover\, play\, imagine\, and grow in a safe and nurturing environment. Donate here 
URL:https://woodlandschildrensmuseum.org/event/museum-open-930am-400pm-2/2027-07-29/
LOCATION:The Woodlands Children’s Museum
END:VEVENT
BEGIN:VEVENT
DTSTART;TZID=America/Chicago:20270730T093000
DTEND;TZID=America/Chicago:20270730T093000
DTSTAMP:20260423T192139
CREATED:20260403T174642Z
LAST-MODIFIED:20260403T174742Z
UID:10021131-1816939800-1816939800@woodlandschildrensmuseum.org
SUMMARY:Museum OPEN 9:30am-4:00pm
DESCRIPTION:Summer Hours\n\n\nJune 2 – August 8\nTuesday -Friday 9:30am-4pm\nSaturday 10am-5pm\nClosed Sunday and Monday. \nAdmission is $10 for adults and children 1 year and older.\nPlease visit here to reserve your timed session tickets.\nMembers FREE. Become a member today\, click here.  \n\nAs a 501(c)3 Non-Profit\, our goal is to make memories and create learning opportunities for children in our community.\nYour donation will help children discover\, play\, imagine\, and grow in a safe and nurturing environment. Donate here 
URL:https://woodlandschildrensmuseum.org/event/museum-open-930am-400pm-2/2027-07-30/
LOCATION:The Woodlands Children’s Museum
END:VEVENT
BEGIN:VEVENT
DTSTART;TZID=America/Chicago:20270731T100000
DTEND;TZID=America/Chicago:20270731T100000
DTSTAMP:20260423T192139
CREATED:20260403T175413Z
LAST-MODIFIED:20260403T175538Z
UID:10021196-1817028000-1817028000@woodlandschildrensmuseum.org
SUMMARY:Museum OPEN 10am-5pm
DESCRIPTION:Summer Hours\n\n\nJune 2 – August 8\nTuesday -Friday 9:30am-4pm\nSaturday 10am-5pm\nClosed Sunday and Monday. \nAdmission is $10 for adults and children 1 year and older.\nPlease visit here to reserve your timed session tickets.\nMembers FREE. Become a member today\, click here.  \n\nAs a 501(c)3 Non-Profit\, our goal is to make memories and create learning opportunities for children in our community.\nYour donation will help children discover\, play\, imagine\, and grow in a safe and nurturing environment. Donate here 
URL:https://woodlandschildrensmuseum.org/event/museum-open-930am-500pm/2027-07-31/
LOCATION:The Woodlands Children’s Museum
END:VEVENT
BEGIN:VEVENT
DTSTART;TZID=America/Chicago:20270803T093000
DTEND;TZID=America/Chicago:20270803T093000
DTSTAMP:20260423T192139
CREATED:20260403T174642Z
LAST-MODIFIED:20260403T174742Z
UID:10021132-1817285400-1817285400@woodlandschildrensmuseum.org
SUMMARY:Museum OPEN 9:30am-4:00pm
DESCRIPTION:Summer Hours\n\n\nJune 2 – August 8\nTuesday -Friday 9:30am-4pm\nSaturday 10am-5pm\nClosed Sunday and Monday. \nAdmission is $10 for adults and children 1 year and older.\nPlease visit here to reserve your timed session tickets.\nMembers FREE. Become a member today\, click here.  \n\nAs a 501(c)3 Non-Profit\, our goal is to make memories and create learning opportunities for children in our community.\nYour donation will help children discover\, play\, imagine\, and grow in a safe and nurturing environment. Donate here 
URL:https://woodlandschildrensmuseum.org/event/museum-open-930am-400pm-2/2027-08-03/
LOCATION:The Woodlands Children’s Museum
END:VEVENT
BEGIN:VEVENT
DTSTART;TZID=America/Chicago:20270804T093000
DTEND;TZID=America/Chicago:20270804T093000
DTSTAMP:20260423T192139
CREATED:20260403T174642Z
LAST-MODIFIED:20260403T174742Z
UID:10021133-1817371800-1817371800@woodlandschildrensmuseum.org
SUMMARY:Museum OPEN 9:30am-4:00pm
DESCRIPTION:Summer Hours\n\n\nJune 2 – August 8\nTuesday -Friday 9:30am-4pm\nSaturday 10am-5pm\nClosed Sunday and Monday. \nAdmission is $10 for adults and children 1 year and older.\nPlease visit here to reserve your timed session tickets.\nMembers FREE. Become a member today\, click here.  \n\nAs a 501(c)3 Non-Profit\, our goal is to make memories and create learning opportunities for children in our community.\nYour donation will help children discover\, play\, imagine\, and grow in a safe and nurturing environment. Donate here 
URL:https://woodlandschildrensmuseum.org/event/museum-open-930am-400pm-2/2027-08-04/
LOCATION:The Woodlands Children’s Museum
END:VEVENT
BEGIN:VEVENT
DTSTART;TZID=America/Chicago:20270805T093000
DTEND;TZID=America/Chicago:20270805T093000
DTSTAMP:20260423T192139
CREATED:20260403T174642Z
LAST-MODIFIED:20260403T174742Z
UID:10021134-1817458200-1817458200@woodlandschildrensmuseum.org
SUMMARY:Museum OPEN 9:30am-4:00pm
DESCRIPTION:Summer Hours\n\n\nJune 2 – August 8\nTuesday -Friday 9:30am-4pm\nSaturday 10am-5pm\nClosed Sunday and Monday. \nAdmission is $10 for adults and children 1 year and older.\nPlease visit here to reserve your timed session tickets.\nMembers FREE. Become a member today\, click here.  \n\nAs a 501(c)3 Non-Profit\, our goal is to make memories and create learning opportunities for children in our community.\nYour donation will help children discover\, play\, imagine\, and grow in a safe and nurturing environment. Donate here 
URL:https://woodlandschildrensmuseum.org/event/museum-open-930am-400pm-2/2027-08-05/
LOCATION:The Woodlands Children’s Museum
END:VEVENT
END:VCALENDAR