BEGIN:VCALENDAR
VERSION:2.0
PRODID:-//The Woodlands Children&#039;s Museum - ECPv6.15.20//NONSGML v1.0//EN
CALSCALE:GREGORIAN
METHOD:PUBLISH
X-ORIGINAL-URL:https://woodlandschildrensmuseum.org
X-WR-CALDESC:Events for The Woodlands Children&#039;s Museum
REFRESH-INTERVAL;VALUE=DURATION:PT1H
X-Robots-Tag:noindex
X-PUBLISHED-TTL:PT1H
BEGIN:VTIMEZONE
TZID:America/Chicago
BEGIN:DAYLIGHT
TZOFFSETFROM:-0600
TZOFFSETTO:-0500
TZNAME:CDT
DTSTART:20250309T080000
END:DAYLIGHT
BEGIN:STANDARD
TZOFFSETFROM:-0500
TZOFFSETTO:-0600
TZNAME:CST
DTSTART:20251102T070000
END:STANDARD
BEGIN:DAYLIGHT
TZOFFSETFROM:-0600
TZOFFSETTO:-0500
TZNAME:CDT
DTSTART:20260308T080000
END:DAYLIGHT
BEGIN:STANDARD
TZOFFSETFROM:-0500
TZOFFSETTO:-0600
TZNAME:CST
DTSTART:20261101T070000
END:STANDARD
BEGIN:DAYLIGHT
TZOFFSETFROM:-0600
TZOFFSETTO:-0500
TZNAME:CDT
DTSTART:20270314T080000
END:DAYLIGHT
BEGIN:STANDARD
TZOFFSETFROM:-0500
TZOFFSETTO:-0600
TZNAME:CST
DTSTART:20271107T070000
END:STANDARD
END:VTIMEZONE
BEGIN:VEVENT
DTSTART;TZID=America/Chicago:20260627T100000
DTEND;TZID=America/Chicago:20260627T100000
DTSTAMP:20260422T221635
CREATED:20260403T175413Z
LAST-MODIFIED:20260403T175538Z
UID:10021139-1782554400-1782554400@woodlandschildrensmuseum.org
SUMMARY:Museum OPEN 10am-5pm
DESCRIPTION:Summer Hours\n\n\nJune 2 – August 8\nTuesday -Friday 9:30am-4pm\nSaturday 10am-5pm\nClosed Sunday and Monday. \nAdmission is $10 for adults and children 1 year and older.\nPlease visit here to reserve your timed session tickets.\nMembers FREE. Become a member today\, click here.  \n\nAs a 501(c)3 Non-Profit\, our goal is to make memories and create learning opportunities for children in our community.\nYour donation will help children discover\, play\, imagine\, and grow in a safe and nurturing environment. Donate here 
URL:https://woodlandschildrensmuseum.org/event/museum-open-930am-500pm/2026-06-27/
LOCATION:The Woodlands Children’s Museum
END:VEVENT
BEGIN:VEVENT
DTSTART;TZID=America/Chicago:20260627T100000
DTEND;TZID=America/Chicago:20260627T140000
DTSTAMP:20260422T221635
CREATED:20260403T194147Z
LAST-MODIFIED:20260410T223456Z
UID:10021240-1782554400-1782568800@woodlandschildrensmuseum.org
SUMMARY:Fairy Day 10am-2pm
DESCRIPTION:Fairy Day\, Saturday\, June 27th 10am-2pm. Celebrate International Fairy Day with a magical visit by the endearing Tinkerbell\, providing photo opportunities at 10:30am\, 11:30am\, 12:30pm\, and 1:30pm. Children will be enchanted by face painting\, creating their own fairy wings and all adults and children are encouraged to wear their best fairy outfits.\nMember and Non-Member Children 0-13 $6 plus admission. Museum open ONLY for this event. General admission 2pm-5pm. \nSpecial Storytimes for Fairy Day at 11am “Camilla the Cupcake Fairy” by Tim Bugbird. This precious cupcake fairy is challenged by not being experienced in using her very first wand. However\, by keeping at it with the help of her fairy friends\, they create the perfect cupcake with their perfect friendship! Then at 1pm “Fairy Science” by Ashley Spires. All the fairies in Pixieville believe in magic except for Esther\, who believes in science! When a tree stops growing\, Esther gets “to the root of the problem” by using science. \n \nSummer Hours June 2nd – August 8th\nTuesday-Friday 9:30am-4:00pm\, Saturday 10:00am-5:00pm. Closed Sunday and Monday. \n\nAs a 501(c)3 Non-Profit\, our goal is to make memories and create learning opportunities for children in our community.\nYour donation will help children discover\, play\, imagine\, and grow in a safe and nurturing environment. Donate here. 
URL:https://woodlandschildrensmuseum.org/event/fairy-day-10am-2pm-3/
LOCATION:The Woodlands Children’s Museum
END:VEVENT
BEGIN:VEVENT
DTSTART;TZID=America/Chicago:20260627T140000
DTEND;TZID=America/Chicago:20260627T170000
DTSTAMP:20260422T221635
CREATED:20260403T194358Z
LAST-MODIFIED:20260403T194415Z
UID:10021242-1782568800-1782579600@woodlandschildrensmuseum.org
SUMMARY:Museum Open General Admission 2pm-5pm
DESCRIPTION:Summer Hours\nJune 2 – August 8\nTuesday -Friday 9:30am-4pm\nSaturday 10am-5pm\nClosed Sunday and Monday.\n\n\nAdmission is $10 for adults and children 1 year and older.\nPlease visit here to reserve your timed session tickets.\nMembers FREE. Become a member today\, click here.  \n\nAs a 501(c)3 Non-Profit\, our goal is to make memories and create learning opportunities for children in our community.\nYour donation will help children discover\, play\, imagine\, and grow in a safe and nurturing environment. Donate here 
URL:https://woodlandschildrensmuseum.org/event/museum-open-general-admission-2pm-5pm/
LOCATION:The Woodlands Children’s Museum
END:VEVENT
END:VCALENDAR