BEGIN:VCALENDAR
VERSION:2.0
PRODID:-//The Woodlands Children&#039;s Museum - ECPv6.15.20//NONSGML v1.0//EN
CALSCALE:GREGORIAN
METHOD:PUBLISH
X-ORIGINAL-URL:https://woodlandschildrensmuseum.org
X-WR-CALDESC:Events for The Woodlands Children&#039;s Museum
REFRESH-INTERVAL;VALUE=DURATION:PT1H
X-Robots-Tag:noindex
X-PUBLISHED-TTL:PT1H
BEGIN:VTIMEZONE
TZID:America/Chicago
BEGIN:DAYLIGHT
TZOFFSETFROM:-0600
TZOFFSETTO:-0500
TZNAME:CDT
DTSTART:20250309T080000
END:DAYLIGHT
BEGIN:STANDARD
TZOFFSETFROM:-0500
TZOFFSETTO:-0600
TZNAME:CST
DTSTART:20251102T070000
END:STANDARD
BEGIN:DAYLIGHT
TZOFFSETFROM:-0600
TZOFFSETTO:-0500
TZNAME:CDT
DTSTART:20260308T080000
END:DAYLIGHT
BEGIN:STANDARD
TZOFFSETFROM:-0500
TZOFFSETTO:-0600
TZNAME:CST
DTSTART:20261101T070000
END:STANDARD
BEGIN:DAYLIGHT
TZOFFSETFROM:-0600
TZOFFSETTO:-0500
TZNAME:CDT
DTSTART:20270314T080000
END:DAYLIGHT
BEGIN:STANDARD
TZOFFSETFROM:-0500
TZOFFSETTO:-0600
TZNAME:CST
DTSTART:20271107T070000
END:STANDARD
END:VTIMEZONE
BEGIN:VEVENT
DTSTART;TZID=America/Chicago:20260620T100000
DTEND;TZID=America/Chicago:20260620T100000
DTSTAMP:20260422T221636
CREATED:20260403T175413Z
LAST-MODIFIED:20260403T175538Z
UID:10021138-1781949600-1781949600@woodlandschildrensmuseum.org
SUMMARY:Museum OPEN 10am-5pm
DESCRIPTION:Summer Hours\n\n\nJune 2 – August 8\nTuesday -Friday 9:30am-4pm\nSaturday 10am-5pm\nClosed Sunday and Monday. \nAdmission is $10 for adults and children 1 year and older.\nPlease visit here to reserve your timed session tickets.\nMembers FREE. Become a member today\, click here.  \n\nAs a 501(c)3 Non-Profit\, our goal is to make memories and create learning opportunities for children in our community.\nYour donation will help children discover\, play\, imagine\, and grow in a safe and nurturing environment. Donate here 
URL:https://woodlandschildrensmuseum.org/event/museum-open-930am-500pm/2026-06-20/
LOCATION:The Woodlands Children’s Museum
END:VEVENT
BEGIN:VEVENT
DTSTART;TZID=America/Chicago:20260620T100000
DTEND;TZID=America/Chicago:20260620T140000
DTSTAMP:20260422T221636
CREATED:20260403T200339Z
LAST-MODIFIED:20260413T182136Z
UID:10021243-1781949600-1781964000@woodlandschildrensmuseum.org
SUMMARY:Dads\, Dinos\, and Donuts Day 10am-2pm
DESCRIPTION:Dads\, Dinos and Donuts Day\nSaturday\, June 20th 10am-2pm.\nCelebrate Father’s Day and National Dinosaur Day with DIY photo opportunities while singing along during children’s musician Andyroo and the Andyrooniverse performances at 10:30am\, 11:30am\, 12:30pm\, and 1:30pm. Create a Dinosaur Hat art project\, and a Nuts ‘n Bolts Key Chain. Enjoy donut holes and coffee bar from 10am-noon. Special storytime at 11:00am “How to Catch a Daddysaurus” by Alice Walstead. There’s a mystical creature with amazing qualities such as kindness\, bravery\, and humor—the Daddysaurus! But how can he be captured? Included in the price of admission\, which is $10 for adults and children 1 year and older. bit.ly/TWCMtickets \n \n\nSummer Hours\nJune 2 – August 8\nTuesday -Friday 9:30am-4pm\nSaturday 10am-5pm\nClosed Sunday and Monday.\n\n\nAdmission is $10 for adults and children 1 year and older.\nPlease visit here to reserve your timed session tickets.\nMembers FREE. Become a member today\, click here.  \n\nAs a 501(c)3 Non-Profit\, our goal is to make memories and create learning opportunities for children in our community.\nYour donation will help children discover\, play\, imagine\, and grow in a safe and nurturing environment. Donate here 
URL:https://woodlandschildrensmuseum.org/event/dads-dinos-and-donuts-day-10am-2pm/
LOCATION:The Woodlands Children’s Museum
END:VEVENT
END:VCALENDAR