BEGIN:VCALENDAR
VERSION:2.0
PRODID:-//The Woodlands Children&#039;s Museum - ECPv6.15.20//NONSGML v1.0//EN
CALSCALE:GREGORIAN
METHOD:PUBLISH
X-ORIGINAL-URL:https://woodlandschildrensmuseum.org
X-WR-CALDESC:Events for The Woodlands Children&#039;s Museum
REFRESH-INTERVAL;VALUE=DURATION:PT1H
X-Robots-Tag:noindex
X-PUBLISHED-TTL:PT1H
BEGIN:VTIMEZONE
TZID:America/Chicago
BEGIN:DAYLIGHT
TZOFFSETFROM:-0600
TZOFFSETTO:-0500
TZNAME:CDT
DTSTART:20250309T080000
END:DAYLIGHT
BEGIN:STANDARD
TZOFFSETFROM:-0500
TZOFFSETTO:-0600
TZNAME:CST
DTSTART:20251102T070000
END:STANDARD
BEGIN:DAYLIGHT
TZOFFSETFROM:-0600
TZOFFSETTO:-0500
TZNAME:CDT
DTSTART:20260308T080000
END:DAYLIGHT
BEGIN:STANDARD
TZOFFSETFROM:-0500
TZOFFSETTO:-0600
TZNAME:CST
DTSTART:20261101T070000
END:STANDARD
BEGIN:DAYLIGHT
TZOFFSETFROM:-0600
TZOFFSETTO:-0500
TZNAME:CDT
DTSTART:20270314T080000
END:DAYLIGHT
BEGIN:STANDARD
TZOFFSETFROM:-0500
TZOFFSETTO:-0600
TZNAME:CST
DTSTART:20271107T070000
END:STANDARD
END:VTIMEZONE
BEGIN:VEVENT
DTSTART;TZID=America/Chicago:20260611T093000
DTEND;TZID=America/Chicago:20260611T093000
DTSTAMP:20260422T221635
CREATED:20260403T174642Z
LAST-MODIFIED:20260403T174742Z
UID:10020894-1781170200-1781170200@woodlandschildrensmuseum.org
SUMMARY:Museum OPEN 9:30am-4:00pm
DESCRIPTION:Summer Hours\n\n\nJune 2 – August 8\nTuesday -Friday 9:30am-4pm\nSaturday 10am-5pm\nClosed Sunday and Monday. \nAdmission is $10 for adults and children 1 year and older.\nPlease visit here to reserve your timed session tickets.\nMembers FREE. Become a member today\, click here.  \n\nAs a 501(c)3 Non-Profit\, our goal is to make memories and create learning opportunities for children in our community.\nYour donation will help children discover\, play\, imagine\, and grow in a safe and nurturing environment. Donate here 
URL:https://woodlandschildrensmuseum.org/event/museum-open-930am-400pm-2/2026-06-11/
LOCATION:The Woodlands Children’s Museum
END:VEVENT
BEGIN:VEVENT
DTSTART;TZID=America/Chicago:20260611T110000
DTEND;TZID=America/Chicago:20260611T110000
DTSTAMP:20260422T221635
CREATED:20260403T203722Z
LAST-MODIFIED:20260410T225113Z
UID:10021252-1781175600-1781175600@woodlandschildrensmuseum.org
SUMMARY:Shadow Puppet Theatre-Mela and the Elephant
DESCRIPTION:Shadow Puppet Theatre\, Thursday\, June 11 at 11am presents “Mela and the Elephant” by Dow Phumiruk. This beautiful story set in Thailand is about Mela\, who ventures outside her village to explore but encounters trouble when her little boat is swept downstream into the jungle. She is unsuccessful in getting help to return home from the jungle creatures she encounters until an elephant appears and teaches Mela a lesson about kindness. Included in the price of admission\, which is $10 for adults and children 1 year and older. bit.ly/TWCMtickets  #ToddlerMom #WoodlandsMom #TheWoodlandsChildrens \nShadow Puppet Theatre is an introduction to storytelling elements that allow our readers and audience to interact directly with each other. Children of all ages are enchanted with the animated shadows. \nSummer Hours: June 2 – August 8.  Tuesday -Friday 9:30am-4pm\,  Saturday 10am-5pm\,  Closed Sunday and Monday.\n\n\nAdmission is $10 for adults and children 1 year and older.\nPlease visit here to reserve your timed session tickets.\nMembers FREE. Become a member today\, click here.  \n\nAs a 501(c)3 Non-Profit\, our goal is to make memories and create learning opportunities for children in our community.\nYour donation will help children discover\, play\, imagine\, and grow in a safe and nurturing environment. Donate here 
URL:https://woodlandschildrensmuseum.org/event/shadow-puppet-theatre-167/
LOCATION:The Woodlands Children’s Museum
END:VEVENT
END:VCALENDAR