BEGIN:VCALENDAR
VERSION:2.0
PRODID:-//The Woodlands Children&#039;s Museum - ECPv6.15.20//NONSGML v1.0//EN
CALSCALE:GREGORIAN
METHOD:PUBLISH
X-ORIGINAL-URL:https://woodlandschildrensmuseum.org
X-WR-CALDESC:Events for The Woodlands Children&#039;s Museum
REFRESH-INTERVAL;VALUE=DURATION:PT1H
X-Robots-Tag:noindex
X-PUBLISHED-TTL:PT1H
BEGIN:VTIMEZONE
TZID:America/Chicago
BEGIN:DAYLIGHT
TZOFFSETFROM:-0600
TZOFFSETTO:-0500
TZNAME:CDT
DTSTART:20250309T080000
END:DAYLIGHT
BEGIN:STANDARD
TZOFFSETFROM:-0500
TZOFFSETTO:-0600
TZNAME:CST
DTSTART:20251102T070000
END:STANDARD
BEGIN:DAYLIGHT
TZOFFSETFROM:-0600
TZOFFSETTO:-0500
TZNAME:CDT
DTSTART:20260308T080000
END:DAYLIGHT
BEGIN:STANDARD
TZOFFSETFROM:-0500
TZOFFSETTO:-0600
TZNAME:CST
DTSTART:20261101T070000
END:STANDARD
BEGIN:DAYLIGHT
TZOFFSETFROM:-0600
TZOFFSETTO:-0500
TZNAME:CDT
DTSTART:20270314T080000
END:DAYLIGHT
BEGIN:STANDARD
TZOFFSETFROM:-0500
TZOFFSETTO:-0600
TZNAME:CST
DTSTART:20271107T070000
END:STANDARD
END:VTIMEZONE
BEGIN:VEVENT
DTSTART;TZID=America/Chicago:20260424T080000
DTEND;TZID=America/Chicago:20260424T170000
DTSTAMP:20260422T183504
CREATED:20251124T165036Z
LAST-MODIFIED:20251124T165036Z
UID:10020675-1777017600-1777050000@woodlandschildrensmuseum.org
SUMMARY:Museum OPEN 9:30am-4:00pm
DESCRIPTION:Spring Hours Jan. 2nd – May 30th\nTuesday – Thursday 9:30am-2:00pm\nFriday 9:30am-4:00pm\nSaturday 10:00am-5:00pm\nClosed Sunday and Monday \nAdmission is $9 for adults and children 1 year and older.\nPlease visit here to reserve your timed session tickets.\nMembers FREE. Become a member today\, click here.  \n\nAs a 501(c)3 Non-Profit\, our goal is to make memories and create learning opportunities for children in our community.\nYour donation will help children discover\, play\, imagine\, and grow in a safe and nurturing environment. Donate here 
URL:https://woodlandschildrensmuseum.org/event/museum-open-930am-400pm/2026-04-24/
LOCATION:The Woodlands Children’s Museum
END:VEVENT
BEGIN:VEVENT
DTSTART;TZID=America/Chicago:20260424T110000
DTEND;TZID=America/Chicago:20260424T110000
DTSTAMP:20260422T183504
CREATED:20260227T214952Z
LAST-MODIFIED:20260227T215343Z
UID:10020864-1777028400-1777028400@woodlandschildrensmuseum.org
SUMMARY:Children’s Day/Book Day special readings
DESCRIPTION:On April 24 at 11am we will be celebrating Children’s Day/Book Day (Celebremos El día de los niños/El día de los libros)\, with two special books. First\, enjoy  “Book Fiesta!: Celebrate Children’s Day/Book Day (Celebremos El día de los niños/El día de los libros)”\, by Pat Mora. Miss Jan and Miss Maria will be reading this joyful book together in English and Spanish to celebrate Children’s Day/Book Day (El día de los niῆos/El día de los libros). The story encourages children to explore the world of books wherever they are!  This special day (which falls on April 30) highlights the importance of literacy for children of all linguistic and cultural backgrounds. Then enjoy “Goodnight\, Moon/Bonsoir Lune’ by Margaret Wise Brown. This classic story in English and French as the little bunny says “goodnight”/“bonsoir” to everything in his room!  Included in the price of admission\, which is $9 for adults and children 1 year and older. bit.ly/TWCMtickets  #ToddlerMom #Art #ChildrensMuseum #TheWoodlands #WoodlandsMom #BookReading #StoryTime #TheWoodlandsChildrensMuseum \nAcompáñanos a celebrar el Día de los Niños y de los Libros!\nEl 24 de abril a las 11:00 a. m.\, celebraremos el “Día de los niños/El día de los libros” con la lectura de dos cuentos muy especiales: \n\n\n“Book Fiesta!: Celebrate Children’s Day/Book Day / ¡Fiesta de los libros!: Celebremos El día de los niños/El día de los libros” de Pat Mora. Las maestras Jan y Maria leerán juntas esta alegre historia en inglés y español. El libro anima a los niños a explorar el mundo de la lectura sin importar dónde se encuentren. Esta celebración (que oficialmente es el 30 de abril) resalta la importancia de la alfabetización en niños de todos los orígenes lingüísticos y culturales. \n\n\n“Goodnight\, Moon / Bonsoir Lune” de Margaret Wise Brown. Disfrutaremos de este clásico en inglés y francés\, mientras un pequeño conejito le dice “buenas noches” (goodnight/bonsoir) a todo lo que hay en su habitación. \n\n\n  \n  \nSpring Hours Jan. 2nd – May 30th\nTuesday – Thursday 9:30am-2:00pm\nFriday 9:30am-4:00pm\nSaturday 10:00am-5:00pm\nClosed Sunday and Monday \n\nAs a 501(c)3 Non-Profit\, our goal is to make memories and create learning opportunities for children in our community.\nYour donation will help children discover\, play\, imagine\, and grow in a safe and nurturing environment. Donate here. 
URL:https://woodlandschildrensmuseum.org/event/childrens-day-book-day-special-readings/
LOCATION:The Woodlands Children’s Museum
END:VEVENT
END:VCALENDAR