BEGIN:VCALENDAR
VERSION:2.0
PRODID:-//The Woodlands Children&#039;s Museum - ECPv6.15.20//NONSGML v1.0//EN
CALSCALE:GREGORIAN
METHOD:PUBLISH
X-WR-CALNAME:The Woodlands Children&#039;s Museum
X-ORIGINAL-URL:https://woodlandschildrensmuseum.org
X-WR-CALDESC:Events for The Woodlands Children&#039;s Museum
REFRESH-INTERVAL;VALUE=DURATION:PT1H
X-Robots-Tag:noindex
X-PUBLISHED-TTL:PT1H
BEGIN:VTIMEZONE
TZID:America/Chicago
BEGIN:DAYLIGHT
TZOFFSETFROM:-0600
TZOFFSETTO:-0500
TZNAME:CDT
DTSTART:20250309T080000
END:DAYLIGHT
BEGIN:STANDARD
TZOFFSETFROM:-0500
TZOFFSETTO:-0600
TZNAME:CST
DTSTART:20251102T070000
END:STANDARD
BEGIN:DAYLIGHT
TZOFFSETFROM:-0600
TZOFFSETTO:-0500
TZNAME:CDT
DTSTART:20260308T080000
END:DAYLIGHT
BEGIN:STANDARD
TZOFFSETFROM:-0500
TZOFFSETTO:-0600
TZNAME:CST
DTSTART:20261101T070000
END:STANDARD
BEGIN:DAYLIGHT
TZOFFSETFROM:-0600
TZOFFSETTO:-0500
TZNAME:CDT
DTSTART:20270314T080000
END:DAYLIGHT
BEGIN:STANDARD
TZOFFSETFROM:-0500
TZOFFSETTO:-0600
TZNAME:CST
DTSTART:20271107T070000
END:STANDARD
END:VTIMEZONE
BEGIN:VEVENT
DTSTART;TZID=America/Chicago:20260417T080000
DTEND;TZID=America/Chicago:20260417T170000
DTSTAMP:20260422T183309
CREATED:20251124T165036Z
LAST-MODIFIED:20251124T165036Z
UID:10020674-1776412800-1776445200@woodlandschildrensmuseum.org
SUMMARY:Museum OPEN 9:30am-4:00pm
DESCRIPTION:Spring Hours Jan. 2nd – May 30th\nTuesday – Thursday 9:30am-2:00pm\nFriday 9:30am-4:00pm\nSaturday 10:00am-5:00pm\nClosed Sunday and Monday \nAdmission is $9 for adults and children 1 year and older.\nPlease visit here to reserve your timed session tickets.\nMembers FREE. Become a member today\, click here.  \n\nAs a 501(c)3 Non-Profit\, our goal is to make memories and create learning opportunities for children in our community.\nYour donation will help children discover\, play\, imagine\, and grow in a safe and nurturing environment. Donate here 
URL:https://woodlandschildrensmuseum.org/event/museum-open-930am-400pm/2026-04-17/
LOCATION:The Woodlands Children’s Museum
END:VEVENT
BEGIN:VEVENT
DTSTART;TZID=America/Chicago:20260417T110000
DTEND;TZID=America/Chicago:20260417T110000
DTSTAMP:20260422T183309
CREATED:20260227T213959Z
LAST-MODIFIED:20260227T214004Z
UID:10020863-1776423600-1776423600@woodlandschildrensmuseum.org
SUMMARY:Author Visit with Barbara Belzer Adams who will read Who’s a Good Duck?
DESCRIPTION:Author visit on April 17 at 11am with Barbara Belzer Adams\, who will read Who’s a Good Duck? This sweet book is inspired by a true story about a woman and a duck with an injured wing who develop an unlikely friendship. Author Barbara Belzer Adams will read\, then sell and sign her books until 12:15pm. Included in the price of admission\, which is $9 for adults and children 1 year and older. bit.ly/TWCMtickets  #ToddlerMom #Art #ChildrensMuseum #TheWoodlands #WoodlandsMom #BookReading #StoryTime #TheWoodlandsChildrensMuseum \n  \nSpring Hours Jan. 2nd – May 30th\nTuesday – Thursday 9:30am-2:00pm\nFriday 9:30am-4:00pm\nSaturday 10:00am-5:00pm\nClosed Sunday and Monday \n\nAs a 501(c)3 Non-Profit\, our goal is to make memories and create learning opportunities for children in our community.\nYour donation will help children discover\, play\, imagine\, and grow in a safe and nurturing environment. Donate here. 
URL:https://woodlandschildrensmuseum.org/event/author-visit-with-barbara-belzer-adams-who-will-read-whos-a-good-duck/
LOCATION:The Woodlands Children’s Museum
END:VEVENT
END:VCALENDAR