BEGIN:VCALENDAR
VERSION:2.0
PRODID:-//The Woodlands Children&#039;s Museum - ECPv6.15.20//NONSGML v1.0//EN
CALSCALE:GREGORIAN
METHOD:PUBLISH
X-ORIGINAL-URL:https://woodlandschildrensmuseum.org
X-WR-CALDESC:Events for The Woodlands Children&#039;s Museum
REFRESH-INTERVAL;VALUE=DURATION:PT1H
X-Robots-Tag:noindex
X-PUBLISHED-TTL:PT1H
BEGIN:VTIMEZONE
TZID:America/Chicago
BEGIN:DAYLIGHT
TZOFFSETFROM:-0600
TZOFFSETTO:-0500
TZNAME:CDT
DTSTART:20250309T080000
END:DAYLIGHT
BEGIN:STANDARD
TZOFFSETFROM:-0500
TZOFFSETTO:-0600
TZNAME:CST
DTSTART:20251102T070000
END:STANDARD
BEGIN:DAYLIGHT
TZOFFSETFROM:-0600
TZOFFSETTO:-0500
TZNAME:CDT
DTSTART:20260308T080000
END:DAYLIGHT
BEGIN:STANDARD
TZOFFSETFROM:-0500
TZOFFSETTO:-0600
TZNAME:CST
DTSTART:20261101T070000
END:STANDARD
BEGIN:DAYLIGHT
TZOFFSETFROM:-0600
TZOFFSETTO:-0500
TZNAME:CDT
DTSTART:20270314T080000
END:DAYLIGHT
BEGIN:STANDARD
TZOFFSETFROM:-0500
TZOFFSETTO:-0600
TZNAME:CST
DTSTART:20271107T070000
END:STANDARD
END:VTIMEZONE
BEGIN:VEVENT
DTSTART;TZID=America/Chicago:20260403T080000
DTEND;TZID=America/Chicago:20260403T170000
DTSTAMP:20260422T184036
CREATED:20251124T165036Z
LAST-MODIFIED:20251124T165036Z
UID:10020672-1775203200-1775235600@woodlandschildrensmuseum.org
SUMMARY:Museum OPEN 9:30am-4:00pm
DESCRIPTION:Spring Hours Jan. 2nd – May 30th\nTuesday – Thursday 9:30am-2:00pm\nFriday 9:30am-4:00pm\nSaturday 10:00am-5:00pm\nClosed Sunday and Monday \nAdmission is $9 for adults and children 1 year and older.\nPlease visit here to reserve your timed session tickets.\nMembers FREE. Become a member today\, click here.  \n\nAs a 501(c)3 Non-Profit\, our goal is to make memories and create learning opportunities for children in our community.\nYour donation will help children discover\, play\, imagine\, and grow in a safe and nurturing environment. Donate here 
URL:https://woodlandschildrensmuseum.org/event/museum-open-930am-400pm/2026-04-03/
LOCATION:The Woodlands Children’s Museum
END:VEVENT
BEGIN:VEVENT
DTSTART;TZID=America/Chicago:20260403T093000
DTEND;TZID=America/Chicago:20260403T150000
DTSTAMP:20260422T184036
CREATED:20260218T210710Z
LAST-MODIFIED:20260306T214655Z
UID:10020786-1775208600-1775228400@woodlandschildrensmuseum.org
SUMMARY:EggTivities 9:30am-3:00pm
DESCRIPTION:EggTivities\nFriday\, April 3rd\, 9:30am-3:00pm and Saturday\, April 4th\, 10:00am-2:00pm. EggTivities features a special DIY photo opportunity with the Easter Bunny!  Children will delight in creating a bunny mask\, while dyeing a real hard-boiled egg and embellishing a bunny box to carry the egg. Member and Non-Member Children 0-13 $6 plus admission.\nClick for tickets.  \nEggTivities readings:\n11:00am “How to Catch the Easter Bunny” by Adam Wallace. It’s one thing to find the hidden eggs\, but can you catch the Easter Bunny? He has a knack for staying hidden\, and he does have “SUPERSONIC ears” and “lucky rabbit’s feet”! Join us for this delightful\, adventurous story! \n1:00pm “Bear Finds Eggs’ by Karma Wilson. From the beloved “Bear” series\, Bear and his friends hunt for Mama Meadowlark’s missing eggs\, painting all the eggs they find with bright colors so they don’t get lost again. Hare holds onto the eggs in his basket. Will they be able to get all the eggs back to the mama? \n \nSpring Hours Jan. 2nd – May 30th\nTuesday – Thursday 9:30am-2:00pm\nFriday 9:30am-4:00pm\nSaturday 10:00am-5:00pm\nClosed Sunday and Monday \n\nAs a 501(c)3 Non-Profit\, our goal is to make memories and create learning opportunities for children in our community.\nYour donation will help children discover\, play\, imagine\, and grow in a safe and nurturing environment. Donate here. 
URL:https://woodlandschildrensmuseum.org/event/eggtivities-930am-300pm/
LOCATION:The Woodlands Children’s Museum
END:VEVENT
END:VCALENDAR