BEGIN:VCALENDAR
VERSION:2.0
PRODID:-//The Woodlands Children&#039;s Museum - ECPv6.15.20//NONSGML v1.0//EN
CALSCALE:GREGORIAN
METHOD:PUBLISH
X-ORIGINAL-URL:https://woodlandschildrensmuseum.org
X-WR-CALDESC:Events for The Woodlands Children&#039;s Museum
REFRESH-INTERVAL;VALUE=DURATION:PT1H
X-Robots-Tag:noindex
X-PUBLISHED-TTL:PT1H
BEGIN:VTIMEZONE
TZID:America/Chicago
BEGIN:DAYLIGHT
TZOFFSETFROM:-0600
TZOFFSETTO:-0500
TZNAME:CDT
DTSTART:20240310T080000
END:DAYLIGHT
BEGIN:STANDARD
TZOFFSETFROM:-0500
TZOFFSETTO:-0600
TZNAME:CST
DTSTART:20241103T070000
END:STANDARD
BEGIN:DAYLIGHT
TZOFFSETFROM:-0600
TZOFFSETTO:-0500
TZNAME:CDT
DTSTART:20250309T080000
END:DAYLIGHT
BEGIN:STANDARD
TZOFFSETFROM:-0500
TZOFFSETTO:-0600
TZNAME:CST
DTSTART:20251102T070000
END:STANDARD
BEGIN:DAYLIGHT
TZOFFSETFROM:-0600
TZOFFSETTO:-0500
TZNAME:CDT
DTSTART:20260308T080000
END:DAYLIGHT
BEGIN:STANDARD
TZOFFSETFROM:-0500
TZOFFSETTO:-0600
TZNAME:CST
DTSTART:20261101T070000
END:STANDARD
END:VTIMEZONE
BEGIN:VEVENT
DTSTART;TZID=America/Chicago:20251018T100000
DTEND;TZID=America/Chicago:20251018T170000
DTSTAMP:20260423T050323
CREATED:20250908T174725Z
LAST-MODIFIED:20250908T193427Z
UID:10020064-1760781600-1760806800@woodlandschildrensmuseum.org
SUMMARY:Museum Open
DESCRIPTION:Fall Hours: August 12th-December 30th\nTuesday-Thursday 9:30am-2:00pm\, Friday 9:30am-4:00pm\, Saturday 10:00am-5:00pm\nClosed Sunday and Monday \nAdmission is $9 for adults and children 1 year and older. Please visit here to reserve your timed session tickets. \nMembers FREE. Become a member today\, click here.  \n\nAs a 501(c)3 Non-Profit\, our goal is to make memories and create learning opportunities for children in our community.\nYour donation will help children discover\, play\, imagine\, and grow in a safe and nurturing environment. Donate here 
URL:https://woodlandschildrensmuseum.org/event/museum-open-35/2025-10-18/
LOCATION:The Woodlands Children’s Museum
END:VEVENT
BEGIN:VEVENT
DTSTART;TZID=America/Chicago:20251018T123000
DTEND;TZID=America/Chicago:20251018T143000
DTSTAMP:20260423T050323
CREATED:20251006T182507Z
LAST-MODIFIED:20251016T154236Z
UID:10020134-1760790600-1760797800@woodlandschildrensmuseum.org
SUMMARY:Spotlight Academy dance performances
DESCRIPTION:Spotlight Academy dancers will be performing in celebration of Diwali on Saturday\, October 18th\, at 12:30pm\, and 1:30pm. \n Included in the price of admission\, which is $9 for adults and children 1 year and older. bit.ly/TWCMtickets #ToddlerMom #Art #ChildrensMuseum #TheWoodlands #WoodlandsMom  #TheWoodlandsChildrensMuseum \nFall Hours\nTuesday-Thursday 9:30am-2:00pm\, Friday 9:30am-4:00pm\, Saturday 10:00am-5:00pm\nClosed Sunday and Monday \n\nAs a 501(c)3 Non-Profit\, our goal is to make memories and create learning opportunities for children in our community.\nYour donation will help children discover\, play\, imagine\, and grow in a safe and nurturing environment. Donate here. 
URL:https://woodlandschildrensmuseum.org/event/spotlight-academy-dance-performances/
LOCATION:The Woodlands Children’s Museum
END:VEVENT
END:VCALENDAR