BEGIN:VCALENDAR
VERSION:2.0
PRODID:-//The Woodlands Children&#039;s Museum - ECPv6.15.20//NONSGML v1.0//EN
CALSCALE:GREGORIAN
METHOD:PUBLISH
X-ORIGINAL-URL:https://woodlandschildrensmuseum.org
X-WR-CALDESC:Events for The Woodlands Children&#039;s Museum
REFRESH-INTERVAL;VALUE=DURATION:PT1H
X-Robots-Tag:noindex
X-PUBLISHED-TTL:PT1H
BEGIN:VTIMEZONE
TZID:America/Chicago
BEGIN:DAYLIGHT
TZOFFSETFROM:-0600
TZOFFSETTO:-0500
TZNAME:CDT
DTSTART:20220313T080000
END:DAYLIGHT
BEGIN:STANDARD
TZOFFSETFROM:-0500
TZOFFSETTO:-0600
TZNAME:CST
DTSTART:20221106T070000
END:STANDARD
BEGIN:DAYLIGHT
TZOFFSETFROM:-0600
TZOFFSETTO:-0500
TZNAME:CDT
DTSTART:20230312T080000
END:DAYLIGHT
BEGIN:STANDARD
TZOFFSETFROM:-0500
TZOFFSETTO:-0600
TZNAME:CST
DTSTART:20231105T070000
END:STANDARD
BEGIN:DAYLIGHT
TZOFFSETFROM:-0600
TZOFFSETTO:-0500
TZNAME:CDT
DTSTART:20240310T080000
END:DAYLIGHT
BEGIN:STANDARD
TZOFFSETFROM:-0500
TZOFFSETTO:-0600
TZNAME:CST
DTSTART:20241103T070000
END:STANDARD
END:VTIMEZONE
BEGIN:VEVENT
DTSTART;TZID=America/Chicago:20231215T110000
DTEND;TZID=America/Chicago:20231215T110000
DTSTAMP:20260425T070227
CREATED:20231023T190259Z
LAST-MODIFIED:20231025T155414Z
UID:10018235-1702638000-1702638000@woodlandschildrensmuseum.org
SUMMARY:Storybook Theatre-The Little Reindeer
DESCRIPTION:Storybook Theatre at 11am Friday\, December 15th presents “The Little Reindeer” by Nicola Killen. This is the magical tale of a little girl and a lost reindeer who set out on a Christmas Eve adventure together.  Included in the price of admission\, which is $8 for adults and children 1 year and older. bit.ly/TWCMtickets  #BookReading #StoryTime #ChildrensBook #ToddlerMom #Art #ChildrensMuseum \nIntroduce your child to the wonder of reading and instill a love of books at an early age. Storybook Theatre combines your favorite childhood books with songs\, rhymes and fingerplays which are meant to promote early literacy and enhance language development. \nFall Hours\nTues-Thurs 10am-2pm.\nFri. 10am-4pm.\nSat. 10am-5pm.\nClosed Sunday and Monday\nDaily Admission is $8 per person 1 years and older\, children under 1.
URL:https://woodlandschildrensmuseum.org/event/storybook-theatre-the-little-reindeer/
LOCATION:The Woodlands Children’s Museum
END:VEVENT
END:VCALENDAR