BEGIN:VCALENDAR
VERSION:2.0
PRODID:-//The Woodlands Children&#039;s Museum - ECPv6.15.20//NONSGML v1.0//EN
CALSCALE:GREGORIAN
METHOD:PUBLISH
X-WR-CALNAME:The Woodlands Children&#039;s Museum
X-ORIGINAL-URL:https://woodlandschildrensmuseum.org
X-WR-CALDESC:Events for The Woodlands Children&#039;s Museum
REFRESH-INTERVAL;VALUE=DURATION:PT1H
X-Robots-Tag:noindex
X-PUBLISHED-TTL:PT1H
BEGIN:VTIMEZONE
TZID:America/Chicago
BEGIN:DAYLIGHT
TZOFFSETFROM:-0600
TZOFFSETTO:-0500
TZNAME:CDT
DTSTART:20220313T080000
END:DAYLIGHT
BEGIN:STANDARD
TZOFFSETFROM:-0500
TZOFFSETTO:-0600
TZNAME:CST
DTSTART:20221106T070000
END:STANDARD
BEGIN:DAYLIGHT
TZOFFSETFROM:-0600
TZOFFSETTO:-0500
TZNAME:CDT
DTSTART:20230312T080000
END:DAYLIGHT
BEGIN:STANDARD
TZOFFSETFROM:-0500
TZOFFSETTO:-0600
TZNAME:CST
DTSTART:20231105T070000
END:STANDARD
BEGIN:DAYLIGHT
TZOFFSETFROM:-0600
TZOFFSETTO:-0500
TZNAME:CDT
DTSTART:20240310T080000
END:DAYLIGHT
BEGIN:STANDARD
TZOFFSETFROM:-0500
TZOFFSETTO:-0600
TZNAME:CST
DTSTART:20241103T070000
END:STANDARD
END:VTIMEZONE
BEGIN:VEVENT
DTSTART;TZID=America/Chicago:20230923T100000
DTEND;TZID=America/Chicago:20230923T140000
DTSTAMP:20260425T121432
CREATED:20230623T210623Z
LAST-MODIFIED:20230720T204355Z
UID:10018043-1695463200-1695477600@woodlandschildrensmuseum.org
SUMMARY:Pirate ’n Mermaid Day
DESCRIPTION:Pirate ’n Mermaid Day \nSat. Sept. 23rd 10am-2pm\nBoard our version of the Jolly Roger and keep a close eye out for treasure and mermaids! Land-ho; let’s navigate our way through the museum with our best peg-legs and fancy tails to find the hidden treasure! \nAriel Meet ‘n Greets at 10:30am\, 11:30am\, 12:30pm\,1:30pm\, 2:30pm. Pirate Meet ‘n Greets at 11:30am\, 12:30pm\, 1:30pm. \nAt 11:00am enjoy a special reading of “How to Catch a Mermaid” by Adam Wallace. This enchanting mermaid tale gives guidelines for an under-the-sea adventure that requires imagination\, creativity\, and cleverness in order to create just the right “trap.”  Don’t worry:  No mermaids are harmed in the telling of this fun story! Then at 1:00pm get grumpy with a reading of “The Grumpy Pirate” by Corinne Demas and Artemis Roehrig. Grumpy Gus complains about everything!  The other pirates have had it and ask the Pirate Queen to help with Gus’s bad attitude.  This fun swashbuckling tale helps children learn the importance of keeping a positive attitude. \nEvent is included in the price of admission\, which is $8 for adults and children 1 year and older. bit.ly/TWCMtickets
URL:https://woodlandschildrensmuseum.org/event/pirate-n-mermaid-day-4/
LOCATION:The Woodlands Children’s Museum
END:VEVENT
END:VCALENDAR