BEGIN:VCALENDAR
VERSION:2.0
PRODID:-//The Woodlands Children&#039;s Museum - ECPv6.15.20//NONSGML v1.0//EN
CALSCALE:GREGORIAN
METHOD:PUBLISH
X-WR-CALNAME:The Woodlands Children&#039;s Museum
X-ORIGINAL-URL:https://woodlandschildrensmuseum.org
X-WR-CALDESC:Events for The Woodlands Children&#039;s Museum
REFRESH-INTERVAL;VALUE=DURATION:PT1H
X-Robots-Tag:noindex
X-PUBLISHED-TTL:PT1H
BEGIN:VTIMEZONE
TZID:America/Chicago
BEGIN:DAYLIGHT
TZOFFSETFROM:-0600
TZOFFSETTO:-0500
TZNAME:CDT
DTSTART:20220313T080000
END:DAYLIGHT
BEGIN:STANDARD
TZOFFSETFROM:-0500
TZOFFSETTO:-0600
TZNAME:CST
DTSTART:20221106T070000
END:STANDARD
BEGIN:DAYLIGHT
TZOFFSETFROM:-0600
TZOFFSETTO:-0500
TZNAME:CDT
DTSTART:20230312T080000
END:DAYLIGHT
BEGIN:STANDARD
TZOFFSETFROM:-0500
TZOFFSETTO:-0600
TZNAME:CST
DTSTART:20231105T070000
END:STANDARD
BEGIN:DAYLIGHT
TZOFFSETFROM:-0600
TZOFFSETTO:-0500
TZNAME:CDT
DTSTART:20240310T080000
END:DAYLIGHT
BEGIN:STANDARD
TZOFFSETFROM:-0500
TZOFFSETTO:-0600
TZNAME:CST
DTSTART:20241103T070000
END:STANDARD
END:VTIMEZONE
BEGIN:VEVENT
DTSTART;TZID=America/Chicago:20230920T110000
DTEND;TZID=America/Chicago:20230920T110000
DTSTAMP:20260425T121358
CREATED:20230711T201316Z
LAST-MODIFIED:20230920T011437Z
UID:10018057-1695207600-1695207600@woodlandschildrensmuseum.org
SUMMARY:CANCELLED. Looking at Art Lady Presentation
DESCRIPTION:Looking at Art Lady Presentation\, Wednesday\, September 20th at 11:00am. Come learn and laugh with art history! Children and adults will enjoy this light-hearted journey through art history. Famous paintings throughout time will plant a seed of interest in the fine arts for you and your child. We will briefly talk about each painting but quickly shift to giggles as each piece will have a parody version. Children will be introduced to various pop culture faces and characters in the parody while subtly remembering the original piece. #Educate #Empower #Excite #Art #ArtHistory \nThis event is included in the price of admission\, which is $8 for adults and children 1 year and older. bit.ly/TWCMtickets     \nThis project is supported in part by The David Gottlieb Education Micrgrant from The Woodlands Arts Council.\n  
URL:https://woodlandschildrensmuseum.org/event/looking-at-art-lady-presentation-4/
LOCATION:The Woodlands Children’s Museum
END:VEVENT
END:VCALENDAR