BEGIN:VCALENDAR
VERSION:2.0
PRODID:-//The Woodlands Children&#039;s Museum - ECPv6.15.20//NONSGML v1.0//EN
CALSCALE:GREGORIAN
METHOD:PUBLISH
X-ORIGINAL-URL:https://woodlandschildrensmuseum.org
X-WR-CALDESC:Events for The Woodlands Children&#039;s Museum
REFRESH-INTERVAL;VALUE=DURATION:PT1H
X-Robots-Tag:noindex
X-PUBLISHED-TTL:PT1H
BEGIN:VTIMEZONE
TZID:America/Chicago
BEGIN:DAYLIGHT
TZOFFSETFROM:-0600
TZOFFSETTO:-0500
TZNAME:CDT
DTSTART:20220313T080000
END:DAYLIGHT
BEGIN:STANDARD
TZOFFSETFROM:-0500
TZOFFSETTO:-0600
TZNAME:CST
DTSTART:20221106T070000
END:STANDARD
BEGIN:DAYLIGHT
TZOFFSETFROM:-0600
TZOFFSETTO:-0500
TZNAME:CDT
DTSTART:20230312T080000
END:DAYLIGHT
BEGIN:STANDARD
TZOFFSETFROM:-0500
TZOFFSETTO:-0600
TZNAME:CST
DTSTART:20231105T070000
END:STANDARD
BEGIN:DAYLIGHT
TZOFFSETFROM:-0600
TZOFFSETTO:-0500
TZNAME:CDT
DTSTART:20240310T080000
END:DAYLIGHT
BEGIN:STANDARD
TZOFFSETFROM:-0500
TZOFFSETTO:-0600
TZNAME:CST
DTSTART:20241103T070000
END:STANDARD
END:VTIMEZONE
BEGIN:VEVENT
DTSTART;TZID=America/Chicago:20230919T093000
DTEND;TZID=America/Chicago:20230919T093000
DTSTAMP:20260425T121713
CREATED:20230720T212518Z
LAST-MODIFIED:20230720T212644Z
UID:10018055-1695115800-1695115800@woodlandschildrensmuseum.org
SUMMARY:Rhyme Time for babies and toddlers
DESCRIPTION:Rhyme Time for babies and toddlers ages 6-24 months. Meets EVERY TUESDAY at 9:30am. Included with admission! Babies\, toddlers and their parents or caregivers are invited to our interactive Rhyme Time dedicated just for little ones. Meeting in our enclosed toddler area\, so children can feel free to move around and explore\, we will be singing songs and discovering hand rhymes. Built-in socialization time for moms and babies to get to know one another presents a great opportunity to meet other moms and babies in our community. This Floor Program is included in the price of admission\, which is $8 for adults and children 1 year and older.  bit.ly/TWCMtickets
URL:https://woodlandschildrensmuseum.org/event/rhyme-time-for-babies-and-toddlers/2023-09-19/
LOCATION:The Woodlands Children’s Museum
END:VEVENT
BEGIN:VEVENT
DTSTART;TZID=America/Chicago:20230919T110000
DTEND;TZID=America/Chicago:20230919T110000
DTSTAMP:20260425T121713
CREATED:20230623T200857Z
LAST-MODIFIED:20230623T200857Z
UID:10018040-1695121200-1695121200@woodlandschildrensmuseum.org
SUMMARY:Boogie Bash-Pirate Party
DESCRIPTION:Boogie Bash on Tuesday\, September 19th at 11am\, presents Pirate Party. Today is Talk Like a Pirate Day\, so we will enjoy a variety of fun musical activities celebrating all things pirate including walking the plank and learning some kid-friendly pirate vocabulary.  #Dance #Movement #Music #Educate #Empower #Excite Included in the price of admission\, which is $8 for adults and children 1 year and older. bit.ly/TWCMtickets \nFall Hours\nTues-Thurs 10am-2pm.\nFri. 10am-4pm.\nSat. 10am-5pm.\nClosed Sunday and Monday\nDaily Admission is $8 per person 1 years and older\, children under 1.
URL:https://woodlandschildrensmuseum.org/event/boogie-bash-pirate-party-2/
LOCATION:The Woodlands Children’s Museum
END:VEVENT
END:VCALENDAR