BEGIN:VCALENDAR
VERSION:2.0
PRODID:-//The Woodlands Children&#039;s Museum - ECPv6.15.20//NONSGML v1.0//EN
CALSCALE:GREGORIAN
METHOD:PUBLISH
X-WR-CALNAME:The Woodlands Children&#039;s Museum
X-ORIGINAL-URL:https://woodlandschildrensmuseum.org
X-WR-CALDESC:Events for The Woodlands Children&#039;s Museum
REFRESH-INTERVAL;VALUE=DURATION:PT1H
X-Robots-Tag:noindex
X-PUBLISHED-TTL:PT1H
BEGIN:VTIMEZONE
TZID:America/Chicago
BEGIN:DAYLIGHT
TZOFFSETFROM:-0600
TZOFFSETTO:-0500
TZNAME:CDT
DTSTART:20220313T080000
END:DAYLIGHT
BEGIN:STANDARD
TZOFFSETFROM:-0500
TZOFFSETTO:-0600
TZNAME:CST
DTSTART:20221106T070000
END:STANDARD
BEGIN:DAYLIGHT
TZOFFSETFROM:-0600
TZOFFSETTO:-0500
TZNAME:CDT
DTSTART:20230312T080000
END:DAYLIGHT
BEGIN:STANDARD
TZOFFSETFROM:-0500
TZOFFSETTO:-0600
TZNAME:CST
DTSTART:20231105T070000
END:STANDARD
BEGIN:DAYLIGHT
TZOFFSETFROM:-0600
TZOFFSETTO:-0500
TZNAME:CDT
DTSTART:20240310T080000
END:DAYLIGHT
BEGIN:STANDARD
TZOFFSETFROM:-0500
TZOFFSETTO:-0600
TZNAME:CST
DTSTART:20241103T070000
END:STANDARD
END:VTIMEZONE
BEGIN:VEVENT
DTSTART;TZID=America/Chicago:20230822T110000
DTEND;TZID=America/Chicago:20230822T110000
DTSTAMP:20260425T140329
CREATED:20230608T215049Z
LAST-MODIFIED:20230817T140538Z
UID:10018016-1692702000-1692702000@woodlandschildrensmuseum.org
SUMMARY:Boogie Bash-Parachute Play
DESCRIPTION:Boogie Bash on Tuesday\, August 22nd at 11am\, presents Parachute Play. This is one of our favorite Boogie Bash activities. We will be focusing on team work\, social interaction\, cooperation\, following directions\, and rhythmic movement through various musical parachute activities that also strengthen the upper torso. #Dance #Movement #Music #Educate #Empower #Excite Included in the price of admission\, which is $8 for adults and children 1 year and older. bit.ly/TWCMtickets \nFall Hours\nTues-Thurs 10am-2pm.\nFri. 10am-4pm.\nSat. 10am-5pm.\nClosed Sunday and Monday\nDaily Admission is $8 per person 1 years and older\, children under 1. Click for tickets.
URL:https://woodlandschildrensmuseum.org/event/boogie-bash-parachute-play-5/
LOCATION:The Woodlands Children’s Museum
END:VEVENT
END:VCALENDAR