BEGIN:VCALENDAR
VERSION:2.0
PRODID:-//The Woodlands Children&#039;s Museum - ECPv6.15.20//NONSGML v1.0//EN
CALSCALE:GREGORIAN
METHOD:PUBLISH
X-WR-CALNAME:The Woodlands Children&#039;s Museum
X-ORIGINAL-URL:https://woodlandschildrensmuseum.org
X-WR-CALDESC:Events for The Woodlands Children&#039;s Museum
REFRESH-INTERVAL;VALUE=DURATION:PT1H
X-Robots-Tag:noindex
X-PUBLISHED-TTL:PT1H
BEGIN:VTIMEZONE
TZID:America/Chicago
BEGIN:DAYLIGHT
TZOFFSETFROM:-0600
TZOFFSETTO:-0500
TZNAME:CDT
DTSTART:20220313T080000
END:DAYLIGHT
BEGIN:STANDARD
TZOFFSETFROM:-0500
TZOFFSETTO:-0600
TZNAME:CST
DTSTART:20221106T070000
END:STANDARD
BEGIN:DAYLIGHT
TZOFFSETFROM:-0600
TZOFFSETTO:-0500
TZNAME:CDT
DTSTART:20230312T080000
END:DAYLIGHT
BEGIN:STANDARD
TZOFFSETFROM:-0500
TZOFFSETTO:-0600
TZNAME:CST
DTSTART:20231105T070000
END:STANDARD
BEGIN:DAYLIGHT
TZOFFSETFROM:-0600
TZOFFSETTO:-0500
TZNAME:CDT
DTSTART:20240310T080000
END:DAYLIGHT
BEGIN:STANDARD
TZOFFSETFROM:-0500
TZOFFSETTO:-0600
TZNAME:CST
DTSTART:20241103T070000
END:STANDARD
END:VTIMEZONE
BEGIN:VEVENT
DTSTART;TZID=America/Chicago:20230810T110000
DTEND;TZID=America/Chicago:20230810T110000
DTSTAMP:20260425T140329
CREATED:20230608T231607Z
LAST-MODIFIED:20230726T210342Z
UID:10018026-1691665200-1691665200@woodlandschildrensmuseum.org
SUMMARY:Shadow Puppet Theatre-We’re Roaming in the Rainforest: An Amazon Adventure
DESCRIPTION:Shadow Puppet Theatre Thursday\, August 10th at 11am presents “We’re Roaming in the Rainforest: An Amazon Adventure” by Laurie Krebs. Three children stroll through the rainforest and discover all its fascinating creatures in their natural habitats. Included in the price of admission\, which is $8 for adults and children 1 year and older. bit.ly/TWCMtickets #BookReading #StoryTime #ChildrensBook #Educate #Empower #Excite \nShadow Puppet Theatre is an introduction to storytelling elements that allows our readers and audience to interact directly with each other\, children of all ages are enchanted with the animated shadows. \nFall Hours\nTues-Thurs 10am-2pm.\nFri. 10am-4pm.\nSat. 10am-5pm.\nClosed Sunday and Monday\nDaily Admission is $8 per person 1 years and older\, children under 1. Click for tickets.
URL:https://woodlandschildrensmuseum.org/event/shadow-puppet-theatre-were-roaming-in-the-rainforest-an-amazon-adventure-3/
LOCATION:The Woodlands Children’s Museum
END:VEVENT
END:VCALENDAR