BEGIN:VCALENDAR
VERSION:2.0
PRODID:-//The Woodlands Children&#039;s Museum - ECPv6.15.20//NONSGML v1.0//EN
CALSCALE:GREGORIAN
METHOD:PUBLISH
X-WR-CALNAME:The Woodlands Children&#039;s Museum
X-ORIGINAL-URL:https://woodlandschildrensmuseum.org
X-WR-CALDESC:Events for The Woodlands Children&#039;s Museum
REFRESH-INTERVAL;VALUE=DURATION:PT1H
X-Robots-Tag:noindex
X-PUBLISHED-TTL:PT1H
BEGIN:VTIMEZONE
TZID:America/Chicago
BEGIN:DAYLIGHT
TZOFFSETFROM:-0600
TZOFFSETTO:-0500
TZNAME:CDT
DTSTART:20220313T080000
END:DAYLIGHT
BEGIN:STANDARD
TZOFFSETFROM:-0500
TZOFFSETTO:-0600
TZNAME:CST
DTSTART:20221106T070000
END:STANDARD
BEGIN:DAYLIGHT
TZOFFSETFROM:-0600
TZOFFSETTO:-0500
TZNAME:CDT
DTSTART:20230312T080000
END:DAYLIGHT
BEGIN:STANDARD
TZOFFSETFROM:-0500
TZOFFSETTO:-0600
TZNAME:CST
DTSTART:20231105T070000
END:STANDARD
BEGIN:DAYLIGHT
TZOFFSETFROM:-0600
TZOFFSETTO:-0500
TZNAME:CDT
DTSTART:20240310T080000
END:DAYLIGHT
BEGIN:STANDARD
TZOFFSETFROM:-0500
TZOFFSETTO:-0600
TZNAME:CST
DTSTART:20241103T070000
END:STANDARD
END:VTIMEZONE
BEGIN:VEVENT
DTSTART;TZID=America/Chicago:20230801T093000
DTEND;TZID=America/Chicago:20230801T093000
DTSTAMP:20260425T140330
CREATED:20230609T125717Z
LAST-MODIFIED:20230609T125717Z
UID:10018030-1690882200-1690882200@woodlandschildrensmuseum.org
SUMMARY:NEW TIME! Rhyme Time
DESCRIPTION:Rhyme Time for babies and toddlers ages 6-24 months. Meets FIRST and THIRD TUESDAYS each month at 9:30am. Included with admission! Babies\, toddlers and their parents or caregivers are invited to our interactive Rhyme Time dedicated just for little ones. Meeting in our enclosed toddler area\, so children can feel free to move around and explore\, we will be singing songs and discovering hand rhymes. Built-in socialization time for moms and babies to get to know one another presents a great opportunity to meet other moms and babies in our community. This Floor Program is included in the price of admission\, which is $8 for adults and children 1 year and older.  bit.ly/TWCMtickets
URL:https://woodlandschildrensmuseum.org/event/new-time-rhyme-time-2/
LOCATION:The Woodlands Children’s Museum
END:VEVENT
BEGIN:VEVENT
DTSTART;TZID=America/Chicago:20230801T110000
DTEND;TZID=America/Chicago:20230801T110000
DTSTAMP:20260425T140330
CREATED:20230608T212502Z
LAST-MODIFIED:20230608T212635Z
UID:10018019-1690887600-1690887600@woodlandschildrensmuseum.org
SUMMARY:Boogie Bash-Outer Space Boogie
DESCRIPTION:Boogie Bash on Tuesday\, August 1st at 11am\, presents Outer Space Boogie. We’ll be moving and grooving to out-of-this-world fingerplays and songs about space.\n#Dance #Movement #Music #Educate #Empower #Excite Included in the price of admission\, which is $8 for adults and children 1 year and older. bit.ly/TWCMtickets \nSummer Hours: June 1 – Aug 5.\nTuesday-Friday 10:00am-4:00pm\nSaturday 10:00am-5:00pm\nClosed Sunday and Monday\nDaily Admission is $8 per person 1 years and older\, children under 1. Museum Members are free.\nRecommended ages 7 years and under. Children must be accompanied by an adult at all times.  Click for tickets.
URL:https://woodlandschildrensmuseum.org/event/61405/
LOCATION:The Woodlands Children’s Museum
END:VEVENT
END:VCALENDAR