BEGIN:VCALENDAR
VERSION:2.0
PRODID:-//The Woodlands Children&#039;s Museum - ECPv6.15.20//NONSGML v1.0//EN
CALSCALE:GREGORIAN
METHOD:PUBLISH
X-WR-CALNAME:The Woodlands Children&#039;s Museum
X-ORIGINAL-URL:https://woodlandschildrensmuseum.org
X-WR-CALDESC:Events for The Woodlands Children&#039;s Museum
REFRESH-INTERVAL;VALUE=DURATION:PT1H
X-Robots-Tag:noindex
X-PUBLISHED-TTL:PT1H
BEGIN:VTIMEZONE
TZID:America/Chicago
BEGIN:DAYLIGHT
TZOFFSETFROM:-0600
TZOFFSETTO:-0500
TZNAME:CDT
DTSTART:20220313T080000
END:DAYLIGHT
BEGIN:STANDARD
TZOFFSETFROM:-0500
TZOFFSETTO:-0600
TZNAME:CST
DTSTART:20221106T070000
END:STANDARD
BEGIN:DAYLIGHT
TZOFFSETFROM:-0600
TZOFFSETTO:-0500
TZNAME:CDT
DTSTART:20230312T080000
END:DAYLIGHT
BEGIN:STANDARD
TZOFFSETFROM:-0500
TZOFFSETTO:-0600
TZNAME:CST
DTSTART:20231105T070000
END:STANDARD
BEGIN:DAYLIGHT
TZOFFSETFROM:-0600
TZOFFSETTO:-0500
TZNAME:CDT
DTSTART:20240310T080000
END:DAYLIGHT
BEGIN:STANDARD
TZOFFSETFROM:-0500
TZOFFSETTO:-0600
TZNAME:CST
DTSTART:20241103T070000
END:STANDARD
END:VTIMEZONE
BEGIN:VTIMEZONE
TZID:America/Chicago
BEGIN:DAYLIGHT
TZOFFSETFROM:-0600
TZOFFSETTO:-0500
TZNAME:CDT
DTSTART:20220313T080000
END:DAYLIGHT
BEGIN:STANDARD
TZOFFSETFROM:-0500
TZOFFSETTO:-0600
TZNAME:CST
DTSTART:20221106T070000
END:STANDARD
BEGIN:DAYLIGHT
TZOFFSETFROM:-0600
TZOFFSETTO:-0500
TZNAME:CDT
DTSTART:20230312T080000
END:DAYLIGHT
BEGIN:STANDARD
TZOFFSETFROM:-0500
TZOFFSETTO:-0600
TZNAME:CST
DTSTART:20231105T070000
END:STANDARD
BEGIN:DAYLIGHT
TZOFFSETFROM:-0600
TZOFFSETTO:-0500
TZNAME:CDT
DTSTART:20240310T080000
END:DAYLIGHT
BEGIN:STANDARD
TZOFFSETFROM:-0500
TZOFFSETTO:-0600
TZNAME:CST
DTSTART:20241103T070000
END:STANDARD
END:VTIMEZONE
BEGIN:VEVENT
DTSTART;VALUE=DATE:20230601
DTEND;VALUE=DATE:20230602
DTSTAMP:20260425T174342
CREATED:20211016T153702Z
LAST-MODIFIED:20211016T153702Z
UID:10009752-1685577600-1685663999@woodlandschildrensmuseum.org
SUMMARY:Closed
DESCRIPTION:November Hours:\nClosed Sunday and Monday (except 11/22)\n10am-Noon Tuesday (10am-2pm on 11/23)\n10am-2pm Wednesday and Thursday \n10am-4pm Friday and Saturday \nSelect your date of visit to reserve your timed session tickets.\nbit.ly/TWCMtickets
URL:https://woodlandschildrensmuseum.org/event/closed-11/2023-06-01/
LOCATION:The Woodlands Children’s Museum
END:VEVENT
BEGIN:VEVENT
DTSTART;TZID=America/Chicago:20230601T080000
DTEND;TZID=America/Chicago:20230601T170000
DTSTAMP:20260425T174342
CREATED:20180912T114717Z
LAST-MODIFIED:20180925T222826Z
UID:10011527-1685606400-1685638800@woodlandschildrensmuseum.org
SUMMARY:Boogie Bash 11am & Noon
DESCRIPTION:Nickelodeon Worldwide Day of Play – In observance of Nickelodeon’s annual event that encourages children to turn off the screens and “get up\, get out\, and go play\,” today’s TWO Boogie Bash sessions feature some fun musical activities that encourage boys and girls to be active and healthy. We will be playing musical hula hoops\, a spoon/egg relay\, and bean bag games. \nAvailable for young toddlers and children up to 5 years old\, Boogie Bash provides children with a preliminary introduction to the space around them\, encourages cooperation\, promotes social interaction\, develops a sense of rhythm\, strengthens listening skills and enhances language development. No reservation needed. Free with paid admission. \nSupporting our Initiative Playing for Keeps.\n \n 
URL:https://woodlandschildrensmuseum.org/event/boogie-bash-11am-noon/2023-06-01/
LOCATION:The Woodlands Children’s Museum
END:VEVENT
BEGIN:VEVENT
DTSTART;TZID=America/Chicago:20230601T080000
DTEND;TZID=America/Chicago:20230601T170000
DTSTAMP:20260425T174342
CREATED:20181123T215804Z
LAST-MODIFIED:20181207T193314Z
UID:10013264-1685606400-1685638800@woodlandschildrensmuseum.org
SUMMARY:Skeeter the Clown Variety Shows
DESCRIPTION:Skeeter puts on an entertaining variety show with plenty of laughs and some magic sprinkled in. Skeeter is known for enchanting young audiences with his infectious humor\, magic and music.\nFriday December 28th\n10:30am\, 11:30am\, 12:30pm\, and 1:30pm
URL:https://woodlandschildrensmuseum.org/event/skeeter-the-clown-variety-shows/2023-06-01/
LOCATION:The Woodlands Children’s Museum
END:VEVENT
BEGIN:VEVENT
DTSTART;TZID=America/Chicago:20230601T090000
DTEND;TZID=America/Chicago:20230601T130000
DTSTAMP:20260425T174342
CREATED:20171126T185551Z
LAST-MODIFIED:20171126T185857Z
UID:10004462-1685610000-1685624400@woodlandschildrensmuseum.org
SUMMARY:Drop and Shop Workshop
DESCRIPTION:Scheduled just in time to help parents squeeze in some last-minute shopping and wrapping\, Drop and Shop Workshop gives children a chance to make a few holiday preparations of their own. Participants create and embellish works of art that they can give as gifts while snacking on milk and cookies. Perfect for children ages 4 to 8.  Space is limited\, Pre-registration is advised. Call today 281-465-0955. Learn more here
URL:https://woodlandschildrensmuseum.org/event/drop-shop-workshop/2023-06-01/
LOCATION:The Woodlands Children’s Museum
END:VEVENT
BEGIN:VEVENT
DTSTART;TZID=America/Chicago:20230601T103000
DTEND;TZID=America/Chicago:20230601T133000
DTSTAMP:20260425T174342
CREATED:20190530T223433Z
LAST-MODIFIED:20190617T212749Z
UID:10014928-1685615400-1685626200@woodlandschildrensmuseum.org
SUMMARY:Tanabata Celebration
DESCRIPTION:Tuesday July 9th at 10:30am\, Noon and 1:30pm. Enjoy hands on activities and Japanese Dance performances. \nTanabata\, (Evening of the Seventh) or the Star Festival\, is held on the evening of July 7. The festival traces its origins to a mythological legend that the Cowherd Star (Altair) and Weaver Star (Vega)\, lovers separated by the Milky Way\, are allowed to meet just once a year – on the seventh day of the seventh month.\nChildren and adults write their wishes on narrow strips of colored paper and hang them\, along with other paper ornaments\, on bamboo branches placed in the backyards or entrances of their homes and then hope their wishes come true.
URL:https://woodlandschildrensmuseum.org/event/tanabata-celebration/2023-06-01/
LOCATION:The Woodlands Children’s Museum
END:VEVENT
BEGIN:VEVENT
DTSTART;TZID=America/Chicago:20230601T110000
DTEND;TZID=America/Chicago:20230601T110000
DTSTAMP:20260425T174342
CREATED:20170531T000332Z
LAST-MODIFIED:20170609T125819Z
UID:10002336-1685617200-1685617200@woodlandschildrensmuseum.org
SUMMARY:Monty The Magician
DESCRIPTION:Monty The Magician Tuesday July 25th 11am\, Noon\, 2pm and 3:30pm.\nWith Monty as your guide\, travel into a dream and enter the world of MAGIC! \nMonty the Magician has been performing MAGIC for the last 26 years\, specializing in children’s entertainment. The smiles and laughter Monty experienced and observed the day he saw a magician perform for the first time inspired him to enter the world of magic and pursue this is as hobby and then a career sharing joy\, excitement and laughter with all children.
URL:https://woodlandschildrensmuseum.org/event/monte-the-magician/2023-06-01/
LOCATION:The Woodlands Children’s Museum
END:VEVENT
BEGIN:VEVENT
DTSTART;TZID=America/Chicago:20230601T110000
DTEND;TZID=America/Chicago:20230601T110000
DTSTAMP:20260425T174342
CREATED:20200702T151407Z
LAST-MODIFIED:20200706T202003Z
UID:10008784-1685617200-1685617200@woodlandschildrensmuseum.org
SUMMARY:Recorded Shadow Puppet Theatre-Happy Birthday\, Moon
DESCRIPTION:Recorded Shadow Puppet Theatre July 9th at 11am\, presents 🌝🎉🌝🎈🌝🎂 “Happy Birthday\, Moon” by Frank Asch. In this classic sweet story\, a young bear tries to find a present for the moon\, with whom he shares a birthday! His dilemma is figuring out the perfect gift for the moon. \nClick here on Thursday\, July 9th at 11am to watch or view on Facebook\, our webpage http://bit.ly/MissJanReadings or our YouTube channel\, bit.ly/RecordedReadings \nShadow Puppet Theatre is an introduction to storytelling elements which allows our readers and audience to interact directly with each other\, children of all ages are enchanted with the animated shadows.
URL:https://woodlandschildrensmuseum.org/event/shadow-puppet-theatre-happy-birthday-moon-10am-and-1pm/2023-06-01/
LOCATION:The Woodlands Children’s Museum
END:VEVENT
BEGIN:VEVENT
DTSTART;TZID=America/Chicago:20230601T110000
DTEND;TZID=America/Chicago:20230601T110000
DTSTAMP:20260425T174342
CREATED:20230406T195739Z
LAST-MODIFIED:20230406T195739Z
UID:10018014-1685617200-1685617200@woodlandschildrensmuseum.org
SUMMARY:Shadow Puppet Theatre-The Very Hungry Caterpillar
DESCRIPTION:Shadow Puppet Theatre Thursday\, June 1st at 11am presents  “The Very Hungry Caterpillar” by Eric Carle. This beloved classic follows the little caterpillar with a voracious appetite throughout his life cycle\, culminating in his transformation into a beautiful butterfly. Included in the price of admission\, which is $8 for adults and children 1 year and older. bit.ly/TWCMtickets  #BookReading #StoryTime #ChildrensBook #Educate #Empower #Excite \nShadow Puppet Theatre is an introduction to storytelling elements that allows our readers and audience to interact directly with each other\, children of all ages are enchanted with the animated shadows. \nSummer Hours: June 1 – Aug 5.\nTuesday-Friday 10:00am-4:00pm\nSaturday 10:00am-5:00pm\nClosed Sunday and Monday\nDaily Admission is $8 per person 1 years and older\, children under 1. Museum Members are free.\nRecommended ages 7 years and under. Children must be accompanied by an adult at all times.  Click for tickets.
URL:https://woodlandschildrensmuseum.org/event/shadow-puppet-theatre-the-very-hungry-caterpillar-2/
LOCATION:The Woodlands Children’s Museum
END:VEVENT
BEGIN:VEVENT
DTSTART;TZID=America/Chicago:20230601T110000
DTEND;TZID=America/Chicago:20230601T130000
DTSTAMP:20260425T174342
CREATED:20191014T201357Z
LAST-MODIFIED:20191014T201357Z
UID:10006324-1685617200-1685624400@woodlandschildrensmuseum.org
SUMMARY:The Chikawa Aztec Dancers 3 performances
DESCRIPTION:The Chikawa Aztec Dancers Tuesday\, November 26th 11:15am\, Noon\, and 1:00pm. Join us as we recognize Native American Heritage Month with special dance performances that represent the Aztec culture.
URL:https://woodlandschildrensmuseum.org/event/the-chikawa-aztec-dancers-3-performances/2023-06-01/
LOCATION:The Woodlands Children’s Museum
END:VEVENT
BEGIN:VEVENT
DTSTART;TZID=America/Chicago:20230601T110000
DTEND;TZID=America/Chicago:20230601T130000
DTSTAMP:20260425T174342
CREATED:20200207T205239Z
LAST-MODIFIED:20200301T030245Z
UID:10007625-1685617200-1685624400@woodlandschildrensmuseum.org
SUMMARY:Le Theatre de Marionette 🤡👽🤠 Silly Strings Puppet Shows
DESCRIPTION:Le Theatre de Marionette Silly Strings 30 minute puppet shows at 11am and 1pm.\n\n\nThis talented musical variety show features several entertaining and unique trick marionettes including clowns\, roller skaters\, jugglers\, dancing skeletons\, teddy bears\, Michael Jackson and even Elvis.\n\nThanks to Texas Commission on the Arts for awarding us a grant for this amazing show.
URL:https://woodlandschildrensmuseum.org/event/le-theatre-de-marionette-%f0%9f%a4%a1%f0%9f%91%bd%f0%9f%a4%a0-silly-strings-puppet-shows/2023-06-01/
LOCATION:The Woodlands Children’s Museum
END:VEVENT
BEGIN:VEVENT
DTSTART;TZID=America/Chicago:20230601T110000
DTEND;TZID=America/Chicago:20230601T130000
DTSTAMP:20260425T174342
CREATED:20220420T020317Z
LAST-MODIFIED:20220420T020317Z
UID:10017211-1685617200-1685624400@woodlandschildrensmuseum.org
SUMMARY:Reading and Rhyming with Mother Goose 11am & 1pm
DESCRIPTION:Join us on Thursday\, May 5th at 11:00am and 1:00pm for a puppet show with Margaret Clauder—“Reading and Rhyming with Mother Goose” 
URL:https://woodlandschildrensmuseum.org/event/reading-and-rhyming-with-mother-goose-11am-1pm/2023-06-01/
LOCATION:The Woodlands Children’s Museum
END:VEVENT
BEGIN:VEVENT
DTSTART;TZID=America/Chicago:20230601T110000
DTEND;TZID=America/Chicago:20230601T140000
DTSTAMP:20260425T174342
CREATED:20230207T202431Z
LAST-MODIFIED:20230207T202431Z
UID:10017766-1685617200-1685628000@woodlandschildrensmuseum.org
SUMMARY:Science Palooza during Spring BreaKation
DESCRIPTION:Saturday\, March 11 – Magnet Madness\nInvestigate the magnetic properties of common household objects by using magnet wands to manipulate items through mazes\, cylinders\, and more!\n\nMonday\, March 13 – Learning About Light\nLight up your life by experimenting with various sources of light to create reflections\, shadows\, and rainbows.\n\nTuesday\, March 14 – Discovering Fossils and Gems\nBecome a junior geologist by examining a variety of fossils\, rocks\, and geodes under microscopes and magnifying glasses.\n\nWednesday\, March 15 – Bee ‘Hind the Scenes\nPeek ‘bee’hind’ the scenes of a bee colony with Allie from EZ Apiary and learn all about the steps involved in making honey.\n\nThursday\, March 16 – Buoyant Boats\nBuild your very own floating vessel using a variety of recycled materials and test it out on our water tables. \nFriday\, March 17 – Shamrock Slime\nCelebrate St. Patrick’s Day with the Woodlands Children’s Museum by making green slime and learning about its unique properties.
URL:https://woodlandschildrensmuseum.org/event/science-palooza-during-spring-breakation/2023-06-01/
LOCATION:The Woodlands Children’s Museum
END:VEVENT
BEGIN:VEVENT
DTSTART;TZID=America/Chicago:20230601T130000
DTEND;TZID=America/Chicago:20230601T140000
DTSTAMP:20260425T174342
CREATED:20230519T171545Z
LAST-MODIFIED:20230519T171738Z
UID:10018012-1685624400-1685628000@woodlandschildrensmuseum.org
SUMMARY:The Bombay Belles Bollywood presentation
DESCRIPTION:Join The Bombay Belles on June 1st from 11:30am-12:30pm and 1:00pm-2:00pm in a dynamic introduction to Bollywood dance\, an exciting form of kinetic art with its catchy music and colorful attire. Choreographing how to dance like a pro\, The Bombay Belles will showcase a few dances set to popular Bollywood songs\, and then provide simple instruction teaching the steps to the audience. Come ready to move and bounce to the beat! Included in the price of admission\, which is $8 for adults and children 1 year and older. bit.ly/TWCMtickets  #Educate #Empower #Excite \nSummer Hours: June 1 – Aug 5.\nTuesday-Friday 10:00am-4:00pm\nSaturday 10:00am-5:00pm\nClosed Sunday and Monday\nDaily Admission is $8 per person 1 years and older\, children under 1. Museum Members are free.\nRecommended ages 7 years and under. Children must be accompanied by an adult at all times.  Click for tickets.
URL:https://woodlandschildrensmuseum.org/event/the-bombay-belles-bollywood-presentation/2023-06-01/
LOCATION:The Woodlands Children’s Museum
END:VEVENT
BEGIN:VEVENT
DTSTART;TZID=America/Chicago:20230601T143000
DTEND;TZID=America/Chicago:20230601T170000
DTSTAMP:20260425T174342
CREATED:20200827T020602Z
LAST-MODIFIED:20200909T172043Z
UID:10016222-1685629800-1685638800@woodlandschildrensmuseum.org
SUMMARY:Shadow Puppet Theatre-🕊️ ❤✌️ 🌍The Peace Book 11am and 2:30pm
DESCRIPTION:Shadow Puppet Theatre Thursday\, September 10th at 11am and 2:30pm presents 🕊️ ❤✌️ 🌍  “The Peace Book“\, by Todd Parr. Children learn the importance of friendship\, caring\, and acceptance of others through this child-friendly message of peace and hope. \nShadow Puppet Theatre is an introduction to storytelling elements which allows our readers and audience to interact directly with each other\, children of all ages are enchanted with the animated shadows. #BookReading #StoryTime #ChildrensBook #Educate #Empower #Excite
URL:https://woodlandschildrensmuseum.org/event/shadow-puppet-theatre-141/2023-06-01/
LOCATION:The Woodlands Children’s Museum
END:VEVENT
END:VCALENDAR